Workbook

Sheet Súčet plôch
A1: OZ TRIBEČ
A3: VEĽKÉ SPOLOČENSKÉ HODNOTY
A5: Kategória | B5: Podkategória | D5: Výmera (ha)
A6: 1. | C6: Lesy významné z hľadiska biologickej rozmanitosti | D6: =SUM(D7+D13+D14+D15) -> 14679.378
B7: 1.1. | C7: Chránené územia spolu | D7: =SUM('1.1. CHÚ'!G64) -> 10606.438
C8: z toho NP /Národný park/
C9: NPR | D9: 323.29
C10: PR | D10: 431.64
C11: PP | D11: 0.95
C12: CHA | D12: 58.26
B13: 1.2. | C13: Územie s výskytom zákonom chráneného živočícha | D13: 3810.76
C14: Územie s výskytom zákonom chránenej rastliny | D14: 236.84
B15: 1.3. | C15: Územie s výskytom endemických druhov | D15: =SUM('1.3. endemické druhy'!D6) -> 25.34
A16: 3. | C16: Lesy so vzácnymi, ohrozenými a zriedkavými ekosystémami | D16: =SUM(D17:D19) -> 5399.62
B17: 3.1. | C17: Vzácne, ohrozené a zriedkavé biotopy | D17: =SUM('3.1. vzácne biotopy'!D81) -> 4932.26
B18: 3.2. | C18: Pralesy a prírodné lesy s charakterom pralesa | D18: =SUM('3.2.prírodné lesy prales'!E16) -> 414.1
B19: 3.3. | C19: Lesy s významným prirodzeným výskytom tisa obyčajného | D19: =SUM('3.3. prirodzený výskyt tisa'!E7) -> 53.26
A20: 4. | C20: Lesy s významnou pôdoochranou a hydrickou funkciou | D20: =SUM(D21:D22) -> 6177.71
B21: 4.1. | C21: Lesy s významnou pôdoochrannou funkciou | D21: =SUM('4.1pôdoochranná funkcia '!D56) -> 6043.81
B22: 42404 | C22: Lesy s významnou hydrickou funkciou | D22: =SUM('4.2. hydrická funkcia'!D13) -> 133.9
A23: 5. | C23: Lesy významné z hľadiska plnenia základných životných potrieb miestnych komunít | D23: =SUM(D24) -> 4459.9
B24: 5.1. | C24: Lesy s významnou vodoochrannou funkciou pre miestne komunity | D24: =SUM('5.1. vodoochranná funkcia'!D55) -> 4459.9
A25: 6. | C25: Lesy významné pre miestne komunity z hľadiska sociálnych a tradičných kultúrnych hodnôt | D25: =SUM(D26:D29) -> 51.11
B26: 6.1. | C26: Lesy s preferenciou zdravotno - hygienického využívania
B27: 6.2. | C27: Lesy s preferenciou rekreačného využívania
B28: 6.3. | C28: Historicky, kultúrne a nábožensky významné územia | D28: =SUM('6.3. hist., kultúrne, nábož. '!D17) -> 51.11
B29: 6.4. | C29: Objekty Pro Silva a GZ (génové základne)
B30: Spolu: | D30: =SUM(D6+D16+D20+D23+D25) -> 30767.718

Sheet 1.1. CHÚ
A1: 1.1. CHRÁNENÉ ÚZEMIA
A3: Názov CHÚ | B3: Kategória CHÚ | C3: Stupeň ochrany | D3: LHC | E3: k.ú. | F3: JPRL | G3: Výmera (ha) | H3: manažment | I3: cieľ LVSV | J3: Monitorovací indikátor | K3: monitoring /revízia CHÚ | L3: výsledok monitoringu /aktuálny stav | M3: Poznámka
A4: Topoľčianska zubria zvernica | B4: CHA | C4: 3 | D4: Topoľčianky - Žitavany | E4: Hosťovce | F4: 1178, 1177, 1176, 1175 A, 1175 B, 1175 C, 1175 D, 1174 A, 1174 B, 1173 | G4: 116.53 | H4: V zmysle PSoL | I4: Zachovať predmet ochrany CHÚ | J4: Stav biotopov a druhov | K4: Iba v prípade realizácie lesohospodárskych zásahov ináč v rámci revízie CHÚ.
A5: Topoľčiansky park | B5: CHA | C5: 4 | D5: Topoľčianky - Žitavany | E5: Topoľčianky | G5: 10.33 | I5: Zachovať predmet ochrany CHÚ | J5: Stav biotopov a druhov | K5: Iba v prípade realizácie lesohospodárskych zásahov ináč v rámci revízie CHÚ.
A6: Skuev - Člnok | B6: Skuev | C6: 2 | D6: Topoľčianky - Žitavany | E6: Zlatno, Hosťovce, Mankovce, Žikava, Lovce | F6: 1179 ,1180 ,1181 ,1182 ,1183 ,1184 A,1184 B,1185 A,1185 B,1186 A,1186 B,1186 C,1186 D,1187 ,1188 ,1189 ,1190 ,1191 A,1191 B,1191 C,1192 A,1192 B,1193 ,1194 A,1195 A,1195 B,1196 A,1196 B,1196 C,1197 ,1198 ,1199 ,1200 A,1200 B,1200 C,1201 ,1202 ,1203 ,1204 A,1204 B,1205 A,1205 B,1206 A,1206 B,1207 ,1210 A,1210 B,1210 C,1233 ,1234 A,1234 B,1235 ,1236 A,1236 B,1237 A,1237 B,1238 A,1238 B,1239 ,1240 ,1241 A,1241 B,1242 A,1242 C,1251 ,1252 ,1253 ,1254 | G6: 446.22 | H6: V zmysle PSoL | I6: Zachovať predmet ochrany CHÚ
A7: CHKO - Ponitrie | C7: 1 | D7: Skýcov | F7: 26 B, 82 A, 224, 233, 234 A, 235, 237, 341 B, 363, 370 A | G7: 109.25 | H7: V zmysle PSoL | I7: Zachovať predmet ochrany CHÚ
A8: CHKO - Ponitrie | C8: 2 | D8: Skýcov | F8: 129, 311, 312, 313, 314, 315, 316, 317, 318, 360 A, 360 B, 361, 370 B, 371 A, 371B, 372 A 372 B, 373, 374, 375 A, 375 B, 377 | G8: 171.97 | H8: V zmysle PSoL | I8: Zachovať predmet ochrany CHÚ
A9: Chvú - Tríbeč | B9: Chvú | C9: 1 | D9: Skýcov | E9: Klátová nová Ves | F9: 363, 370 A | H9: V zmysle PSoL | I9: Zachovať predmet ochrany CHÚ
A10: Chvú - Tríbeč | B10: Chvú | C10: 2 | D10: Skýcov | E10: Klátová nová Ves | F10: 360 A, 360 B, 361, 370 B, 371 A, 371 B, 372 A, 372 B, 373, 374, 375 A, 375 B, 377 | H10: V zmysle PSoL | I10: Zachovať predmet ochrany CHÚ
A11: Jedľové Kostoľany | C11: 61 | D11: 24.14 | E11: Bez zásahu | F11: Zachovať predmet ochrany CHÚ | G11: Stav biotopov a druhov | H11: Iba v prípade realizácie lesohospodárskych zásahov ináč v rámci revízie CHÚ.
A12: Jedľové Kostoľany | C12: 59, 60b, 62a, 62b 10, 62b 20, 62c, 62d, 63a, 63b | D12: 43.09 | E12: Bez zásahu
A13: Jedľové Kostoľany | C13: 2a, 2b | D13: 20.01 | E13: Bez zásahu
A14: Hrušov | C14: 62b, 63a, 63b, 64a, 64b, 66a, 66b, 66c, 66d | D14: 40.69 | E14: Bez zásahu | F14: Zachovať predmet ochrany CHÚ | G14: Stav biotopov a druhov | H14: Iba v prípade realizácie lesohospodárskych zásahov ináč v rámci revízie CHÚ.
A15: Hrušov | C15: 62a 10, 62a 20, 65 | D15: 10.61 | E15: Bez zásahu
A16: Ponitrie | B16: CHKO | C16: 2 | D16: Zobor, Jelenec, Nitrianska Streda | G16: Celkom 37665,41, za LS Tribeč v užívaní LSR je 11015,53, LC N. Streda 4747,00, LC Zobor 2186,18, LC Jelenec 4082,35 | H16: 5432.01 | I16: Manažment v zmysle Manuálu | J16: Zachovať predmet ochrany CHÚ | K16: Stav biotopov a druhov | L16: Iba v prípade realizácie lesohospodárskych zásahov ináč v rámci revízie CHÚ.
A17: Hrdovická | B17: NPR | C17: 4 | D17: Nitrianska Streda | E17: Čeladince | F17: 1444a, 1445a, 1445b, 1446 | G17: 30.03 | H17: 30.03 | I17: Bez zásahu | J17: Zachovať predmet ochrany CHÚ | K17: Stav biotopov a druhov | L17: Iba v prípade realizácie lesohospodárskych zásahov ináč v rámci revízie CHÚ. | M17: Bez zásahu
A18: Hrdovická | B18: OP NPR | C18: 3 | D18: Nitrianska Streda | E18: Čeladince, Kovarce | F18: 100 m, 1391/., 1392/., 1393/., 1394/., 1441C/., 1442/., 1443B/., 1444B/., 1447/., 1451/., 1452/. | G18: 29.55 | H18: 29.55 | I18: Manažment v zmysle Manuálu | J18: Zachovať predmet ochrany CHÚ | K18: Stav biotopov a druhov | L18: Iba v prípade realizácie lesohospodárskych zásahov ináč v rámci revízie CHÚ. | M18: Bez zásahu
A19: Zoborská lesostep | B19: NPR | C19: 5 | D19: Zobor | E19: Zobor | F19: iný obhospodarovatel lesa | G19: 23.08 | H19: 0 | I19: Bez zásahu | J19: Zachovať predmet ochrany CHÚ | K19: Stav biotopov a druhov | L19: Iba v prípade realizácie lesohospodárskych zásahov ináč v rámci revízie CHÚ. | M19: Bez zásahu
A20: Zoborská lesostep | B20: OP NPR | C20: 3 | D20: Zobor | E20: Zobor | F20: 100 m, N55, N56, N57, 276C/. | G20: 0 | H20: 6.89 | I20: Manažment v zmysle Manuálu | J20: Zachovať predmet ochrany CHÚ | K20: Stav biotopov a druhov | L20: Iba v prípade realizácie lesohospodárskych zásahov ináč v rámci revízie CHÚ. | M20: Bez zásahu
A21: Kovarská hôrka | B21: PR | C21: 4 | D21: Nitrianska Streda | E21: Kovarce | F21: 1369a | G21: 4.4 | H21: 4.4 | I21: Bez zásahu | J21: Zachovať predmet ochrany CHÚ | K21: Stav biotopov a druhov | L21: Iba v prípade realizácie lesohospodárskych zásahov ináč v rámci revízie CHÚ. | M21: Bez zásahu
A22: Kovarská hôrka | B22: OP PR | C22: 3 | D22: Nitrianska Streda | E22: Kovarce | F22: 100 m, 1366/., 1367/., 1370/., 1371/. | G22: 0 | H22: 13.78 | I22: Manažment v zmysle Manuálu | J22: Zachovať predmet ochrany CHÚ | K22: Stav biotopov a druhov | L22: Iba v prípade realizácie lesohospodárskych zásahov ináč v rámci revízie CHÚ. | M22: Bez zásahu
A23: Lupka | B23: PR | C23: 4 | D23: Zobor | E23: Zobor | F23: 332a | G23: 20.73 | H23: 9.87 | I23: Bez zásahu | J23: Zachovať predmet ochrany CHÚ | K23: Stav biotopov a druhov | L23: Iba v prípade realizácie lesohospodárskych zásahov ináč v rámci revízie CHÚ. | M23: Bez zásahu
A24: Lupka | B24: OP PR | C24: 3 | D24: Zobor | E24: Zobor | F24: 100 m, mimo LPF | G24: 27.6659 | H24: 0 | I24: Manažment v zmysle Manuálu | J24: Zachovať predmet ochrany CHÚ | K24: Stav biotopov a druhov | L24: Iba v prípade realizácie lesohospodárskych zásahov ináč v rámci revízie CHÚ. | M24: Bez zásahu
A25: Solčiansky háj | B25: PR | C25: 4 | D25: Nitrianska Streda | E25: Solčany | F25: 1549a, 1549b | G25: 7.07 | H25: 7.07 | I25: Bez zásahu | J25: Zachovať predmet ochrany CHÚ | K25: Stav biotopov a druhov | L25: Iba v prípade realizácie lesohospodárskych zásahov ináč v rámci revízie CHÚ. | M25: Bez zásahu
A26: Solčiansky háj | B26: OP PR | C26: 3 | D26: Nitrianska Streda | E26: Solčany | F26: 100 m, 1514/., 1515/., 1550/., 1554/., 1547/., 1803 /. | G26: 15.49 | H26: 15.49 | I26: Manažment v zmysle Manuálu | J26: Zachovať predmet ochrany CHÚ | K26: Stav biotopov a druhov | L26: Iba v prípade realizácie lesohospodárskych zásahov ináč v rámci revízie CHÚ. | M26: Bez zásahu
A27: Žibrica | B27: PR | C27: 4.3 | D27: Zobor | E27: Žirany, Dolné Štitáre, Mechenice | F27: 376, 377, 382, N32-N36, N91-N99 | G27: 68.6053 | H27: 38.88 | I27: Bez zásahu | J27: Zachovať predmet ochrany CHÚ | K27: Stav biotopov a druhov | L27: Iba v prípade realizácie lesohospodárskych zásahov ináč v rámci revízie CHÚ. | M27: Bez zásahu
A28: Svoradova jaskyňa | B28: PP | D28: Zobor | E28: Zobor | F28: iný obhospodarovatel lesa | G28: 0 | H28: 0
A29: Jelenská gaštanica | B29: CHA | C29: 4 | D29: Zobor | E29: Jelenec | F29: 35A1/., 35A2, 35A3 | G29: 3.8 | H29: 3.8 | I29: Bez zásahu | J29: Zachovať predmet ochrany CHÚ | K29: Stav biotopov a druhov | L29: Iba v prípade realizácie lesohospodárskych zásahov ináč v rámci revízie CHÚ. | M29: Bez zásahu
A30: Huntácka dolina | B30: CHA | C30: 4 | D30: Zobor | F30: iný obhospodarovatel lesa | G30: 8.74 | H30: 0
A31: Kostolianske lúky | B31: CHA | C31: 3 | D31: Jelenec | F31: mimo LPF | G31: 4.2019 | H31: 0
A32: Lapášsky park | B32: CHA | C32: 3 | D32: Zobor | F32: iný obhospodarovatel lesa | G32: 2.19 | H32: 0
A33: Velčické cery | B33: CHS | D33: Velčice | F33: iný obhospodarovatel lesa, mimo LPF | G33: 0 | H33: 0
A34: SKCHVU 031 Tribeč | B34: CHVU | D34: Jelenec, Nitrianska Streda | G34: Celkom 23802,8, za LS Tribeč v užívaní LSR je 10311,24, LC N. Streda 4964,75, LC Zobor 1254,21, LC Jelenec 4092,28 | H34: 0 | I34: Manažment v zmysle Manuálu | J34: Zachovať predmet ochrany CHÚ | K34: Stav biotopov a druhov | L34: Iba v prípade realizácie lesohospodárskych zásahov ináč v rámci revízie CHÚ.
A35: SKUEV 0133 Hôrky | B35: UEV | D35: Jelenec, Nitrianska Streda | G35: 329 | H35: 0 | I35: Manažment v zmysle Manuálu | J35: Zachovať predmet ochrany CHÚ | K35: Stav biotopov a druhov | L35: Iba v prípade realizácie lesohospodárskych zásahov ináč v rámci revízie CHÚ.
A36: SKUEV 0879 Lupka | B36: UEV | D36: Zobor | G36: 23 | H36: 0 | I36: Manažment v zmysle Manuálu | J36: Zachovať predmet ochrany CHÚ | K36: Stav biotopov a druhov | L36: Iba v prípade realizácie lesohospodárskych zásahov ináč v rámci revízie CHÚ.
A37: SKUEV 0877 Malý Bahorec | B37: UEV | D37: Zobor | F37: mimo LPF | G37: 5.99 | H37: 0
A38: SKUEV 0132 Kostolianske lúky | B38: UEV | D38: Jelenec | F38: mimo LPF | G38: 4 | H38: 0
A39: SKUEV 4035 Ladické lúky | B39: UEV | D39: Jelenec | F39: mimo LPF | G39: 2 | H39: 0
A40: SKUEV 0874 Člnok | B40: UEV | D40: Jelenec | F40: iný obhospodarovatel lesa | G40: 477 | H40: 0
A41: SKUEV 0130 Zobor | B41: UEV | C41: 2 | D41: Zobor | G41: 1907 | H41: 0 | I41: Manažment v zmysle Manuálu | J41: Zachovať predmet ochrany CHÚ
A42: SKUEV 0131 Gýmeš | B42: UEV | D42: Zobor | G42: 70.2344 | H42: 0 | I42: Manažment v zmysle Manuálu | J42: Zachovať predmet ochrany CHÚ | K42: Stav biotopov a druhov | L42: Iba v prípade realizácie lesohospodárskych zásahov ináč v rámci revízie CHÚ.
A43: PR Bralce | B43: NPR | C43: 5 | D43: Šášov | F43: 350 | G43: 13.54 | H43: Bez zásahu | I43: Zachovať predmet ochrany CHÚ | J43: Stav biotopov a druhov | K43: Iba v prípade realizácie lesohospodárskych zásahov ináč v rámci revízie CHÚ. | L43: bez zásahu, (18.7.2019 vykonaná revízia CHÚ) | M43: bez zásahu, (18.7.2019 vykonaná revízia CHÚ)
A44: PR Kamenný jarok | B44: NPR | C44: 5 | D44: Banská Štiavnica II. | F44: 1999 | G44: 3.79 | H44: Bez zásahu | I44: Zachovať predmet ochrany CHÚ | J44: Stav biotopov a druhov | K44: Iba v prípade realizácie lesohospodárskych zásahov ináč v rámci revízie CHÚ. | L44: bez zásahu, (10.8.2021 vykonaná revízia CHÚ (podmienky ochrany dodržiavané)) | M44: bez zásahu, (10.8.2021 vykonaná revízia CHÚ (podmienky ochrany dodržiavané))
A45: PR Kamenný jarok | B45: NPR | C45: 5 | D45: Šášov | F45: 234, 235, 236 | G45: 31.57 | H45: Bez zásahu | I45: Zachovať predmet ochrany CHÚ | J45: Stav biotopov a druhov | K45: Iba v prípade realizácie lesohospodárskych zásahov ináč v rámci revízie CHÚ. | L45: v porastoch bez zásahu, na OM v blíkosti porastov PR vykonaná likvidácia invázn.rastl. Pohánkovec japonský na základe rozhodnutie OÚ - Žiar nad Hronom č. rozhodnutia: OU-ZH-OSZP-2022/008083-003 | M45: bez zásahu, (10.8.2021 vykonaná revízia CHÚ (podmienky ochrany dodržiavané))
A46: SKEUV 2133 Hôrky | B46: UEV | C46: 2. | D46: Partizánske | E46: Klátova Nová Ves, Kolačno | F46: 2429,2420B,2420C,2425, 2426, | G46: 28.59
A48: Chynoriansky luh | B48: PR | C48: 4. | D48: Partizánske | E48: Chynorany | F48: 2378,2379,2380 | G48: 46.25
A49: Veľká skala | B49: NPR | C49: 5. | D49: Partizánske | E49: Bystričany | F49: 4099A,4099C,4099D, | G49: 35.46
A50: Končitá | B50: PP | C50: 5. | D50: Partizánske | E50: Kamenec p.Vtáčnikom | F50: 4223 | G50: 0.95
A51: Končitá | B51: OP PP | D51: Partizánske | E51: Kamenec p.Vtáčnikom | F51: 4224A,4224B,4222A,4222B,4222C | G51: 25.87
A52: Makovište | B52: PR | C52: 5. | D52: Partizánske | E52: kamenec p.Vtáčnikom | F52: 4300A,4300B,4300C | G52: 23.64
A53: Dobrotínské skaly | B53: PR | C53: 3. | D53: Partizánske | E53: Veľké Uherce | F53: 3130A,3130B | G53: 4.71
A54: Vtáčnik | B54: NPR | C54: 5. | D54: Partizánske | E54: Lehota p.Vtáč., Kľak, Kamenec p.Vtáčnikom | F54: 4381.4268 | G54: 54.51
A55: Ponitrie | B55: velkoplošné | C55: 2 | D55: Ždáňa | E55: Prochot | F55: 1205A00-1217 20,1219 10,20,1236 00,123800 -124200 | G55: 206.75
A56: Revištský rybník | B56: maloplošné | C56: 4 | D56: Ždáňa | E56: R. Podzám. | G56: 23.51
A57: Štiavnické Vrchy | B57: velkoplošné | C57: 2 | D57: Žarnovica | E57: Brehy,Rudno nad Hronom,Voznica,Dolné Hámre, Banská Hodruša,Vysoká,Uhliská,žarnovica | G57: 5850.07
A58: Kojatín | B58: maloplošné | C58: 5 | D58: Žarnovica | E58: Voznica | F58: 479,483,484,485,487,488 | G58: 61.34
A59: Kašivárová | B59: maloplošné | C59: 5 | D59: Žarnovica | E59: Žarnovica | F59: 251,252,253,254,255 | G59: 49.09
A60: NPR Vtáčnik | B60: NPR | C60: 5 | D60: Brod | F60: 182a, 182b, 182c, 183a, 183b, 184, 192a, 192b, 193a, 193b, 194, 195 | G60: 154.39 | H60: Bez zásahu | I60: Zachovať predmet ochrany CHÚ | J60: Stav biotopov a druhov | K60: Iba v prípade realizácie lesohospodárskych zásahov ináč v rámci revízie CHÚ. | L60: bez zásahu | M60: bez zásahu
A61: PR Sokolec | B61: NPR | C61: 5 | D61: Brod | F61: 1268c | G61: 2.85 | H61: Bez zásahu | I61: Zachovať predmet ochrany CHÚ | J61: Stav biotopov a druhov | K61: Iba v prípade realizácie lesohospodárskych zásahov ináč v rámci revízie CHÚ. | L61: bez zásahu | M61: bez zásahu
A62: NPR Mláčik | B62: NPR | C62: 5 | D62: Žiar | F62: 5121a, 5121b, 5121c, 5121d, 5122a, 5122b, 5123a, 5123b, 5124a, 5124b, 5125a, 5125b, 5125c, 5125d, 5125e | G62: 66.04 | H62: Bez zásahu | I62: Zachovať predmet ochrany CHÚ | J62: Stav biotopov a druhov | K62: Iba v prípade realizácie lesohospodárskych zásahov ináč v rámci revízie CHÚ. | L62: bez zmeny | M62: monitoring pochodzkou :
A63: PR Biely kameň | B63: NPR | C63: 5 | D63: Žiar | F63: 2107 | G63: 5.44 | H63: Bez zásahu | I63: Zachovať predmet ochrany CHÚ | J63: Stav biotopov a druhov | K63: Iba v prípade realizácie lesohospodárskych zásahov ináč v rámci revízie CHÚ. | L63: bez zmeny | M63: monitoring pochodzkou :
G64: =SUM(G4:G63) -> 10606.438

Sheet 1.2.zriedkavé,vzácne, ohrozené
A1: 1.2. Územia s výskytom vzácnych, ohrozených a zriedkavých druhov
A2: Vzhľadom na ochranársku citlivosť niektorých údajov (vykrádanie hniezd...) údaje o porastoch, výmerách a katastrálnych územiach nebudú verejne prístupné.
A4: LHC | B4: Druh /chránené živočíchy/ | C4: JPRL | D4: Výmera (ha) | E4: manažment | F4: Cieľ LVSV | G4: Monitorovací indikátor | H4: monitoring | I4: výsledok monitoringu | J4: poznámka
A5: Skýcov | B5: Accipiter gentilis | C5: 322, 323, 324, 325, 326, 327, 334, 338 | D5: 66.68 | E5: V zmysle PSoL | F5: zlepšiť, resp. zachovať priaznivý stav druhu | G5: Výskyt druhu
A6: Topoľčianky - Žitavany | B6: Accipiter gentilis | C6: 1081, 1083, 1084 A, 1085, 1087 | D6: 66.43 | E6: V zmysle PSoL | F6: zlepšiť, resp. zachovať priaznivý stav druhu | G6: Výskyt druhu
A7: Skýcov | B7: Salamandra salamandra | C7: 6, 7, 8, 9, 12 A, 12 B, 13, 20, 37, 39 | D7: 118.84 | E7: V zmysle PSoL | F7: zlepšiť, resp. zachovať priaznivý stav druhu | G7: Výskyt druhu
A8: Topoľčianky - Žitavany | B8: Salamandra salamandra | C8: 1197, 1198, 1199, 1200 A, 1200 B, 1200 C, 1201, 1202, 1233, 1234 A, 1234 B, 1235 | E8: V zmysle PSoL | F8: zlepšiť, resp. zachovať priaznivý stav druhu | G8: Výskyt druhu
A9: Skýcov | B9: Upupa epops | C9: 104 A, 104 B, 105, 106, 107, 108, 112, 113 A, 156, | D9: 58.79 | E9: V zmysle PSoL | F9: zlepšiť, resp. zachovať priaznivý stav druhu | G9: Výskyt druhu
A10: Skýcov | B10: Buteo Buteo | C10: 340, 341 A, 341 B, 342, 343, 345 | D10: 59.22 | E10: V zmysle PSoL | F10: zlepšiť, resp. zachovať priaznivý stav druhu | G10: Výskyt druhu
A11: Topoľčianky - Žitavany | B11: Buteo Buteo | C11: 1004, 1005, 1006, 1007, 1008, 1014 B, 1015, 1035, | D11: 114.72 | E11: V zmysle PSoL | F11: zlepšiť, resp. zachovať priaznivý stav druhu | G11: Výskyt druhu
A12: Jedľové Kostoľany | B12: Rosalia alpina | C12: 126a, 201 1, 203 1, 208 1 | D12: 24.87 | E12: Manažment v zmysle Manuálu, príloha č. II | F12: zachovanie biodiverzity | G12: výskyt | H12: Iba v prípade realizácie lesohospodárskych zásahov.
A13: Jedľové Kostoľany | B13: Rosalia alpina, Lucanus cervus, Cerambyx cerdo | C13: 164 1, 166 1, 207 1, 211 1 | D13: 22.33 | E13: Manažment v zmysle Manuálu, príloha č. II | F13: zachovanie biodiverzity | G13: výskyt | H13: Iba v prípade realizácie lesohospodárskych zásahov.
A14: Hrušov | B14: Rosalia alpina, Lucanus cervus, Cerambyx cerdo | C14: 15 20 | D14: 4.28 | E14: bez zásahu | F14: zachovanie biodiverzity | G14: výskyt | H14: Iba v prípade realizácie lesohospodárskych zásahov.
A15: Topoľčianky a Žitavany | B15: Lucanus cervus, Cerambyx cerdo | C15: 236a 10, 323 10 | D15: 19.27 | E15: Manažment v zmysle Manuálu, príloha č. II | F15: zachovanie biodiverzity | G15: výskyt | H15: Iba v prípade realizácie lesohospodárskych zásahov.
A16: Jelenec | B16: Epipactis helleborine | C16: 25 | D16: 6.9 | E16: bez zásahu | F16: zachovanie biodiverzity | G16: výskyt | H16: Iba v prípade realizácie lesohospodárskych zásahov. | I16: Bez zásahu
A17: Jelenec | B17: Epipactis helleborine | C17: 33a 2 | D17: 6.99 | E17: Manažment v zmysle Manuálu, príloha č. II | F17: zachovanie biodiverzity | G17: výskyt | H17: Iba v prípade realizácie lesohospodárskych zásahov. | I17: Bez zásahu
A18: Jelenec | B18: Scrophularia vernalis | C18: 42, 320 | D18: 10.31 | E18: bez zásahu | F18: zachovanie biodiverzity | G18: výskyt | H18: Iba v prípade realizácie lesohospodárskych zásahov. | I18: Bez zásahu
A19: Jelenec | B19: Scrophularia vernalis | C19: 41a | D19: 10.7 | E19: Manažment v zmysle Manuálu, príloha č. II | F19: zachovanie biodiverzity | G19: výskyt | H19: Iba v prípade realizácie lesohospodárskych zásahov. | I19: Bez zásahu
A20: Nitrianska Streda | B20: Epipactis helleborine | C20: 1549a | D20: 3.53 | E20: bez zásahu | F20: zachovanie biodiverzity | G20: výskyt | H20: Iba v prípade realizácie lesohospodárskych zásahov. | I20: Bez zásahu
A21: Nitrianska Streda | B21: Epipactis helleborine | C21: 1133 | D21: 8.38 | E21: Manažment v zmysle Manuálu, príloha č. VI | F21: zachovanie biodiverzity | G21: výskyt | H21: Iba v prípade realizácie lesohospodárskych zásahov. | I21: 2020 VU+50, 171,15m3/8,38ha
A22: Nitrianska Streda | B22: Scrophularia vernalis | C22: 1304, 1446 | D22: 21.92 | E22: bez zásahu | F22: zachovanie biodiverzity | G22: výskyt | H22: Iba v prípade realizácie lesohospodárskych zásahov. | I22: Bez zásahu
A23: Zobor | B23: Adonis vernalis | C23: 200b, 382 | D23: 14.65 | E23: bez zásahu | F23: zachovanie biodiverzity | G23: výskyt | H23: Iba v prípade realizácie lesohospodárskych zásahov. | I23: Bez zásahu
A24: Zobor | B24: Adonis vernalis, Pulsatilla grandis, Dictamnus albus, Stipa capillata | C24: 332a | D24: 9.87 | E24: bez zásahu | F24: zachovanie biodiverzity | G24: výskyt | H24: Iba v prípade realizácie lesohospodárskych zásahov. | I24: Bez zásahu
A25: Zobor | B25: Cerasus mahaleb | C25: 276a | D25: 13.94 | E25: Manažment v zmysle Manuálu pre kategóriu 4.1 | F25: zachovanie biodiverzity | G25: výskyt | H25: Iba v prípade realizácie lesohospodárskych zásahov. | I25: Bez zásahu
A26: Zobor | B26: Epipactis helleborine | C26: 317 | D26: 9.26 | E26: Manažment v zmysle Manuálu, príloha č. II | F26: zachovanie biodiverzity | G26: výskyt | H26: Iba v prípade realizácie lesohospodárskych zásahov. | I26: Bez zásahu
A27: Zobor | B27: Epipactis purpurata | C27: 314 | D27: 22.44 | E27: bez zásahu | F27: zachovanie biodiverzity | G27: výskyt | H27: Iba v prípade realizácie lesohospodárskych zásahov. | I27: Bez zásahu
A28: Zobor | B28: Gagea bohemica, Cerasus mahaleb | C28: 276b | D28: 3.8 | E28: bez zásahu | F28: zachovanie biodiverzity | G28: výskyt | H28: Iba v prípade realizácie lesohospodárskych zásahov. | I28: Bez zásahu
A29: Zobor | B29: Gagea minima | C29: 371 | D29: 5.99 | E29: Manažment v zmysle Manuálu, príloha č. II | F29: zachovanie biodiverzity | G29: výskyt | H29: Iba v prípade realizácie lesohospodárskych zásahov. | I29: Bez zásahu
A30: Zobor | B30: Scrophularia vernalis | C30: 256a, 269c | D30: 28.24 | E30: Manažment v zmysle Manuálu, príloha č. II | F30: zachovanie biodiverzity | G30: výskyt | H30: Iba v prípade realizácie lesohospodárskych zásahov. | I30: Bez zásahu
A31: Zobor | B31: Scrophularia vernalis | C31: 264a | D31: 8.2 | E31: Manažment v zmysle Manuálu, príloha č. VI | F31: zachovanie biodiverzity | G31: výskyt | H31: Iba v prípade realizácie lesohospodárskych zásahov. | I31: Bez zásahu
A32: Jelenec | B32: Lucanus cervus, Cerambyx cerdo | C32: 219a, 25, 384, 400, 411, 432a, 472, 475, 503a | D32: 38.36 | E32: bez zásahu | F32: zachovanie biodiverzity | G32: výskyt | H32: Iba v prípade realizácie lesohospodárskych zásahov. | I32: Bez zásahu
A33: Jelenec | B33: Lucanus cervus, Cerambyx cerdo | C33: 274a, 275, 377a | D33: 33.71 | E33: Manažment v zmysle Manuálu, príloha č. II | F33: zachovanie biodiverzity | G33: výskyt | H33: Iba v prípade realizácie lesohospodárskych zásahov. | I33: 274A00: OU MPP,2023 540 m3
A34: Jelenec | B34: Lucanus cervus, Cerambyx cerdo | C34: 485b | D34: 5.57 | E34: Manažment v zmysle Manuálu, príloha č. VI | F34: zachovanie biodiverzity | G34: výskyt | H34: Iba v prípade realizácie lesohospodárskych zásahov. | I34: Bez zásahu
A35: Jelenec | B35: Rosalia alpina | C35: 180a, 243, 271 | D35: 7.76 | E35: bez zásahu | F35: zachovanie biodiverzity | G35: výskyt | H35: Iba v prípade realizácie lesohospodárskych zásahov. | I35: Bez zásahu
A36: Jelenec | B36: Rosalia alpina | C36: 180b, 181a 1., 182 1., 185 1., 186 1., 187 1., 189d 1., 193 1., 194a 1., 194b, 196a, 241a 1., 242 1., 244b 1., 245 1., 246 1., 248 1., 249a 1., 251 1., 252 1., 253 1., 254 1., 255 1., 256 1., 257 1., 258 1., 259 1., 262, 265 1., 266 1., 267 1., 268 1., 272a, 272c 1., 310b 1., 315 1., 322 1. | D36: 201.69 | E36: Manažment v zmysle Manuálu, príloha č. II | F36: zachovanie biodiverzity | G36: výskyt | H36: Iba v prípade realizácie lesohospodárskych zásahov. | I36: 180B00: 2023 OU 168 m3, 268 11: 2023 NTr 40 m3, 272C11:2023 NTr 159 m3
A37: Jelenec | B37: Rosalia alpina, Lucanus cervus, Cerambyx cerdo | C37: 206a, 206c | D37: 3.57 | E37: bez zásahu | F37: zachovanie biodiverzity | G37: výskyt | H37: Iba v prípade realizácie lesohospodárskych zásahov. | I37: Bez zásahu
A38: Jelenec | B38: Rosalia alpina, Lucanus cervus, Cerambyx cerdo | C38: 159a 1., 177b 1., 184 1., 189a 1., 190c 1., 261 1., 278, 279 1., 280 1., 281 1., 317 1., 344 1., 467a 1. | D38: 32.8 | E38: Manažment v zmysle Manuálu, príloha č. II | F38: zachovanie biodiverzity | G38: výskyt | H38: Iba v prípade realizácie lesohospodárskych zásahov. | I38: 279 11:2023 OU MPP 23 m3
A39: Jelenec | B39: Rosalia alpina, Lucanus cervus, Cerambyx cerdo | C39: 276a, 321 1 | D39: 12.08 | E39: Manažment v zmysle Manuálu, príloha č. VI | F39: zachovanie biodiverzity | G39: výskyt | H39: Iba v prípade realizácie lesohospodárskych zásahov. | I39: Bez zásahu
A40: Nitrianska Streda | B40: Lucanus cervus, Cerambyx cerdo | C40: 1142a, 1144c, 1144d, 1144e, 1148, 1151, 1168, 1176, 1273, 1274, 1280, 1286, 1289a, 1289b, 1321 1., 1444b, 1527b, 1527c, 1549a, 1802, 1815 | D40: 45.53 | E40: bez zásahu | F40: zachovanie biodiverzity | G40: výskyt | H40: Iba v prípade realizácie lesohospodárskych zásahov. | I40: Bez zásahu
A41: Nitrianska Streda | B41: Lucanus cervus, Cerambyx cerdo | C41: 1005, 1047, 1092, 1100 1., 1108a 1., 1120b 1., 1129a 1., 1143 1., 1270 1., 1275 1., 1349a, 1646b, 1747c | D41: 73.52 | E41: Manažment v zmysle Manuálu, príloha č. II | F41: zachovanie biodiverzity | G41: výskyt | H41: Iba v prípade realizácie lesohospodárskych zásahov. | I41: 1100 10: 2023 OU MPP 45,87 m3, 1143 10: OU MP 26,45 m3, 1270 10: 2021 OU MPP 246,23 m3, 1275 10: OU MPP 167,95 m3, 1349A00: 2023 OU MPP 570,88 m3, 1646B00: 2022 OU MPP 107,75 m3
... A51: Zobor | B51: Lucanus cervus, Cerambyx cerdo | C51: 75a, 101, 382 | D51: 17.84 | E51: bez zásahu | F51: zachovanie biodiverzity | G51: výskyt | H51: Iba v prípade realizácie lesohospodárskych zásahov. | I51: Bez zásahu
A52: Zobor | B52: Lucanus cervus, Cerambyx cerdo | D52: 12.13 | E52: Manažment v zmysle Manuálu, príloha č. II | F52: zachovanie biodiverzity | G52: výskyt | H52: Iba v prípade realizácie lesohospodárskych zásahov. | I52: Bez zásahu
A53: Zobor | B53: Lucanus cervus, Cerambyx cerdo | C53: 71 | D53: 4.87 | E53: Manažment v zmysle Manuálu, príloha č. VI | F53: zachovanie biodiverzity | G53: výskyt | H53: Iba v prípade realizácie lesohospodárskych zásahov. | I53: Bez zásahu
A54: Zobor | B54: Lucanus cervus, Cerambyx cerdo, Lacon querceus | C54: 33a, 138 | D54: 20.65 | E54: bez zásahu | F54: zachovanie biodiverzity | G54: výskyt | H54: Iba v prípade realizácie lesohospodárskych zásahov. | I54: Bez zásahu
A55: Zobor | B55: Lucanus cervus, Cerambyx cerdo, Lacon querceus | C55: 28 | D55: 20.38 | E55: Manažment v zmysle Manuálu, príloha č. II | F55: zachovanie biodiverzity | G55: výskyt | H55: Iba v prípade realizácie lesohospodárskych zásahov. | I55: Bez zásahu
A56: Zobor | B56: Rosalia alpina, Lucanus cervus, Cerambyx cerdo | C56: 95 | D56: 1.29 | E56: bez zásahu | F56: zachovanie biodiverzity | G56: výskyt | H56: Iba v prípade realizácie lesohospodárskych zásahov. | I56: Bez zásahu
A57: Zobor | B57: Rosalia alpina, Lucanus cervus, Cerambyx cerdo | C57: 96 1., 304a1 | D57: 8.04 | E57: Manažment v zmysle Manuálu, príloha č. II | F57: zachovanie biodiverzity | G57: výskyt | H57: Iba v prípade realizácie lesohospodárskych zásahov. | I57: Bez zásahu
A58: Zobor | B58: Rosalia alpina, Lucanus cervus, Cerambyx cerdo, Cucujus cinnaberinus | C58: 303 1. | D58: 8.32 | E58: Manažment v zmysle Manuálu, príloha č. II | F58: zachovanie biodiverzity | G58: výskyt | H58: Iba v prípade realizácie lesohospodárskych zásahov. | I58: Bez zásahu
A59: Lesy Kozelník | B59: Rosalia alpina, Lucanus cervus, Cerambyx cerdo, Cucujus cinnaberinus | C59: 2010SL0460138_1 | D59: 0.6235 | E59: V prípade výskytu prírodných lesov a pralesov, referenčných plôch bez zásahu, inak management v zmysle Manuálu, príloha č. II. | F59: zlepšiť, resp. zachovať priaznivý stav druhu | G59: Výskyt druhu | H59: Iba v prípade realizácie lesohospodárskych zásahov.
A60: Lesy Kozelník | B60: Rosalia alpina, Lucanus cervus, Cerambyx cerdo, Cucujus cinnaberinus | C60: 2010SL0460139a0 | E60: V prípade výskytu prírodných lesov a pralesov, referenčných plôch bez zásahu, inak management v zmysle Manuálu, príloha č. II. | F60: zlepšiť, resp. zachovať priaznivý stav druhu | G60: Výskyt druhu | H60: Iba v prípade realizácie lesohospodárskych zásahov.
A61: Lesy Kozelník | B61: Rosalia alpina, Lucanus cervus, Cerambyx cerdo, Cucujus cinnaberinus | C61: 2010SL0460153_0 | E61: V prípade výskytu prírodných lesov a pralesov, referenčných plôch bez zásahu, inak management v zmysle Manuálu, príloha č. II. | F61: zlepšiť, resp. zachovať priaznivý stav druhu | G61: Výskyt druhu | H61: Iba v prípade realizácie lesohospodárskych zásahov.
A62: Lesy Kozelník | B62: Rosalia alpina, Lucanus cervus, Cerambyx cerdo, Cucujus cinnaberinus | C62: 2010SL0460154a0 | E62: V prípade výskytu prírodných lesov a pralesov, referenčných plôch bez zásahu, inak management v zmysle Manuálu, príloha č. II. | F62: zlepšiť, resp. zachovať priaznivý stav druhu | G62: Výskyt druhu | H62: Iba v prípade realizácie lesohospodárskych zásahov.
A63: lesy Kozelník | B63: Rosalia alpina | C63: 2010SL0460172_1 | D63: 3.8745 | E63: V prípade výskytu prírodných lesov a pralesov, referenčných plôch bez zásahu, inak management v zmysle Manuálu, príloha č. II. | F63: zlepšiť, resp. zachovať priaznivý stav druhu | G63: Výskyt druhu | H63: Iba v prípade realizácie lesohospodárskych zásahov.
A64: Lesy Kozelník | B64: Rosalia alpina | C64: 2010SL0460172_2 | D64: 0.8468 | E64: V prípade výskytu prírodných lesov a pralesov, referenčných plôch bez zásahu, inak management v zmysle Manuálu, príloha č. II. | F64: zlepšiť, resp. zachovať priaznivý stav druhu | G64: Výskyt druhu | H64: Iba v prípade realizácie lesohospodárskych zásahov.
A65: Lesy Kozelník | B65: Rosalia alpina, Lucanus cervus, Cerambyx cerdo, Cucujus cinnaberinus | C65: 2010SL0460186_0 | D65: 10.4337 | E65: V prípade výskytu prírodných lesov a pralesov, referenčných plôch bez zásahu, inak management v zmysle Manuálu, príloha č. II. | F65: zlepšiť, resp. zachovať priaznivý stav druhu | G65: Výskyt druhu | H65: Iba v prípade realizácie lesohospodárskych zásahov. | J65: zaznamenaný výskyt -imágo Rosalia alpina 23.7.2023
A66: Lesy Kozelník | B66: Lucanus cervus, Cerambyx cerdo | C66: 2010SL0460207_0 | E66: V prípade výskytu prírodných lesov a pralesov, referenčných plôch bez zásahu, inak management v zmysle Manuálu, príloha č. II. | F66: zlepšiť, resp. zachovať priaznivý stav druhu | G66: Výskyt druhu | H66: Iba v prípade realizácie lesohospodárskych zásahov.
A67: Lesy Kozelník | B67: Rosalia alpina, Lucanus cervus, Cerambyx cerdo, Cucujus cinnaberinus | C67: 2010SL0460211a0 | D67: 6.3756 | E67: V prípade výskytu prírodných lesov a pralesov, referenčných plôch bez zásahu, inak management v zmysle Manuálu, príloha č. II. | F67: zlepšiť, resp. zachovať priaznivý stav druhu | G67: Výskyt druhu | H67: Iba v prípade realizácie lesohospodárskych zásahov.
A68: Lesy Kozelník | B68: Rosalia alpina, Lucanus cervus, Cerambyx cerdo, Cucujus cinnaberinus | C68: 2010SL0460231_1 | D68: 16.3007 | E68: V prípade výskytu prírodných lesov a pralesov, referenčných plôch bez zásahu, inak management v zmysle Manuálu, príloha č. II. | F68: zlepšiť, resp. zachovať priaznivý stav druhu | G68: Výskyt druhu | H68: Iba v prípade realizácie lesohospodárskych zásahov.
A69: Lesy Kozelník | B69: Rosalia alpina | C69: 2010SL0460234a1 | E69: V prípade výskytu prírodných lesov a pralesov, referenčných plôch bez zásahu, inak management v zmysle Manuálu, príloha č. II. | F69: zlepšiť, resp. zachovať priaznivý stav druhu | G69: Výskyt druhu | H69: Iba v prípade realizácie lesohospodárskych zásahov.
A70: Lesy Kozelník | B70: Rosalia alpina, Lucanus cervus, Cerambyx cerdo, Cucujus cinnaberinus | C70: 2010SL0460235a1 | E70: V prípade výskytu prírodných lesov a pralesov, referenčných plôch bez zásahu, inak management v zmysle Manuálu, príloha č. II. | F70: zlepšiť, resp. zachovať priaznivý stav druhu | G70: Výskyt druhu | H70: Iba v prípade realizácie lesohospodárskych zásahov.
A71: Lesy Kozelník | B71: Rosalia alpina | C71: 2010SL0460237a1 | D71: 17.5491 | E71: V prípade výskytu prírodných lesov a pralesov, referenčných plôch bez zásahu, inak management v zmysle Manuálu, príloha č. II. | F71: zlepšiť, resp. zachovať priaznivý stav druhu | G71: Výskyt druhu | H71: Iba v prípade realizácie lesohospodárskych zásahov.
A72: Lesy Kozelník | B72: Rosalia alpina, Lucanus cervus, Cerambyx cerdo, Cucujus cinnaberinus | C72: 2010SL0460237b1 | D72: 3.8446 | E72: V prípade výskytu prírodných lesov a pralesov, referenčných plôch bez zásahu, inak management v zmysle Manuálu, príloha č. II. | F72: zlepšiť, resp. zachovať priaznivý stav druhu | G72: Výskyt druhu | H72: Iba v prípade realizácie lesohospodárskych zásahov.
A73: Lesy Kozelník | B73: Rosalia alpina, Lucanus cervus, Cerambyx cerdo, Cucujus cinnaberinus | C73: 2010SL0460237b2 | D73: 1.1557 | E73: V prípade výskytu prírodných lesov a pralesov, referenčných plôch bez zásahu, inak management v zmysle Manuálu, príloha č. II. | F73: zlepšiť, resp. zachovať priaznivý stav druhu | G73: Výskyt druhu | H73: Iba v prípade realizácie lesohospodárskych zásahov.
A74: Lesy Kozelník | B74: Rosalia alpina | C74: 2010SL0460238a1 | D74: 14.6541 | E74: V prípade výskytu prírodných lesov a pralesov, referenčných plôch bez zásahu, inak management v zmysle Manuálu, príloha č. II. | F74: zlepšiť, resp. zachovať priaznivý stav druhu | G74: Výskyt druhu | H74: Iba v prípade realizácie lesohospodárskych zásahov. | I74: zaznamenaný výskyt Rosalia alpina - imágo
A75: Lesy Kozelník | B75: Rosalia alpina | C75: 2010SL0460240a1 | D75: 7.2887 | E75: V prípade výskytu prírodných lesov a pralesov, referenčných plôch bez zásahu, inak management v zmysle Manuálu, príloha č. II. | F75: zlepšiť, resp. zachovať priaznivý stav druhu | G75: Výskyt druhu | H75: Iba v prípade realizácie lesohospodárskych zásahov.
A76: Lesy Kozelník | B76: Rosalia alpina, Lucanus cervus, Cerambyx cerdo, Cucujus cinnaberinus | C76: 2010SL0460240a2 | D76: 1.3346 | E76: V prípade výskytu prírodných lesov a pralesov, referenčných plôch bez zásahu, inak management v zmysle Manuálu, príloha č. II. | F76: zlepšiť, resp. zachovať priaznivý stav druhu | G76: Výskyt druhu | H76: Iba v prípade realizácie lesohospodárskych zásahov.
A77: Lesy Kozelník | B77: Rosalia alpina | C77: 2010SL0460241_0 | E77: V prípade výskytu prírodných lesov a pralesov, referenčných plôch bez zásahu, inak management v zmysle Manuálu, príloha č. II. | F77: zlepšiť, resp. zachovať priaznivý stav druhu | G77: Výskyt druhu | H77: Iba v prípade realizácie lesohospodárskych zásahov.
A78: Lesy Kozelník | B78: Rosalia alpina, Lucanus cervus, Cerambyx cerdo, Cucujus cinnaberinus | C78: 2010SL0460249_1 | D78: 2.0185 | E78: V prípade výskytu prírodných lesov a pralesov, referenčných plôch bez zásahu, inak management v zmysle Manuálu, príloha č. II. | F78: zlepšiť, resp. zachovať priaznivý stav druhu | G78: Výskyt druhu | H78: Iba v prípade realizácie lesohospodárskych zásahov.
A79: Lesy Kozelník | B79: Lucanus cervus, Cerambyx cerdo, Brachygonus megerlei, Eurythyrea quercus, Limoniscus violaceus | C79: 2010SL0460251_0 | E79: V prípade výskytu prírodných lesov a pralesov, referenčných plôch bez zásahu, inak management v zmysle Manuálu, príloha č. II. | F79: zlepšiť, resp. zachovať priaznivý stav druhu | G79: Výskyt druhu | H79: Iba v prípade realizácie lesohospodárskych zásahov.
A80: Lesy Kozelník | B80: Rosalia alpina, Lucanus cervus, Cerambyx cerdo, Cucujus cinnaberinus | C80: 2010SL0460253a0 | E80: V prípade výskytu prírodných lesov a pralesov, referenčných plôch bez zásahu, inak management v zmysle Manuálu, príloha č. II. | F80: zlepšiť, resp. zachovať priaznivý stav druhu | G80: Výskyt druhu | H80: Iba v prípade realizácie lesohospodárskych zásahov.
A81: Lesy Kozelník | B81: Rosalia alpina, Lucanus cervus, Cerambyx cerdo, Cucujus cinnaberinus | C81: 2010SL0460254_0 | E81: V prípade výskytu prírodných lesov a pralesov, referenčných plôch bez zásahu, inak management v zmysle Manuálu, príloha č. II. | F81: zlepšiť, resp. zachovať priaznivý stav druhu | G81: Výskyt druhu | H81: Iba v prípade realizácie lesohospodárskych zásahov.
A82: Lesy Kozelník | B82: Lucanus cervus, Cerambyx cerdo, Brachygonus megerlei, Eurythyrea quercus, Limoniscus violaceus | C82: 2010SL0460255_0 | E82: V prípade výskytu prírodných lesov a pralesov, referenčných plôch bez zásahu, inak management v zmysle Manuálu, príloha č. II. | F82: zlepšiť, resp. zachovať priaznivý stav druhu | G82: Výskyt druhu | H82: Iba v prípade realizácie lesohospodárskych zásahov.
A83: Lesy Kozelník | B83: Lucanus cervus, Cerambyx cerdo, Brachygonus megerlei, Eurythyrea quercus, Limoniscus violaceus | C83: 2010SL0460257_1 | D83: 10.2236 | E83: V prípade výskytu prírodných lesov a pralesov, referenčných plôch bez zásahu, inak management v zmysle Manuálu, príloha č. II. | F83: zlepšiť, resp. zachovať priaznivý stav druhu | G83: Výskyt druhu | H83: Iba v prípade realizácie lesohospodárskych zásahov.
A84: Lesy Kozelník | B84: Lucanus cervus, Cerambyx cerdo, Brachygonus megerlei, Eurythyrea quercus, Limoniscus violaceus | C84: 2010SL0460258a0 | E84: V prípade výskytu prírodných lesov a pralesov, referenčných plôch bez zásahu, inak management v zmysle Manuálu, príloha č. II. | F84: zlepšiť, resp. zachovať priaznivý stav druhu | G84: Výskyt druhu | H84: Iba v prípade realizácie lesohospodárskych zásahov.
A85: Lesy Kozelník | B85: Lucanus cervus, Cerambyx cerdo | C85: 2010SL0460260_0 | E85: V prípade výskytu prírodných lesov a pralesov, referenčných plôch bez zásahu, inak management v zmysle Manuálu, príloha č. II. | F85: zlepšiť, resp. zachovať priaznivý stav druhu | G85: Výskyt druhu | H85: Iba v prípade realizácie lesohospodárskych zásahov.
A86: Lesy Kozelník | B86: Lucanus cervus, Cerambyx cerdo, Brachygonus megerlei, Eurythyrea quercus, Limoniscus violaceus | C86: 2010SL0460262a0 | E86: V prípade výskytu prírodných lesov a pralesov, referenčných plôch bez zásahu, inak management v zmysle Manuálu, príloha č. II. | F86: zlepšiť, resp. zachovať priaznivý stav druhu | G86: Výskyt druhu | H86: Iba v prípade realizácie lesohospodárskych zásahov.
A87: Lesy Kozelník | B87: Lucanus cervus, Cerambyx cerdo, Brachygonus megerlei, Eurythyrea quercus, Limoniscus violaceus | C87: 2010SL0460263a0 | E87: V prípade výskytu prírodných lesov a pralesov, referenčných plôch bez zásahu, inak management v zmysle Manuálu, príloha č. II. | F87: zlepšiť, resp. zachovať priaznivý stav druhu | G87: Výskyt druhu | H87: Iba v prípade realizácie lesohospodárskych zásahov.
A88: Lesy Kozelník | B88: Lucanus cervus, Cerambyx cerdo, Brachygonus megerlei, Eurythyrea quercus, Limoniscus violaceus | C88: 2010SL0460269_0 | E88: V prípade výskytu prírodných lesov a pralesov, referenčných plôch bez zásahu, inak management v zmysle Manuálu, príloha č. II. | F88: zlepšiť, resp. zachovať priaznivý stav druhu | G88: Výskyt druhu | H88: Iba v prípade realizácie lesohospodárskych zásahov.
A89: lesy Kozelník | B89: Lucanus cervus, Cerambyx cerdo, Brachygonus megerlei, Eurythyrea quercus, Limoniscus violaceus | C89: 2010SL0460270_0 | E89: V prípade výskytu prírodných lesov a pralesov, referenčných plôch bez zásahu, inak management v zmysle Manuálu, príloha č. II. | F89: zlepšiť, resp. zachovať priaznivý stav druhu | G89: Výskyt druhu | H89: Iba v prípade realizácie lesohospodárskych zásahov.
A90: Lesy Kozelník | B90: Lucanus cervus, Cerambyx cerdo, Brachygonus megerlei, Eurythyrea quercus, Limoniscus violaceus | C90: 2010SL0460272_0 | E90: V prípade výskytu prírodných lesov a pralesov, referenčných plôch bez zásahu, inak management v zmysle Manuálu, príloha č. II. | F90: zlepšiť, resp. zachovať priaznivý stav druhu | G90: Výskyt druhu | H90: Iba v prípade realizácie lesohospodárskych zásahov.
A91: Lesy Kozelník | B91: Rosalia alpina | C91: 2010SL0460277a1 | E91: V prípade výskytu prírodných lesov a pralesov, referenčných plôch bez zásahu, inak management v zmysle Manuálu, príloha č. II. | F91: zlepšiť, resp. zachovať priaznivý stav druhu | G91: Výskyt druhu | H91: Iba v prípade realizácie lesohospodárskych zásahov.
A92: Lesy Kozelník | B92: Rosalia alpina | C92: 2010SL0460279a4 | D92: 1.7595 | E92: V prípade výskytu prírodných lesov a pralesov, referenčných plôch bez zásahu, inak management v zmysle Manuálu, príloha č. II. | F92: zlepšiť, resp. zachovať priaznivý stav druhu | G92: Výskyt druhu | H92: Iba v prípade realizácie lesohospodárskych zásahov.
A93: Lesy Kozelník | B93: Rosalia alpina, Lucanus cervus, Cerambyx cerdo, Cucujus cinnaberinus | C93: 2010SL0460281_1 | D93: 0.6627 | E93: V prípade výskytu prírodných lesov a pralesov, referenčných plôch bez zásahu, inak management v zmysle Manuálu, príloha č. II. | F93: zlepšiť, resp. zachovať priaznivý stav druhu | G93: Výskyt druhu | H93: Iba v prípade realizácie lesohospodárskych zásahov.
A94: Lesy Kozelník | B94: Rosalia alpina, Lucanus cervus, Cerambyx cerdo, Cucujus cinnaberinus | C94: 2010SL0460281_3 | D94: 2.8165 | E94: V prípade výskytu prírodných lesov a pralesov, referenčných plôch bez zásahu, inak management v zmysle Manuálu, príloha č. II. | F94: zlepšiť, resp. zachovať priaznivý stav druhu | G94: Výskyt druhu | H94: Iba v prípade realizácie lesohospodárskych zásahov.
A95: Lesy Kozelník | B95: Rosalia alpina, Lucanus cervus, Cerambyx cerdo, Cucujus cinnaberinus | C95: 2010SL0460281_4 | D95: 1.6993 | E95: V prípade výskytu prírodných lesov a pralesov, referenčných plôch bez zásahu, inak management v zmysle Manuálu, príloha č. II. | F95: zlepšiť, resp. zachovať priaznivý stav druhu | G95: Výskyt druhu | H95: Iba v prípade realizácie lesohospodárskych zásahov.
A96: Lesy Kozelník | B96: Rosalia alpina, Lucanus cervus, Cerambyx cerdo, Cucujus cinnaberinus | C96: 2010SL0460281_5 | D96: 1.1507 | E96: V prípade výskytu prírodných lesov a pralesov, referenčných plôch bez zásahu, inak management v zmysle Manuálu, príloha č. II. | F96: zlepšiť, resp. zachovať priaznivý stav druhu | G96: Výskyt druhu | H96: Iba v prípade realizácie lesohospodárskych zásahov.
A97: Lesy Kozelník | B97: Rosalia alpina | C97: 2010SL0460284a1 | D97: 2.9995 | E97: V prípade výskytu prírodných lesov a pralesov, referenčných plôch bez zásahu, inak management v zmysle Manuálu, príloha č. II. | F97: zlepšiť, resp. zachovať priaznivý stav druhu | G97: Výskyt druhu | H97: Iba v prípade realizácie lesohospodárskych zásahov.
A98: Lesy Kozelník | B98: Rosalia alpina, Lucanus cervus, Cerambyx cerdo, Cucujus cinnaberinus | C98: 2010SL0460284a4 | D98: 1.1686 | E98: V prípade výskytu prírodných lesov a pralesov, referenčných plôch bez zásahu, inak management v zmysle Manuálu, príloha č. II. | F98: zlepšiť, resp. zachovať priaznivý stav druhu | G98: Výskyt druhu | H98: Iba v prípade realizácie lesohospodárskych zásahov.
A99: Lesy Kozelník | B99: Rosalia alpina, Lucanus cervus, Cerambyx cerdo, Cucujus cinnaberinus | C99: 2010SL0460287a1 | D99: 2.657 | E99: V prípade výskytu prírodných lesov a pralesov, referenčných plôch bez zásahu, inak management v zmysle Manuálu, príloha č. II. | F99: zlepšiť, resp. zachovať priaznivý stav druhu | G99: Výskyt druhu | H99: Iba v prípade realizácie lesohospodárskych zásahov. | I99: bez zaznamenaného výskytu monitor.druhov
A100: Lesy Kozelník | B100: Rosalia alpina, Lucanus cervus, Cerambyx cerdo, Cucujus cinnaberinus | C100: 2010SL0460287a2 | D100: 1.0814 | E100: V prípade výskytu prírodných lesov a pralesov, referenčných plôch bez zásahu, inak management v zmysle Manuálu, príloha č. II. | F100: zlepšiť, resp. zachovať priaznivý stav druhu | G100: Výskyt druhu | H100: Iba v prípade realizácie lesohospodárskych zásahov.
A101: Lesy Kozelník | B101: Rosalia alpina | C101: 2010SL0460289a1 | D101: 7.712 | E101: V prípade výskytu prírodných lesov a pralesov, referenčných plôch bez zásahu, inak management v zmysle Manuálu, príloha č. II. | F101: zlepšiť, resp. zachovať priaznivý stav druhu | G101: Výskyt druhu | H101: Iba v prípade realizácie lesohospodárskych zásahov.
A102: Lesy Kozelník | B102: Rosalia alpina | C102: 2010SL0460291_1 | D102: 7.5832 | E102: V prípade výskytu prírodných lesov a pralesov, referenčných plôch bez zásahu, inak management v zmysle Manuálu, príloha č. II. | F102: zlepšiť, resp. zachovať priaznivý stav druhu | G102: Výskyt druhu | H102: Iba v prípade realizácie lesohospodárskych zásahov. | I102: zaznamenaný výskyt Rosalia alpina - imágo
A103: Lesy Kozelník | B103: Rosalia alpina, Lucanus cervus, Cerambyx cerdo, Cucujus cinnaberinus | C103: 2010SL0460293a1 | D103: 11.1894 | E103: V prípade výskytu prírodných lesov a pralesov, referenčných plôch bez zásahu, inak management v zmysle Manuálu, príloha č. II. | F103: zlepšiť, resp. zachovať priaznivý stav druhu | G103: Výskyt druhu | H103: Iba v prípade realizácie lesohospodárskych zásahov. | I103: bez zaznamenaného výskytu monitor.druhov | J103: zaznamenaný výskyt Rosalia alpina - imágo
A104: Lesy Kozelník | B104: Lucanus cervus, Cerambyx cerdo | C104: 2010SL0460306_0 | E104: V prípade výskytu prírodných lesov a pralesov, referenčných plôch bez zásahu, inak management v zmysle Manuálu, príloha č. II. | F104: zlepšiť, resp. zachovať priaznivý stav druhu | G104: Výskyt druhu | H104: Iba v prípade realizácie lesohospodárskych zásahov.
A105: Lesy Kozelník | B105: Rosalia alpina, Lucanus cervus, Cerambyx cerdo, Cucujus cinnaberinus | C105: 2010SL0460307_1 | D105: 1.1023 | E105: V prípade výskytu prírodných lesov a pralesov, referenčných plôch bez zásahu, inak management v zmysle Manuálu, príloha č. II. | F105: zlepšiť, resp. zachovať priaznivý stav druhu | G105: Výskyt druhu | H105: Iba v prípade realizácie lesohospodárskych zásahov.
A106: lesy Kozelník | B106: Rosalia alpina, Lucanus cervus, Cerambyx cerdo, Cucujus cinnaberinus | C106: 2010SL0460308a1 | E106: V prípade výskytu prírodných lesov a pralesov, referenčných plôch bez zásahu, inak management v zmysle Manuálu, príloha č. II. | F106: zlepšiť, resp. zachovať priaznivý stav druhu | G106: Výskyt druhu | H106: Iba v prípade realizácie lesohospodárskych zásahov.
A107: Lesy Kozelník | B107: Rosalia alpina | C107: 2010SL0460312a0 | E107: V prípade výskytu prírodných lesov a pralesov, referenčných plôch bez zásahu, inak management v zmysle Manuálu, príloha č. II. | F107: zlepšiť, resp. zachovať priaznivý stav druhu | G107: Výskyt druhu | H107: Iba v prípade realizácie lesohospodárskych zásahov.
A108: Lesy Kozelník | B108: Rosalia alpina | C108: 2010SL0460312b0 | E108: V prípade výskytu prírodných lesov a pralesov, referenčných plôch bez zásahu, inak management v zmysle Manuálu, príloha č. II. | F108: zlepšiť, resp. zachovať priaznivý stav druhu | G108: Výskyt druhu | H108: Iba v prípade realizácie lesohospodárskych zásahov.
A109: lesy Kozelník | B109: Rosalia alpina, Lucanus cervus, Cerambyx cerdo, Cucujus cinnaberinus | C109: 2010SL0460314_1 | D109: 2.4457 | E109: V prípade výskytu prírodných lesov a pralesov, referenčných plôch bez zásahu, inak management v zmysle Manuálu, príloha č. II. | F109: zlepšiť, resp. zachovať priaznivý stav druhu | G109: Výskyt druhu | H109: Iba v prípade realizácie lesohospodárskych zásahov.
A110: Lesy Kozelník | B110: Rosalia alpina | C110: 2010SL0460320a0 | E110: V prípade výskytu prírodných lesov a pralesov, referenčných plôch bez zásahu, inak management v zmysle Manuálu, príloha č. II. | F110: zlepšiť, resp. zachovať priaznivý stav druhu | G110: Výskyt druhu | H110: Iba v prípade realizácie lesohospodárskych zásahov.
...

Sheet 1.3. endemické druhy
A1: 1.3. ÚZEMIA S VÝSKYTOM ENDEMICKÝCH DRUHOV
A3: LHC | B3: Druh(y) | C3: JPRL | D3: Výmera (ha) | E3: manažment | F3: Cieľ LVSV | G3: Monitorovací indikátor | H3: monitoring | I3: výsledok monitoringu | J3: poznámka
A4: Zobor | B4: Peniažtek Jankov ( Thlaspi jankae A. Kern. ) | C4: pliešky-nelesné pozemky (Zoborská lesostep, Lupka) | D4: 6.03 | E4: bez zásahu | F4: zachovanie biodiverzity | G4: výskyt | H4: Iba v prípade realizácie lesohospodárskych zásahov. | I4: bez zásahu
A5: Partizánske | B5: ciha (vretenovka) pyskatá | C5: 4109, 4099B | D5: 19.31 | F5: Bystričany | G5: ciha pyskatá | K5: zdroj: www.biomonitoring.sk
D6: =SUM(D4:D5) -> 25.34

Sheet 3.1. vzácne biotopy
A1: 3.1. Vzácne, ohrozené a zriedkavé biotopy
A3: LHC | B3: Biotop - názov | C3: JPRL | D3: Výmera (ha) | E3: k.ú. | F3: manažment | G3: Cieľ LVSV | H3: Monitorovací indikátor | I3: monitoring | J3: výsledok monitoringu | K3: poznámka
A4: Jedľové Kostoľany | B4: Ls3.51 Sucho- a kyslomilné dubové lesy | C4: 23a, 23b, 125c, 127b | D4: 47.4 | F4: manažment v zmysle Manuálu, príloha č. VI. | G4: zlepšiť, resp. zachovať priaznivý stav biotopu | H4: Drevinová skladba, štruktúra porastu, stanovištné podmienky | I4: Iba v prípade realizácie lesohospodárskych zásahov.
A5: Jedľové Kostoľany | B5: Ls4 Lipovo-javorovo sutinové lesy | C5: 28c | D5: 1.2 | F5: manažment v zmysle Manuálu, príloha č. VI. | G5: zlepšiť, resp. zachovať priaznivý stav biotopu | H5: Drevinová skladba, štruktúra porastu, stanovištné podmienky | I5: Iba v prípade realizácie lesohospodárskych zásahov.
A6: Hrušov | B6: Svieže dubové bučiny | C6: 134 10, 134 20, 134 30 | D6: 22.4 | F6: Bez zásahu | G6: zlepšiť, resp. zachovať priaznivý stav biotopu | H6: Druhová skladba, stanovištné podmienky | I6: Iba v prípade realizácie lesohospodárskych zásahov.
A7: Hrušov | B7: Ls3.51 Sucho- a kyslomilné dubové lesy | C7: 171a 10 | D7: 0.68 | F7: manažment v zmysle Manuálu, príloha č. VI. | G7: zlepšiť, resp. zachovať priaznivý stav biotopu | H7: Druhová skladba, stanovištné podmienky | I7: Iba v prípade realizácie lesohospodárskych zásahov.
A8: Hrušov | B8: Ls3.51 Sucho- a kyslomilné dubové lesy, Ls3.52 Sucho- a kyslomilné dubové lesy | C8: 299 | D8: 16.81 | F8: manažment v zmysle Manuálu, príloha č. VI. | G8: zlepšiť, resp. zachovať priaznivý stav biotopu | H8: Druhová skladba, stanovištné podmienky | I8: Iba v prípade realizácie lesohospodárskych zásahov.
A9: Hrušov | B9: Ls3.52 Sucho- a kyslomilné dubové lesy | C9: 300 | D9: 9.69 | F9: manažment v zmysle Manuálu, príloha č. VI. | G9: zlepšiť, resp. zachovať priaznivý stav biotopu | H9: Druhová skladba, stanovištné podmienky | I9: Iba v prípade realizácie lesohospodárskych zásahov.
A10: Topoľčianky a Žitavany | B10: Ls4 Lipovo-javorovo sutinové lesy | C10: 317 10, 357b | D10: 6.7 | F10: manažment v zmysle Manuálu, príloha č. VI. | G10: zlepšiť, resp. zachovať priaznivý stav biotopu | H10: Druhová skladba, stanovištné podmienky | I10: Iba v prípade realizácie lesohospodárskych zásahov.
A11: Jelenec | B11: Ls1.3 Jaseňovo-jelšové podhorské lužné lesy | C11: 273b, 277d, 306 | D11: 10.22 | F11: Bez zásahu | G11: zlepšiť, resp. zachovať priaznivý stav biotopu | H11: Drevinová skladba, štruktúra porastu, stanovištné podmienky | I11: Iba v prípade realizácie lesohospodárskych zásahov. | J11: Bez zásahu
A12: Jelenec | B12: Ls3.3 Dubové nátržnikové lesy | C12: 276a, 295c, 359a, 359b, 363b, 387, 388a, 389, 390b, 391, 394a, 397, 398, 401b, 402, 403, 404b, 408, 409, 410, 412, 413, 414, 415a, 415b, 417 | D12: 329.34 | F12: Bez zásahu | G12: zlepšiť, resp. zachovať priaznivý stav biotopu | H12: Druhová skladba, stanovištné podmienky | I12: Iba v prípade realizácie lesohospodárskych zásahov. | J12: 390B00: 2023 VU+50 394,58 m3/16,75 ha, 403 00: 2023 VU+50 295,74, 404B00: 2023 VU+50, 20715
A13: Jelenec | B13: Ls3.51 Sucho- a kyslomilné dubové lesy | C13: 51 1, 206c, 411, 432a, 432b, 447, 461a, 472 | D13: 54.76 | F13: Bez zásahu | G13: zlepšiť, resp. zachovať priaznivý stav biotopu | H13: Druhová skladba, stanovištné podmienky | I13: Iba v prípade realizácie lesohospodárskych zásahov. | J13: Bez zásahu
A14: Jelenec | B14: Ls3.51 Sucho- a kyslomilné dubové lesy | C14: 376b, 379, 428, 433, 443c, 476, 480, 485a, 504 | D14: 84.75 | F14: manažment v zmysle Manuálu, príloha č. VI. | G14: zlepšiť, resp. zachovať priaznivý stav biotopu | H14: Druhová skladba, stanovištné podmienky | I14: Iba v prípade realizácie lesohospodárskych zásahov. | J14: 379 01: 2023 VU+50 82,10 m3
A15: Jelenec | B15: Ls3.51 Sucho- a kyslomilné dubové lesy, Ls3.52 Sucho- a kyslomilné dubové lesy | C15: 475, 486, 491 | D15: 24.12 | F15: Bez zásahu | G15: zlepšiť, resp. zachovať priaznivý stav biotopu | H15: Druhová skladba, stanovištné podmienky | I15: Iba v prípade realizácie lesohospodárskych zásahov. | J15: Bez zásahu
A16: Jelenec | B16: Ls3.51 Sucho- a kyslomilné dubové lesy, Ls3.52 Sucho- a kyslomilné dubové lesy | C16: 485b, 492a | D16: 11.72 | F16: manažment v zmysle Manuálu, príloha č. VI. | G16: zlepšiť, resp. zachovať priaznivý stav biotopu | H16: Druhová skladba, stanovištné podmienky | I16: Iba v prípade realizácie lesohospodárskych zásahov. | J16: Bez zásahu
A17: Jelenec | B17: Ls3.52 Sucho- a kyslomilné dubové lesy, Ls4 Lipovo-javorovo sutinové lesy | C17: 25 | D17: 6.9 | F17: Bez zásahu | G17: zlepšiť, resp. zachovať priaznivý stav biotopu | H17: Druhová skladba, stanovištné podmienky | I17: Iba v prípade realizácie lesohospodárskych zásahov. | J17: Bez zásahu
A18: Jelenec | B18: Ls4 Lipovo-javorovo sutinové lesy | C18: 323 | D18: 7.3 | F18: Bez zásahu | G18: zlepšiť, resp. zachovať priaznivý stav biotopu | H18: Druhová skladba, stanovištné podmienky | I18: Iba v prípade realizácie lesohospodárskych zásahov. | J18: Bez zásahu
A19: Jelenec | B19: Ls4 Lipovo-javorovo sutinové lesy | C19: 162 2., 232, 319a, 321 1., 39, 40, 437 | D19: 68.43 | F19: manažment v zmysle Manuálu, príloha č. VI. | G19: zlepšiť, resp. zachovať priaznivý stav biotopu | H19: Druhová skladba, stanovištné podmienky | I19: Iba v prípade realizácie lesohospodárskych zásahov. | J19: 232 00: 2023 OU MPP 319,94 m3
A20: Nitrianska Streda | B20: Ls3.1 Teplomilné submediteránne dubové lesy | C20: 1144d | D20: 5.37 | F20: Bez zásahu | G20: zlepšiť, resp. zachovať priaznivý stav biotopu | H20: Druhová skladba, stanovištné podmienky | I20: Iba v prípade realizácie lesohospodárskych zásahov. | J20: Bez zásahu
A21: Nitrianska Streda | B21: Ls3.1 Teplomilné submediteránne dubové lesy | C21: 1132, 1133, 1136, 1146a, 1146b, 1147 1. | D21: 39.76 | F21: manažment v zmysle Manuálu, príloha č. VI. | G21: zlepšiť, resp. zachovať priaznivý stav biotopu | H21: Druhová skladba, stanovištné podmienky | I21: Iba v prípade realizácie lesohospodárskych zásahov. | J21: 1132 00: 2020 VU+50 198,87m3/7,53ha, 1133 00: 2020 VU+50 171,15m3/8,38ha, 1136 00: 2020-2021 OU MP 199,69 m3, 1147 11: 2020-2023 OU MP 452,94m3/0,80ha
A22: Nitrianska Streda | B22: Ls3.1, Ls3.51, Ls3.52 | C22: 1754 | D22: 0.22 | F22: Bez zásahu | G22: zlepšiť, resp. zachovať priaznivý stav biotopu | H22: Druhová skladba, stanovištné podmienky | I22: Iba v prípade realizácie lesohospodárskych zásahov. | J22: Bez zásahu
A23: Nitrianska Streda | B23: Ls3.1, Ls3.51, Ls3.52 | C23: 1752a, 1753 | D23: 15.3 | F23: manažment v zmysle Manuálu, príloha č. VI. | G23: zlepšiť, resp. zachovať priaznivý stav biotopu | H23: Druhová skladba, stanovištné podmienky | I23: Iba v prípade realizácie lesohospodárskych zásahov. | J23: 1753 00: 2020 VU+50 131,53m3/2,54ha
A24: Nitrianska Streda | B24: Ls3.3 Dubové nátržnikové lesy | C24: 1257 | D24: 15.01 | F24: manažment v zmysle Manuálu, príloha č. VI. | G24: zlepšiť, resp. zachovať priaznivý stav biotopu | H24: Druhová skladba, stanovištné podmienky | I24: Iba v prípade realizácie lesohospodárskych zásahov. | J24: Bez zásahu
A25: Nitrianska Streda | B25: Ls3.51 Sucho- a kyslomilné dubové lesy | C25: 1062, 1068, 1105, 1134a, 1142a, 1142b, 1142c, 1151, 1168, 1274, 1280, 1323, 1324, 1335, 1444a, 1444b, 1446, 1527b, 1527c, 1527d, 1527e, 1734, 1807, 1902 | D25: 77.32 | F25: Bez zásahu | G25: zlepšiť, resp. zachovať priaznivý stav biotopu | H25: Druhová skladba, stanovištné podmienky | I25: Iba v prípade realizácie lesohospodárskych zásahov. | J25: Bez zásahu
A26: Nitrianska Streda | B26: Ls3.51 Sucho- a kyslomilné dubové lesy | C26: 1016, 1017, 1045, 1093, 1097, 1099, 1106 1., 1107b, 1124, 1135, 1137, 1138, 1139, 1150, 1166, 1182 1., 1259b, 1260, 1270 2., 1271, 1272 1., 1272 2., 1279a 2., 1279b, 1281a 1., 1281a 2., 1281a 3., 1281b, 1325a, 1325b, 1331, 1332, 1333, 1334, 1336, 1337, 1339b, 1341, 1342, 1355, 1358, 1359, 1380a, 1381b, 1386, 1387a, 1393, 1402, 1442, 1462, 1503, 1504, 1505, 1506, 1507, 1513a, 1514, 1515, 1516, 1517, 1518, 1519, 1523, 1536, 1538a, 1541, 1548, 1550, 1552d, 1553, 1555, 1572, 1573, 1594, 1596b, 1598a, 1598b, 1599a, 1599b, 1601b, 1602, 1761a, 1765b 1., 1765c, 1766b, 1894, 1900, 1903 | D26: 695.47 | F26: manažment v zmysle Manuálu, príloha č. VI. | G26: zlepšiť, resp. zachovať priaznivý stav biotopu | H26: Druhová skladba, stanovištné podmienky | I26: Iba v prípade realizácie lesohospodárskych zásahov. | J26: 1017 00:2023 VU+50 103,55m3/4,50ha, 1093 00: 2022 VU+50 311,01m3/13,65ha, 1097 00: 2022 OU MPP 273,55 m3, 1103 11: 2020 OU VP 405,60 m3, 1138 00: 2020-2021 OU MP 354,62m3, 1150 00: 2022 VU+50 205,39m3/6,62ha, 1166 00: 2022 VU+50 224,08m3/9,00ha, 1182 11: 2022 OU MPP 354,47m3, 1260 00: 2021 OU MP 211,36m3, 1271 00:2020 NTr 50,00m3, 1272 10: 2022 OU MPP 51,20m3, 1332 00: 2021 OU MP 339,62m3, 1333 00: 2020 VU+50 38,89m3/3,71ha, 1334 00: 2020 VU+50 234,99m3/14,15ha, 1336 00:2020 VU+50 127,65m3/6,08ha, 1337 00: 2020 VU+50 431,53/17,30, 1358 00: 2020 VU+50 252,09/9,97ha, 1359 00: 2020 VU+50 358,45/14,49ha, 1380A00:2021 VU+50 336,83/14,00ha, 1381B00: 2020 VU+50 313,81/9,60ha, 1402 00: 2020 VU+50 338,90/13,51ha, 1462 00: 2022 VU+50 105,75/5,44ha, 1503 00:2022 VU+50 558,31/14,94ha, 1504 00: 2020 VU+50 543,55/18,23ha, 1505 00: 2020 Vu+50 502,61/16,02ha, 1506 00: 2020 VU+50 319,48/12,21ha, 1507 00: 2020 VU+50 420,777/10,49ha, 1514 00: 2023 VU+50 291,68/11,99ha, 1515 00: 2023 VU+50 372,72/15,92ha, 1518 00: 2022 VU+50 458,94/16,10ha, 1519 00: 2022 VU+50 330,24/14,50ha, 1536 00: 2022 VU+50 193,78/9,60ha, 1538A00: 2023 VU+50 186,08/9,00ha, 1541 00: 2022 VU+50 376,62/16,26 ha, 1548 00: 2022 VU+50 160,36/6,31ha, 1550 00: 2022 VU+50 180,00/7,74ha, 1553 00: 2022 VU+50 197,09/8,84ha, 1555 00: 2022 VU+50, NTr 232,44/7,11ha, 1572 00:2022 VU+50 345,37/15,56ha, 1573 00: 2021 VU+50 334,54/11,68ha, 1594 00: 2022 VU+50 203,08/7,64ha, 1598A00: 2022 VU+50 306,75/10,38ha, 1765C00: 2020 VU+50 53,02/1,83ha
A27: Nitrianska Streda | B27: Ls3.51 Sucho- a kyslomilné dubové lesy, Ls3.52 Sucho- a kyslomilné dubové lesy | C27: 1148, 1286, 1321 1., 1328, 1453, 1803, 1891, 1898 | D27: 23.55 | F27: Bez zásahu | G27: zlepšiť, resp. zachovať priaznivý stav biotopu | H27: Druhová skladba, stanovištné podmienky | I27: Iba v prípade realizácie lesohospodárskych zásahov. | J27: Bez zásahu
A28: Nitrianska Streda | B28: Ls3.51 Sucho- a kyslomilné dubové lesy, Ls3.52 Sucho- a kyslomilné dubové lesy | C28: 1320, 1321 2., 1322, 1327, 1356, 1451, 1452, 1454, 1539b, 1735, 1744c, 1892, 1897, 1899 | D28: 98.23 | F28: manažment v zmysle Manuálu, príloha č. VI. | G28: zlepšiť, resp. zachovať priaznivý stav biotopu | H28: Druhová skladba, stanovištné podmienky | I28: Iba v prípade realizácie lesohospodárskych zásahov. | J28: 1322 00: 2023 VU+50 245,01/10,00ha, 1327 00: 2023 VU+50 90,45/5,00ha, 1451 00: 2023 OU MPP 291,96m3, 1454 00: VU+50 327,75/10,54ha, 1744C00: VU+50 83,73/1,76ha,
A29: Nitrianska Streda | B29: Ls3.52 Sucho- a kyslomilné dubové lesy | C29: 1176, 1289a, 1289b, 1326a, 1326b, 1330, 1430b, 1549a, 1549b, 1612, 1660a, 1660c | D29: 35.05 | F29: Bez zásahu | G29: zlepšiť, resp. zachovať priaznivý stav biotopu | H29: Druhová skladba, stanovištné podmienky | I29: Iba v prípade realizácie lesohospodárskych zásahov. | J29: 1660C00: 2022 MR vyňatie z LPF 26,32/0,17ha
A30: Nitrianska Streda | B30: Ls3.52 Sucho- a kyslomilné dubové lesy | C30: 1175a, 1193, 1287b, 1287c, 1290a, 1325c, 1329, 1339a, 1603, 1611b, 1645 | D30: 81.16 | F30: manažment v zmysle Manuálu, príloha č. VI. | G30: zlepšiť, resp. zachovať priaznivý stav biotopu | H30: Druhová skladba, stanovištné podmienky | I30: Iba v prípade realizácie lesohospodárskych zásahov. | J30: 1175A00: VU+50 114,35/5,19ha, 1287C00: 2023 OU MPP 145,44m3,
A31: Nitrianska Streda | B31: Ls4 Lipovo-javorovo sutinové lesy | C31: 1012, 1056, 1134b, 1170, 1298b, 1304, 1313, 1420, 1489, 1528, 1529, 1751, 1812 | D31: 57.38 | F31: Bez zásahu | G31: zlepšiť, resp. zachovať priaznivý stav biotopu | H31: Druhová skladba, stanovištné podmienky | I31: Iba v prípade realizácie lesohospodárskych zásahov. | J31: Bez zásahu
A32: Nitrianska Streda | B32: Ls4 Lipovo-javorovo sutinové lesy | C32: 1163, 1169, 1297, 1299, 1301, 1302a, 1302b 1., 1308 2., 1310, 1311, 1412b, 1419 2., 1490a, 1530a, 1530b 2., 1531 2., 1532 2., 1634c, 1739b, 1739c 1., 1739c 2., 1739d | D32: 113.19 | F32: manažment v zmysle Manuálu, príloha č. VI. | G32: zlepšiť, resp. zachovať priaznivý stav biotopu | H32: Druhová skladba, stanovištné podmienky | I32: Iba v prípade realizácie lesohospodárskych zásahov. | J32: 1169 00: 2022 VU+50 148,57/6,40ha, 1297 00:2021 OU MPP 221,30m3, 1302B10: 2021 OU MPP 641,01m3, 1310 00: 2021 NTs 730,33/1,45ha, 1311 00: 2020 VU+50 84,35/10,13ha, 2021 NTs 204,50/0,65ha, 1490A00: 2022 OU MPP 268,82m3, 1530A01: 2022 OU MPP 322,32m3, 1634C00: 2021 NTs 232,84/0,45ha, 1739B00: 2020VU+50 175,89/4,24ha, 1739D00: 2020 VU+50 54,13/3,22, 2023 NTs 72,00/0,10ha
A33: Zobor | B33: Ls3.1 Teplomilné submediteránne dubové lesy | C33: 22b, 312b, 314, 315 | D33: 61.97 | F33: Bez zásahu | G33: zlepšiť, resp. zachovať priaznivý stav biotopu | H33: Druhová skladba, stanovištné podmienky | I33: Iba v prípade realizácie lesohospodárskych zásahov. | J33: 312 01: 2023 VU+50 PBHL 515,11/12,85ha,
A34: Zobor | B34: Ls3.1 Teplomilné submediteránne dubové lesy | C34: 186b, 200a, 21, 23, 238c, 25, 26a, 30 | D34: 69.42 | F34: manažment v zmysle Manuálu, príloha č. VI. | G34: zlepšiť, resp. zachovať priaznivý stav biotopu | H34: Druhová skladba, stanovištné podmienky | I34: Iba v prípade realizácie lesohospodárskych zásahov. | J34: Bez zásahu
A35: Zobor | B35: Ls3.3 Dubové nátržnikové lesy | C35: 48, 125a | D35: 14.77 | F35: manažment v zmysle Manuálu, príloha č. VI. | G35: zlepšiť, resp. zachovať priaznivý stav biotopu | H35: Druhová skladba, stanovištné podmienky | I35: Iba v prípade realizácie lesohospodárskych zásahov. | J35: Bez zásahu
A36: Zobor | B36: Ls3.51 Sucho- a kyslomilné dubové lesy | C36: 22a, 75a, 95, 351b, 368, 373 | D36: 16.5 | F36: Bez zásahu | G36: zlepšiť, resp. zachovať priaznivý stav biotopu | H36: Druhová skladba, stanovištné podmienky | I36: Iba v prípade realizácie lesohospodárskych zásahov. | J36: Bez zásahu
A37: Zobor | B37: Ls3.51 Sucho- a kyslomilné dubové lesy | C37: 133, 134a, 139, 140, 349a, 351a, 354b, 63, 65 | D37: 75.54 | F37: manažment v zmysle Manuálu, príloha č. VI. | G37: zlepšiť, resp. zachovať priaznivý stav biotopu | H37: Druhová skladba, stanovištné podmienky | I37: Iba v prípade realizácie lesohospodárskych zásahov. | J37: Bez zásahu
A38: Zobor | B38: Ls3.51 Sucho- a kyslomilné dubové lesy, Ls3.52 Sucho- a kyslomilné dubové lesy | C38: 284 | D38: 0.84 | F38: Bez zásahu | G38: zlepšiť, resp. zachovať priaznivý stav biotopu | H38: Druhová skladba, stanovištné podmienky | I38: Iba v prípade realizácie lesohospodárskych zásahov. | J38: Bez zásahu
A39: Zobor | B39: Ls3.52 Sucho- a kyslomilné dubové lesy | C39: 116, 122 | D39: 6.68 | F39: Bez zásahu | G39: zlepšiť, resp. zachovať priaznivý stav biotopu | H39: Druhová skladba, stanovištné podmienky | I39: Iba v prípade realizácie lesohospodárskych zásahov. | J39: Bez zásahu
A40: Zobor | B40: Ls3.52 Sucho- a kyslomilné dubové lesy | C40: 71 | D40: 4.87 | F40: manažment v zmysle Manuálu, príloha č. VI. | G40: zlepšiť, resp. zachovať priaznivý stav biotopu | H40: Druhová skladba, stanovištné podmienky | I40: Iba v prípade realizácie lesohospodárskych zásahov. | J40: Bez zásahu
A41: Zobor | B41: Ls3.52 Sucho- a kyslomilné dubové lesy, Ls4 Lipovo-javorovo sutinové lesy | C41: 33a | D41: 12.3 | F41: Bez zásahu | G41: zlepšiť, resp. zachovať priaznivý stav biotopu | H41: Druhová skladba, stanovištné podmienky | I41: Iba v prípade realizácie lesohospodárskych zásahov. | J41: Bez zásahu
A42: Zobor | B42: Ls4 Lipovo-javorovo sutinové lesy | C42: 78, 256c, 269b | D42: 9.56 | F42: Bez zásahu | G42: zlepšiť, resp. zachovať priaznivý stav biotopu | H42: Druhová skladba, stanovištné podmienky | I42: Iba v prípade realizácie lesohospodárskych zásahov. | J42: Bez zásahu
A43: Zobor | B43: Ls4 Lipovo-javorovo sutinové lesy | C43: 238a, 238b, 245 1., 245 2., 246 2., 252, 258b, 264a, 264b | D43: 80.09 | F43: manažment v zmysle Manuálu, príloha č. VI. | G43: zlepšiť, resp. zachovať priaznivý stav biotopu | H43: Druhová skladba, stanovištné podmienky | I43: Iba v prípade realizácie lesohospodárskych zásahov. | J43: Bez zásahu
A44: Banská Štiavnica II. | B44: Ls4 Lipovo-javorovo sutinové lesy | C44: 1992a, 1999 | F44: Bez zásahu | G44: zlepšiť, resp. zachovať priaznivý stav biotopu | H44: Drevinová skladba, štruktúra porastu, stanovištné podmienky | I44: Iba v prípade realizácie lesohospodárskych zásahov.
A45: Lesy Kozelník | B45: Ls1.3 Jaseňovo-jelšové podhorské lužné lesy | C45: 191a, 380a | D45: 12.53 | F45: Management v zmysle Manuálu, príloha č. VI. | G45: zlepšiť, resp. zachovať priaznivý stav biotopu | H45: Drevinová skladba, štruktúra porastu, stanovištné podmienky | I45: Iba v prípade realizácie lesohospodárskych zásahov.
A46: Lesy Kozelník | B46: Ls3.1 Teplomilné submediteránne dubové lesy | C46: 368 | D46: 10.54 | F46: Bez zásahu | G46: zlepšiť, resp. zachovať priaznivý stav biotopu | H46: Drevinová skladba, štruktúra porastu, stanovištné podmienky | I46: Iba v prípade realizácie lesohospodárskych zásahov.
A47: Lesy Kozelník | B47: Ls3.3 Dubové nátržnikové lesy | C47: 392a | D47: 6.45 | F47: Management v zmysle Manuálu, príloha č. VI. | G47: zlepšiť, resp. zachovať priaznivý stav biotopu | H47: Drevinová skladba, štruktúra porastu, stanovištné podmienky | I47: Iba v prípade realizácie lesohospodárskych zásahov.
A48: Lesy Kozelník | B48: Ls3.51 Sucho- a kyslomilné dubové lesy | C48: 307 1, 307 2, 307 3, 307 4, 308a1, 308a2, 374 1, 374 2, 382b | D48: 32.19 | F48: Management v zmysle Manuálu, príloha č. VI. | G48: zlepšiť, resp. zachovať priaznivý stav biotopu | H48: Drevinová skladba, štruktúra porastu, stanovištné podmienky | I48: Iba v prípade realizácie lesohospodárskych zásahov. | J48: JPRL 374 1 zásah v súlade manažmentom pre plnenie cieľov LVSP, priaznivej drev.skladb, štruktúry a stanovištné podmienky.
A49: Lesy Kozelník | B49: Ls4 Lipovo-javorovo sutinové lesy | C49: 154a, 254, 262a, 263b1, 263b2, 320b | D49: 0.69 | F49: Bez zásahu | G49: zlepšiť, resp. zachovať priaznivý stav biotopu | H49: Drevinová skladba, štruktúra porastu, stanovištné podmienky | I49: Iba v prípade realizácie lesohospodárskych zásahov.
A50: Obecné lesy Banská Belá | B50: Ls4 Lipovo-javorovo sutinové lesy | C50: 563 | D50: 0.67 | F50: Bez zásahu | G50: zlepšiť, resp. zachovať priaznivý stav biotopu | H50: Druhová skladba, stanovištné podmienky | I50: Iba v prípade realizácie lesohospodárskych zásahov.
A51: Šášov | B51: Ls1.3 Jaseňovo-jelšové podhorské lužné lesy | C51: 116 1 | D51: 6.98 | F51: Management v zmysle Manuálu, príloha č. VI. | G51: zlepšiť, resp. zachovať priaznivý stav biotopu | H51: Druhová skladba, stanovištné podmienky | I51: Iba v prípade realizácie lesohospodárskych zásahov.
A52: Šášov | B52: Ls3.1 Teplomilné submediteránne dubové lesy | C52: 1320a | F52: Bez zásahu | G52: zlepšiť, resp. zachovať priaznivý stav biotopu | H52: Druhová skladba, stanovištné podmienky | I52: Iba v prípade realizácie lesohospodárskych zásahov.
A53: Šášov | B53: Ls3.51 Sucho- a kyslomilné dubové lesy | C53: 672, 673a | D53: 14.17 | F53: Bez zásahu | G53: zlepšiť, resp. zachovať priaznivý stav biotopu | H53: Druhová skladba, stanovištné podmienky | I53: Iba v prípade realizácie lesohospodárskych zásahov.
A54: Šášov | B54: Ls3.51 Sucho- a kyslomilné dubové lesy | C54: 1228b | D54: 6.96 | F54: Management v zmysle Manuálu, príloha č. VI. | G54: zlepšiť, resp. zachovať priaznivý stav biotopu | H54: Druhová skladba, stanovištné podmienky | I54: Iba v prípade realizácie lesohospodárskych zásahov.
A55: Šášov | B55: Ls4 Lipovo-javorovo sutinové lesy | C55: 89a, 186, 195, 196, 199, 200, 201, 234, 235, 236, 241, 273a, 273b, 273c, 277a, 277b, 305 1, 305 2, 306, 308, 337, 338a, 346, 663, 678, 680a, 680b, 682a, 682b, 683, 1001c, 1003a, 1007a, 1034, 1045, 1069c, 1073a, 1073c, 1079d, 1112b, 1134, 1140, 1159, 1214, 1330, 1343 | D55: 46.86 | F55: Bez zásahu | G55: zlepšiť, resp. zachovať priaznivý stav biotopu | H55: Druhová skladba, stanovištné podmienky | I55: Iba v prípade realizácie lesohospodárskych zásahov. | J55: JPRL 1343 - zásah v súlade manažmentom pre plnenie cieľov LVSP, priaznivej drev.skladb, štruktúry a stanovištné podmienky. sprac. kalamity - nebezpečie naklonených vývratov | K55: JPRL 1343 - zásah v súlade manažmentom pre plnenie cieľov LVSP, priaznivej drev.skladb, štruktúry a stanovištné podmienky, podľa predpisu PSL VÚ +50r, 2,00 ha. (14.8.2023)
A56: Partizánske | B56: Ls1.3 Jaseňovo-jelšové podhorské lužné lesy | C56: 3013, 4565,2331A,2331B, 2352B,2466B, 2598, 3177D, 3358, 4455, 4464B | D56: 19.57 | E56: ochrana stanovišťa | F56: druhové zloženie | G56: 2022 | I56: časť porastu | J56: 91 E0 | K56: ochrana stanovišťa | L56: druhové zloženie | M56: 2022 | O56: časť porastu | P56: 91 E0
A57: Partizánske | B57: Ls.3.1 Teplomilné submediteránne dubové lesy | C57: 3134, 3178a, 3178b, 3179a, 3180a, 3213a,3177d, 3180b, 3181 1., 3207a, 3210,2117b 2., 2145c, 2283, 2375, 2402b, 2469, 2471,2018, 2128, 2141 1., 2142b, 2149 1., 2161, 2162, 2163, 2165, 2174, 2175, 2178a, 2229, 2264, 2281a 1., 2281a 2., 2285, 2286, 2288, 2289, 2291, 2300, 2301, 2302, 2303, 2322, 2361a 2., 2361b, 2404, 2405b, 2407, 2417a, 2470, 2472, 2479 | D57: 461.86 | E57: ochrana stanovišťa | F57: druhové zloženie | G57: 2022 | I57: časť porastu | J57: 91H0 | K57: ochrana stanovišťa | L57: druhové zloženie | M57: 2022 | O57: časť porastu | P57: 91H0
A58: Partizánske | B58: Ls 3.3 Dubové nátržnikové lesy | C58: 4444b, 4448a, 4448b, 4449, 4450b, 4451a, 4458a | D58: 64.03 | E58: ochrana stanovišťa | F58: druhové zloženie | G58: 2022 | J58: 91I0 | K58: ochrana stanovišťa | L58: druhové zloženie | M58: 2022 | P58: 91I0
A59: Partizánske | B59: Ls 3.51 Sucho a kyslomilné dubové lesy | C59: 2437 | D59: 7.06 | E59: ochrana stanovišťa | F59: druhové zloženie | G59: 2022 | K59: ochrana stanovišťa | L59: druhové zloženie | M59: 2022
A60: Partizánske | B60: Ls 3.52 Sucho a kyslomilné dubové lesy | C60: 2481B | D60: 5.78 | J60: 91I0 | P60: 91I0
A61: Partizánske | B61: Ls 4 lipovo-javorové sutinové lesy(och.char.) | C61: 3251,3020, 3022 2., 3022 3., 3110 1., 3110 2., 3114b 2., 3391 3., 3393a 2., 3393a 3.,4122, 4124a, 4124b, 4127, 4133, 4140, 4187,4231, 4091 1., 4095 1., 4095 2., 4098a 1., 4098a 2., 4100a, 4100b, 4106c, 4115a, 4117a, 4117b, 4123a, 4124c, 4128a, 4128b, 4132a 1., 4132b, 4135c, 4136 1., 4139 1., 4139 4., 4142 1., 4142 2., 4145 1., 4150a, 4150b 3., 4190 1., 4190 2., 4191 1., 4191 2., 4192, 4193b, 4230 1., 4230 2., 4230 3., 4232 1., 4232 2., 4238, 4239, 4241a 4., 4243 3., 4245c, 4246, 4253d, 4254a 2., 4254a 3., 4254c, 4279a, 4279b, 4308a, 4311a, 4312b,2482,2431 1., 2431 2., 2431 3., 2433, 2434, 2481b 2., 2484b, 2485c, 2554a, 2554c, 2575a 2., 2575b, 2575c | D61: 464.06 | J61: 9180 | P61: 9180
A62: Nová Baňa | B62: Ls3.3 Dubové nátržnikové lesy | C62: 2524, 2525, 2529b | D62: 15.94 | F62: Management v zmysle Manuálu, príloha č. VI. | G62: zlepšiť, resp. zachovať priaznivý stav biotopu | H62: Drevinová skladba, štruktúra porastu, stanovištné podmienky | I62: Iba v prípade realizácie lesohospodárskych zásahov. | J62: Bez zmien | L62: Bez zmien
A63: Nová Baňa | B63: Ls3.51 Sucho- a kyslomilné dubové lesy | C63: 2514, 2515 | D63: 17.27 | F63: Management v zmysle Manuálu, príloha č. VI. | G63: zlepšiť, resp. zachovať priaznivý stav biotopu | H63: Drevinová skladba, štruktúra porastu, stanovištné podmienky | I63: Iba v prípade realizácie lesohospodárskych zásahov. | J63: Bez zmien | L63: Bez zmien
A64: Žarnovica | B64: Ls1.2 Dubovo-brestovo-jaseňové nížinné lužné lesy | C64: 1241 | D64: 0.24 | F64: Management v zmysle Manuálu, príloha č. VI. | G64: zlepšiť, resp. zachovať priaznivý stav biotopu | H64: Druhová skladba, stanovištné podmienky | I64: Iba v prípade realizácie lesohospodárskych zásahov. | J64: Bez zmien | L64: Bez zmien
A65: Žarnovica | B65: Ls1.3 Jaseňovo-jelšové podhorské lužné lesy | C65: 453, 481 1, 527a1, 527c, 528a, 552a, 625, 626a1, 626a2 | D65: 63.6 | F65: Management v zmysle Manuálu, príloha č. VI. | G65: zlepšiť, resp. zachovať priaznivý stav biotopu | H65: Druhová skladba, stanovištné podmienky | I65: Iba v prípade realizácie lesohospodárskych zásahov. | J65: Bez zmien | L65: Bez zmien
A66: Žarnovica | B66: Ls3.1 Teplomilné submediteránne dubové lesy | C66: 235a, 241, 251, 254, 479, 484, 492, 1758a | D66: 52.59 | F66: Bez zásahu | G66: zlepšiť, resp. zachovať priaznivý stav biotopu | H66: Druhová skladba, stanovištné podmienky | I66: Iba v prípade realizácie lesohospodárskych zásahov. | J66: Bez zmien | L66: Bez zmien
A67: Žarnovica | B67: Ls3.1 Teplomilné submediteránne dubové lesy | C67: 491 1, 1343a, 1757b | D67: 19.99 | F67: Management v zmysle Manuálu, príloha č. VI. | G67: zlepšiť, resp. zachovať priaznivý stav biotopu | H67: Druhová skladba, stanovištné podmienky | I67: Iba v prípade realizácie lesohospodárskych zásahov. | J67: Bez zmien | L67: Bez zmien
A68: Žarnovica | B68: kombinácia Ls3.1 a Ls4 | C68: 487 | D68: 12.67 | F68: Bez zásahu | G68: zlepšiť, resp. zachovať priaznivý stav biotopu | H68: Druhová skladba, stanovištné podmienky | I68: Iba v prípade realizácie lesohospodárskych zásahov. | J68: Bez zmien | L68: Bez zmien
A69: Žarnovica | B69: Ls3.51 Sucho- a kyslomilné dubové lesy | C69: 1675, 1679 | D69: 23.14 | F69: Bez zásahu | G69: zlepšiť, resp. zachovať priaznivý stav biotopu | H69: Druhová skladba, stanovištné podmienky | I69: Iba v prípade realizácie lesohospodárskych zásahov. | J69: Bez zmien | L69: Bez zmien
A70: Žarnovica | B70: Ls3.51 Sucho- a kyslomilné dubové lesy | C70: 213 3, 213 4, 257c, 290a, 290c, 1677a2 | D70: 14.79 | F70: Management v zmysle Manuálu, príloha č. VI. | G70: zlepšiť, resp. zachovať priaznivý stav biotopu | H70: Druhová skladba, stanovištné podmienky | I70: Iba v prípade realizácie lesohospodárskych zásahov. | J70: Bez zmien | L70: Bez zmien
A71: Žarnovica | B71: Ls4 Lipovo-javorovo sutinové lesy | C71: 309, 412, 413, 447, 452, 467, 485, 488, 517, 520a, 520b, 521, 529c, 543b, 545a, 545b, 546a, 548a, 554, 557a, 557b, 558, 559, 560a, 561, 566, 570a, 570b, 577a, 577b, 813, 1305a, 1307a, 1311, 1312, 1321b, 1353, 1354a, 1354b, 1355a, 1355b, 1663b, 1663c, 1669, 1670a, 1670b, 1670c, 1672a, 1672b, 1725b, 1730, 1740, 1741a, 1741b, 1742a, 1742b, 1743, 1744, 1760, 1762a, 1762b | D71: 473.96 | F71: Bez zásahu | G71: zlepšiť, resp. zachovať priaznivý stav biotopu | H71: Druhová skladba, stanovištné podmienky | I71: Iba v prípade realizácie lesohospodárskych zásahov. | J71: Bez zmien | L71: Bez zmien
A72: Žiar | B72: Ls4 Lipovo-javorovo sutinové lesy | C72: 1196, 1197, 1208b, 1293, 1333, 1341a, 1369, 1375a, 1375b, 1389a, 1390a, 1413, 1453a, 1453b, 1454a, 1454b, 1455b, 1470a, 1476 1, 1488, 1502, | D72: 232.53 | F72: Bez zásahu | G72: zlepšiť, resp. zachovať priaznivý stav biotopu | H72: Druhová skladba, stanovištné podmienky | I72: Iba v prípade realizácie lesohospodárskych zásahov. | J72: Bez zmien | L72: Bez zmien
A73: Brod | B73: Ls1.3 Jaseňovo-jelšové podhorské lužné lesy | C73: 1405d | D73: 0.82 | F73: Management v zmysle Manuálu, príloha č. VI. | G73: zlepšiť, resp. zachovať priaznivý stav biotopu | H73: Drevinová skladba, štruktúra porastu, stanovištné podmienky | I73: Iba v prípade realizácie lesohospodárskych zásahov. | J73: bez zásahu | K73: bez zásahu
A74: Brod | B74: kombinácia Ls3.1 a Ls4 | C74: 1517 | D74: 6.27 | F74: Bez zásahu | G74: zlepšiť, resp. zachovať priaznivý stav biotopu | H74: Drevinová skladba, štruktúra porastu, stanovištné podmienky | I74: Iba v prípade realizácie lesohospodárskych zásahov. | J74: bez zásahu | K74: bez zásahu
A75: Brod | B75: Ls4 Lipovo-javorovo sutinové lesy | C75: 96, (182c), 190, 219a, 219c, 251, 264a, 269 1, 284a, 294, 298, 309, 318a, 319, 343a, 343b, 360a, 385, 404, 422, 446, 1054, 1183a2, 1354, 1360a, 1360b, 136a, 1456a, 1483, 1493a, 1494, 1510a, 1510b, 1510c, 1513a, 1513c, 1514, 1515 | D75: 225.1 | F75: Bez zásahu | G75: zlepšiť, resp. zachovať priaznivý stav biotopu | H75: Drevinová skladba, štruktúra porastu, stanovištné podmienky | I75: Iba v prípade realizácie lesohospodárskych zásahov. | J75: Priaznivý stav biotopu zostal zachovaný
A76: Žiar | B76: Ls1.3 Jaseňovo-jelšové podhorské lužné lesy | C76: 2134, 2186a1 | D76: 9.04 | F76: Management v zmysle Manuálu, príloha č. VI. | G76: zlepšiť, resp. zachovať priaznivý stav biotopu | H76: Druhová skladba, stanovištné podmienky | I76: Iba v prípade realizácie lesohospodárskych zásahov. | J76: monitoring pochôdzkou:
A77: Žiar | B77: Ls3.1 Teplomilné submediteránne dubové lesy | C77: 4010 | D77: 3.22 | F77: Bez zásahu | G77: zlepšiť, resp. zachovať priaznivý stav biotopu | H77: Druhová skladba, stanovištné podmienky | I77: Iba v prípade realizácie lesohospodárskych zásahov.
A78: Žiar | B78: Ls3.51 Sucho- a kyslomilné dubové lesy | C78: 4358b | D78: 28.07 | F78: Bez zásahu | G78: zlepšiť, resp. zachovať priaznivý stav biotopu | H78: Druhová skladba, stanovištné podmienky | I78: Iba v prípade realizácie lesohospodárskych zásahov.
A79: Žiar | B79: Ls3.51 Sucho- a kyslomilné dubové lesy | C79: 4130 | D79: 4.94 | F79: Management v zmysle Manuálu, príloha č. VI. | G79: zlepšiť, resp. zachovať priaznivý stav biotopu | H79: Druhová skladba, stanovištné podmienky | I79: Iba v prípade realizácie lesohospodárskych zásahov.
A80: Žiar | B80: Ls4 Lipovo-javorovo sutinové lesy | C80: 2040, 3151b, 3155, 3162, 3222a, 5020a, 5020c, 5020d, 5020f, 5031 1, 5101, 5103b, 5106, 5112, 5159a, 5159b, 5159d, 5161a, 5161b, 5161d, 5162, 5166 1, 5166 2, 5169b, 5181b, 5184, 5187a, 5187b, 5188b, 5188d, 5190 1, 5192, 5193 1, 5193 2, 5195, 5218, 5229, 5230, 5238, 5251c,5277a, 5277c, 5283a, 5283b, 5285a, 5285b, 5286a, 5286b, 5287, 5345b, 5363b, 5364a, 5366a, 5367b, 5368b, 5369a, 5369b, 5370a, 5370b, 5372, 5373 1 | D80: 255.71 | F80: Bez zásahu | G80: zlepšiť, resp. zachovať priaznivý stav biotopu | H80: Druhová skladba, stanovištné podmienky | I80: Iba v prípade realizácie lesohospodárskych zásahov.
D81: =SUM(D4:D80) -> 4932.26

Sheet 3.2.prírodné lesy prales
A1: 3.2.Pralesy a prírodné lesy s charakterom pralesa
A3: Názov územia | B3: Kategória | C3: LHC | D3: JPRL | E3: Výmera (ha) | F3: manažment | G3: Cieľ LVSV | H3: monitorovací indikátor | I3: monitoring | J3: výsledok monitoringu | K3: Poznámka
A4: Balov grúň | B4: pralesový zvyšok | C4: Lesy Kozelník | D4: 258a, 262a, 270, 272 | E4: 46.9 | F4: Bez zásahu | G4: zachovanie charakteristických vlastností pralesa a jeho integrity | H4: plocha pralesa sa nezmenšuje, typické druhy pralesa sú zachované, množstvo a kvalita mŕtveho dreva, stromy blízko fyzického veku | I4: sledujú sa zásahy do pralesov a vplyv zásahov v okolí pralesov | J4: bez zásahu | K4: bez zásahu
A5: Brdo | B5: pralesový zvyšok | C5: Lesy Kozelník | D5: 206, 208 | E5: 13.1 | F5: Bez zásahu | G5: zachovanie charakteristických vlastností pralesa a jeho integrity | H5: plocha pralesa sa nezmenšuje, typické druhy pralesa sú zachované, množstvo a kvalita mŕtveho dreva, stromy blízko fyzického veku | I5: sledujú sa zásahy do pralesov a vplyv zásahov v okolí pralesov | J5: bez zásahu | K5: bez zásahu
A6: Brveno | B6: pralesový zvyšok | C6: Šášov | D6: 1044a, 1044b | E6: 18.32 | F6: Bez zásahu | G6: zachovanie charakteristických vlastností pralesa a jeho integrity | H6: plocha pralesa sa nezmenšuje, typické druhy pralesa sú zachované, množstvo a kvalita mŕtveho dreva, stromy blízko fyzického veku | I6: sledujú sa zásahy do pralesov a vplyv zásahov v okolí pralesov | J6: bez zásahu | K6: bez zásahu
A7: Demian | B7: pralesový zvyšok | C7: Šášov | D7: 1001a, 1001c, 1002a, 1003a | E7: 34.47 | F7: Bez zásahu | G7: zachovanie charakteristických vlastností pralesa a jeho integrity | H7: plocha pralesa sa nezmenšuje, typické druhy pralesa sú zachované, množstvo a kvalita mŕtveho dreva, stromy blízko fyzického veku | I7: sledujú sa zásahy do pralesov a vplyv zásahov v okolí pralesov | J7: bez zásahu | K7: bez zásahu
A8: Suť | B8: prales | C8: Šášov | D8: 1134, 1136, 1137 1, 1137 3, 1073a | E8: 46.05 | F8: Bez zásahu | G8: zachovanie charakteristických vlastností pralesa a jeho integrity | H8: plocha pralesa sa nezmenšuje, typické druhy pralesa sú zachované, množstvo a kvalita mŕtveho dreva, stromy blízko fyzického veku | I8: sledujú sa zásahy do pralesov a vplyv zásahov v okolí pralesov | J8: bez zásahu | K8: bez zásahu
A9: Drastvica | B9: prales | C9: Žarnovica | D9: 813, 543b, 543a, 521, 520a, 519 1, 1761, 1760, 1759, 1745a, 1744, 1743, 1742b, 1742a, 1741a, 1740, 1739a, 1738a, 1737a | E9: 108.96 | F9: Bez zásahu | G9: zachovanie charakteristických vlastností pralesa a jeho integrity | H9: plocha pralesa sa nezmenšuje, typické druhy pralesa sú zachované, množstvo a kvalita mŕtveho dreva, stromy blízko fyzického veku | I9: sledujú sa zásahy do pralesov a vplyv zásahov v okolí pralesov | J9: Bez zmien | L9: Bez zmien
A10: Vtáčnik | B10: prales | C10: Žiar | D10: 1209 | E10: 23.11 | F10: Bez zásahu | G10: zachovanie charakteristických vlastností pralesa a jeho integrity | H10: plocha pralesa sa nezmenšuje, typické druhy pralesa sú zachované, množstvo a kvalita mŕtveho dreva, stromy blízko fyzického veku | I10: sledujú sa zásahy do pralesov a vplyv zásahov v okolí pralesov | J10: Bez zmien | L10: Bez zmien
A11: Vtáčnik | B11: prales | C11: Brod | D11: 182a, 183a, 193a | E11: 0 | F11: Bez zásahu | G11: zachovanie charakteristických vlastností pralesa a jeho integrity | H11: plocha pralesa sa nezmenšuje, typické druhy pralesa sú zachované, množstvo a kvalita mŕtveho dreva, stromy blízko fyzického veku | I11: sledujú sa zásahy do pralesov a vplyv zásahov v okolí pralesov | J11: bez zásahu | K11: bez zásahu
A12: Dolný chlm | B12: prales | C12: Žiar | D12: 5239, 5241a, 5241b, 5243a, 5244a, 5245, 5251a | E12: 53.21 | F12: Bez zásahu | G12: zachovanie charakteristických vlastností pralesa a jeho integrity | H12: plocha pralesa sa nezmenšuje, typické druhy pralesa sú zachované, množstvo a kvalita mŕtveho dreva, stromy blízko fyzického veku | I12: sledujú sa zásahy do pralesov a vplyv zásahov v okolí pralesov
A13: Klzký vrch | B13: prales | C13: Žiar | D13: 5102, 5104 | E13: 38.48 | F13: Bez zásahu | G13: zachovanie charakteristických vlastností pralesa a jeho integrity | H13: plocha pralesa sa nezmenšuje, typické druhy pralesa sú zachované, množstvo a kvalita mŕtveho dreva, stromy blízko fyzického veku | I13: sledujú sa zásahy do pralesov a vplyv zásahov v okolí pralesov
A14: Sekaniny | B14: prales | C14: Žiar | D14: 5251b, 5252, 5255 | E14: 20.16 | F14: Bez zásahu | G14: zachovanie charakteristických vlastností pralesa a jeho integrity | H14: plocha pralesa sa nezmenšuje, typické druhy pralesa sú zachované, množstvo a kvalita mŕtveho dreva, stromy blízko fyzického veku | I14: sledujú sa zásahy do pralesov a vplyv zásahov v okolí pralesov
A15: Snoža | B15: prales | C15: Žiar | D15: 5059 | E15: 11.34 | F15: Bez zásahu | G15: zachovanie charakteristických vlastností pralesa a jeho integrity | H15: plocha pralesa sa nezmenšuje, typické druhy pralesa sú zachované, množstvo a kvalita mŕtveho dreva, stromy blízko fyzického veku | I15: sledujú sa zásahy do pralesov a vplyv zásahov v okolí pralesov
E16: =SUM(E4:E15) -> 414.1

Sheet 3.3. prirodzený výskyt tisa
A1: 3.3. LESY S VÝZNAMNÝM PRIRODZENÝM VÝSKYTOM TISA OBYČAJNÉHO
A3: Názov územia/lokalita | B3: Kategória CHÚ | C3: LHC | D3: JPRL | E3: Výmera (ha) | F3: manažment | G3: Cieľ LVSV | H3: Monitorovací indikátor | I3: monitoring | J3: výsledok monitoringu | K3: poznámka
A4: Kamenný jarok | B4: PR | C4: Šášov | D4: 236 | E4: 5.12 | F4: Bez zásahu | G4: zachovanie alebo zvýšenie početnosti tisa | H4: stav tisov (zmladenie, miera poškodenia) | I4: pri obnove certifikátu | J4: poznámka: (10.8.2021 vykonaná revízia CHÚ) | K4: poznámka: (10.8.2021 vykonaná revízia CHÚ)
C5: Šášov | D5: 238b, 240, 247 | E5: 24.1 | F5: Manažment v zmysle Manuále pre kategóriu 3.3 | G5: zachovanie alebo zvýšenie početnosti tisa | H5: stav tisov (zmladenie, miera poškodenia) | I5: pri obnove certifikátu | J5: poznámka: (10.8.2021 vykonaná revízia CHÚ) | K5: poznámka: (10.8.2021 vykonaná revízia CHÚ)
C6: Brod | D6: 1009a, 1024a | E6: 24.04 | F6: Manažment v zmysle Manuále pre kategóriu 3.3 | G6: zachovanie alebo zvýšenie početnosti tisa | H6: stav tisov (zmladenie, miera poškodenia) | I6: pri obnove certifikátu
E7: =SUM(E4:E6) -> 53.26

Sheet 4.1pôdoochranná funkcia 
A1: 4.1. LESY S VÝZNAMNOU PODOCHRANNOU FUNKCIOU - ochranné lesy
A4: LHC | B4: lokalita/miestny názov | C4: JPRL/súbor JPRL | D4: Výmera (ha) | E4: k.ú. | F4: manažment | G4: Cieľ LVSV | H4: Monitorovací indikátor | I4: monitoring | J4: výsledok monitoringu | K4: poznámka
A5: Topoľčianky - Žitavany | C5: 59-59, 72A-72A, 75A-75B, 175A-177, 207B-207B, 219-219, 230A-230A, 230C-230C, 234-234, 237-237, 246A-247, 219A-219A, 342A-342C, 1003-1003, 1010-1011, 1064-1064, 1086-1086, 1092-1092, 1123-1123, 1131A-1131B, 1152-1152, 1211-1222, 1229A-1232, 1241A-1241A, 1244A-1244B, 1261-1261, 1263A-1263B, 1283A-1283B, 1285-1287, 1314A-1314B, 1324A-1324B, 1332A-1337C, 1367-1367, 71A-71B, 72B-72B, 183-183, 226A-226B, 230B-230B, 238-238, 319B-319B, 1082-1082, 1144-1144, 1185-1185, 1192A-1192B, 1201-1201, 1241B-1241B, 1252-1252, 1304-1304, 1338-1338, 1368-1368 | D5: 444.01 | F5: Bez zásahu | G5: zachovanie a posilnenie pôdoochrannej funkcie lesa | H5: prejavy erózie, zosuvov a iných geodynamických javov, efektivta a dopad priotieróznych opatrení | I5: ročne
A6: Skýcov | C6: 10B-10B, 14-14, 25-25, 65A-65B, 77A-77B, 85-85, 87-87, 91-91, 96-96 102-102, 110-110, 113B-113B, 153-153, 156-156, 168-168, 174-174, 177-177, 180-180, 182-182, 185-185, 187-188, 193-193, 195A-195B, 200-200, 203-204, 213-213, 217-218, 233-233, 243-243, 253-253, 255-255, 294-294, 305-305, 310-310, 312-312, 329-329, 335A-335B, 369-369, 10A-10A, 69-69, 101-101, 107-107, 113A-113A, 137-138, 147-147, 149-149, 155A-155B, 161-161, 178-178, 183-183, 247-247, 250-250, 315-315 | D6: 359.27 | F6: Bez zásahu | G6: zachovanie a posilnenie pôdoochrannej funkcie lesa | H6: prejavy erózie, zosuvov a iných geodynamických javov, efektivta a dopad priotieróznych opatrení | I6: ročne
A7: Jedľové Kostoľany | C7: 101, 103a, 103b, 104, 114b, 116, 118, 122a, 15, 173 1., 34b, 91a | D7: 50.77 | F7: Bez zásahu | G7: zachovanie a posilnenie pôdoochrannej funkcie lesa | H7: prejavy erózie, zosuvov a iných geodynamických javov, efektivta a dopad priotieróznych opatrení | I7: ročne
A8: Jedľové Kostoľany | C8: 105, 114c, 125a, 125b, 144a, 144b, 148, 152a, 154, 155, 161, 173 20, 200, 23c, 29, 31, 34a, 78, 94a, 94b | D8: 151.54 | F8: Manažment v zmysle Manuálu pre kategóriu 4.1 | G8: zachovanie a posilnenie pôdoochrannej funkcie lesa | H8: prejavy erózie, zosuvov a iných geodynamických javov, efektivta a dopad priotieróznych opatrení | I8: ročne
A9: Hrušov | C9: 11a, 12 10, 12 20, 14, 18, 110a, 110b, 135a, 135b, 15 10, 155, 156, 275, 289, 29, 313, 36, 401, 56a 10, 56a 20, 56b | D9: 148.27 | F9: Bez zásahu | G9: zachovanie a posilnenie pôdoochrannej funkcie lesa | H9: prejavy erózie, zosuvov a iných geodynamických javov, efektivta a dopad priotieróznych opatrení | I9: ročne
A10: Hrušov | C10: 169 | D10: 3.48 | F10: Manažment v zmysle Manuálu, príloha č. II. | G10: zachovanie a posilnenie pôdoochrannej funkcie lesa | H10: prejavy erózie, zosuvov a iných geodynamických javov, efektivta a dopad priotieróznych opatrení | I10: ročne
A11: Hrušov | C11: 297 | D11: 28.73 | F11: Manažment v zmysle Manuálu, príloha č. VI. | G11: zachovanie a posilnenie pôdoochrannej funkcie lesa | H11: prejavy erózie, zosuvov a iných geodynamických javov, efektivta a dopad priotieróznych opatrení | I11: ročne
A12: Topoľčianky a Žitavany | C12: 71b, 72a, 226a, 226b, 238 | D12: 23.96 | F12: Bez zásahu | G12: zachovanie a posilnenie pôdoochrannej funkcie lesa | H12: prejavy erózie, zosuvov a iných geodynamických javov, efektivta a dopad priotieróznych opatrení | I12: ročne
A13: Topoľčianky a Žitavany | C13: 71a, 72b, 75a, 75b | D13: 41.79 | F13: Manažment v zmysle Manuálu pre kategóriu 4.1 | G13: zachovanie a posilnenie pôdoochrannej funkcie lesa | H13: prejavy erózie, zosuvov a iných geodynamických javov, efektivta a dopad priotieróznych opatrení | I13: ročne
A14: Topoľčianky a Žitavany | C14: 319a, 319b | D14: 9.64 | F14: Manažment v zmysle Manuálu, príloha č. VI. | G14: zachovanie a posilnenie pôdoochrannej funkcie lesa | H14: prejavy erózie, zosuvov a iných geodynamických javov, efektivta a dopad priotieróznych opatrení | I14: ročne
A15: Jelenec | C15: 180a, 206a, 206c, 219a, 243, 25, 271, 320, 323, 384, 400, 411, 42, 432a, 432b, 447, 461a, 472, 474, 475, 486, 491, 503a, 51 1., 94 | D15: 125.51 | F15: Bez zásahu | G15: zachovanie a posilnenie pôdoochrannej funkcie lesa | H15: prejavy erózie, zosuvov a iných geodynamických javov, efektivta a dopad priotieróznych opatrení | I15: ročne | J15: Bez zásahu
A16: Jelenec | C16: 13, 14, 144, 195, 206b, 206d, 219b, 321 2., 321 3., 322 2., 322 3., 349, 377b, 377c, 436, 460, 461b, 463, 503b, 51 2., 63, 64, 70, 88, 89, 90, 91, 92, 93 | D16: 90.74 | F16: Manažment v zmysle Manuálu pre kategóriu 4.1 | G16: zachovanie a posilnenie pôdoochrannej funkcie lesa | H16: prejavy erózie, zosuvov a iných geodynamických javov, efektivta a dopad priotieróznych opatrení | I16: ročne | J16: Bez zásahu
A17: Jelenec | C17: 180b, 262, 322 1., 377a | D17: 18.41 | F17: Manažment v zmysle Manuálu, príloha č. II. | G17: zachovanie a posilnenie pôdoochrannej funkcie lesa | H17: prejavy erózie, zosuvov a iných geodynamických javov, efektivta a dopad priotieróznych opatrení | I17: ročne | J17: 180B00: 2023 OU JV 168,08 m3
A18: Jelenec | C18: 321 1. | D18: 4.56 | F18: Manažment v zmysle Manuálu, príloha č. VI. | G18: zachovanie a posilnenie pôdoochrannej funkcie lesa | H18: prejavy erózie, zosuvov a iných geodynamických javov, efektivta a dopad priotieróznych opatrení | I18: ročne | J18: Bez zásahu
A19: Nitrianska Streda | C19: 1012, 1056, 1062, 1068, 1105, 1134a, 1134b, 1142a, 1142b, 1142c, 1144a, 1144c, 1144d, 1144e, 1148, 1151, 1161a, 1168, 1170, 1176, 1273, 1274, 1280, 1286, 1289a, 1289b, 1294, 1298a, 1298b, 1304, 1313, 1321 1., 1323, 1324, 1326a, 1326b, 1328, 1330, 1335, 1369a, 1420, 1430b, 1444a, 1444b, 1445a, 1445b, 1446, 1453, 1488, 1489, 1527b, 1527c, 1527d, 1527e, 1528, 1529, 1549a, 1549b, 1612, 1623, 1660a, 1660c, 1734, 1751, 1754, 1802, 1803, 1804, 1805, 1806a, 1807, 1812, 1815, 1891, 1898, 1902 | D19: 230.47 | F19: Bez zásahu | G19: zachovanie a posilnenie pôdoochrannej funkcie lesa | H19: prejavy erózie, zosuvov a iných geodynamických javov, efektivta a dopad priotieróznych opatrení | I19: ročne | J19: 1660C00: 2022 MR vyňatie 26,32/0,17ha,
A20: Nitrianska Streda | C20: 1006a, 1006b, 1008, 1014, 1023a, 1023b, 1024a, 1024b, 1035, 1037a, 1037b, 1087, 1098a, 1098b, 1144b, 1161b, 1219, 1264, 1268a, 1268b, 1300, 1305, 1307, 1317, 1340, 1346, 1347, 1365, 1369b, 1372, 1392, 1422, 1461, 1465, 1527a, 1580, 1628, 1653, 1654, 1660b, 1661, 1662, 1745, 1801, 1806b, 1813, 1814 | D20: 182.25 | F20: Manažment v zmysle Manuálu pre kategóriu 4.1 | G20: zachovanie a posilnenie pôdoochrannej funkcie lesa | H20: prejavy erózie, zosuvov a iných geodynamických javov, efektivta a dopad priotieróznych opatrení | I20: ročne | J20: 1661 00: MR vyňatie 12,00/0,22ha,
A21: Nitrianska Streda | C21: 1137, 1193, 1321 2. | D21: 25.52 | F21: Manažment v zmysle Manuálu, príloha č. VI. | G21: zachovanie a posilnenie pôdoochrannej funkcie lesa | H21: prejavy erózie, zosuvov a iných geodynamických javov, efektivta a dopad priotieróznych opatrení | I21: ročne | J21: Bez zásahu
A22: Zobor | C22: 101, 116, 122, 138, 200b, 22a, 22b, 256c, 269b, 276b, 284, 332a, 33a, 351b, 368, 373, 376, 377, 382, 75a, 78, 95 | D22: 115.31 | F22: Bez zásahu | G22: zachovanie a posilnenie pôdoochrannej funkcie lesa | H22: prejavy erózie, zosuvov a iných geodynamických javov, efektivta a dopad priotieróznych opatrení | I22: ročne | J22: Bez zásahu | K22: 312b, 314, 315 odovzdané Urbár Drážovce
A23: Zobor | C23: 7, 187, 189, 190, 191, 192, 193, 194, 195, 196, 197, 201, 222, 233a, 233b, 242, 244, 251, 254, 256b, 267, 269a, 26b, 273a, 273b, 274, 276a, 279, 31a, 31b, 33b, 350b, 360, 365, 383, 384, 385a, 385b, 385c, 386a, 386b, 75b, 802b | D23: 287.94 | F23: Manažment v zmysle Manuálu pre kategóriu 4.1 | G23: zachovanie a posilnenie pôdoochrannej funkcie lesa | H23: prejavy erózie, zosuvov a iných geodynamických javov, efektivta a dopad priotieróznych opatrení | I23: ročne | J23: Bez zásahu | K23: 305, 308, 309, 310, 311, 312a, 312c, 313a, 313b, 316, 806 odvzdane Urbár Drážovce
A24: Zobor | C24: 28, 256a, 269c | D24: 40.41 | F24: Manažment v zmysle Manuálu, príloha č. II. | G24: zachovanie a posilnenie pôdoochrannej funkcie lesa | H24: prejavy erózie, zosuvov a iných geodynamických javov, efektivta a dopad priotieróznych opatrení | I24: ročne | J24: Bez zásahu
A25: Zobor | C25: 26a, 71, 139, 200a, 351a | D25: 50.87 | F25: Manažment v zmysle Manuálu, príloha č. VI. | G25: zachovanie a posilnenie pôdoochrannej funkcie lesa | H25: prejavy erózie, zosuvov a iných geodynamických javov, efektivta a dopad priotieróznych opatrení | I25: ročne | J25: Bez zásahu
A26: Banská Štiavnica II. | C26: 1992a, 1999 | F26: Bez zásahu | G26: zachovanie a posilnenie pôdoochrannej funkcie lesa | H26: prejavy erózie, zosuvov a iných geodynamických javov, efektivta a dopad priotieróznych opatrení | I26: ročne | J26: prejavy erózie, zosuvov neboli zaznamenané | K26: prejavy erózie, zosuvov neboli zaznamenané
A27: Banská Štiavnica II. | C27: 1990, 1992b, 1992c, 1993a, 1993b, 1994a, 1995 | D27: 4.09 | F27: Manažment v zmysle Manuálu pre kategóriu 4.1 | G27: zachovanie a posilnenie pôdoochrannej funkcie lesa | H27: prejavy erózie, zosuvov a iných geodynamických javov, efektivta a dopad priotieróznych opatrení | I27: ročne | J27: prejavy erózie, zosuvov neboli zaznamenané | K27: prejavy erózie, zosuvov neboli zaznamenané
A28: Lesy Kozelník | C28: 139a, 153, 154a, 205a, 206, 207, 208, 251, 253a, 254, 255, 258a, 258b, 260, 262a, 263a, 263b1, 263b2, 269, 270, 272, 306, 312a, 312b, 320a, 320b, 326, 356, 366, 368, 377a, 402, 404a, 412a, 546a | D28: 157.68 | F28: Bez zásahu | G28: zachovanie a posilnenie pôdoochrannej funkcie lesa | H28: prejavy erózie, zosuvov a iných geodynamických javov, efektivta a dopad priotieróznych opatrení | I28: ročne | J28: prejavy erózie, zosuvov neboli zaznamenané | K28: prejavy erózie, zosuvov neboli zaznamenané
A29: Lesy Kozelník | C29: 117, 133a, 133b, 139b, 143a, 143b, 145, 154b, 160, 163a, 163b, 187, 190a, 190b, 193a, 193b, 194, 198a, 198b, 198c, 198d, 198e, 205b, 205c, 209, 253b, 262b, 300, 305a, 305b, 315, 323, 324, 328, 330a, 330b, 332, 338, 340, 367, 377b, 390, 393, 404b, 412b, 412c, 412d, 412e, 435a, 435b, 454a, 454b, 456, 457, 463, 527, 528, 530, 532, 543a, 543b, 544, 545a, 545b, 546b, 546c, 564 | D29: 163.83 | F29: Manažment v zmysle Manuálu pre kategóriu 4.1 | G29: zachovanie a posilnenie pôdoochrannej funkcie lesa | H29: prejavy erózie, zosuvov a iných geodynamických javov, efektivta a dopad priotieróznych opatrení | I29: ročne | J29: prejavy erózie, zosuvov neboli zaznamenané | K29: prejavy erózie, zosuvov neboli zaznamenané
A30: Obecné lesy Banská Belá | C30: 422, 563 | D30: 1.51 | F30: Bez zásahu | G30: zachovanie a posilnenie pôdoochrannej funkcie lesa | H30: prejavy erózie, zosuvov a iných geodynamických javov, efektivta a dopad priotieróznych opatrení | I30: ročne | J30: prejavy erózie, zosuvov neboli zaznamenané | K30: prejavy erózie, zosuvov neboli zaznamenané
A31: Obecné lesy Banská Belá | C31: 62 | D31: 1.33 | F31: Manažment v zmysle Manuálu pre kategóriu 4.1 | G31: zachovanie a posilnenie pôdoochrannej funkcie lesa | H31: prejavy erózie, zosuvov a iných geodynamických javov, efektivta a dopad priotieróznych opatrení | I31: ročne | J31: prejavy erózie, zosuvov neboli zaznamenané | K31: prejavy erózie, zosuvov neboli zaznamenané
A32: Šášov | C32: 66, 89a, 89b, 90a, 186, 195, 196, 199, 200, 201, 234, 235, 236, 241, 273a, 273b, 273c, 277a, 277b, 305 1, 305 2, 306, 308, 337, 338a, 346, 350, 663, 665, 668a, 668b, 672, 673a, 673b, 675, 677a, 678, 679, 680a, 680b, 682a, 682b, 683, 1001a, 1001b, 1001c, 1002a, 1002b, 1003a, 1003b, 1004, 1007a, 1018a, 1018b, 1018c, 1029a, 1031a, 1032a, 1034, 1044a, 1044b, 1045, 1050a, 1058, 1059, 1069a, 1069c, 1070a, 1073a, 1073c, 1079a, 1079d, 1104, 1112a, 1112b, 1114, 1134, 1136, 1140, 1145a, 1149, 1159, 1173a, 1214, 1320a, 1321a, 1330, 1343, 1344 | D32: 399.23 | F32: Bez zásahu | G32: zachovanie a posilnenie pôdoochrannej funkcie lesa | H32: prejavy erózie, zosuvov a iných geodynamických javov, efektivta a dopad priotieróznych opatrení | I32: ročne | J32: prejavy erózie, zosuvov neboli zaznamenané | K32: prejavy erózie, zosuvov neboli zaznamenané
A33: Šášov | C33: 17, 80 1, 80 2, 90b, 99, 156a, 156b, 169, 170, 180, 193a, 193b, 233, 246, 248, 338b, 339a, 339b, 348, 349, 351, 352a, 352b, 352c, 355a, 355b, 355c, 356, 412a, 414a, 566, 671, 676, 677b, 681, 685, 686 1, 686 2, 688a, 688b, 690a, 690b, 691a, 691b, 692, 694a, 694b, 698, 1007b, 1007c, 1018d, 1029b, 1031b, 1031c, 1032b, 1035a, 1035b, 1036, 1043a, 1043b, 1043c, 1050b, 1053b, 1069b, 1070b, 1070c, 1073b, 1073d, 1076, 1077, 1079b, 1079c, 1094, 1145b, 1173b, 1173c, 1173d, 1210, 1320b, 1321b, 1322a, 1322b, 1323a, 1323b, 1324, 1326, 1331, 1342, 1358, 1359, 1382, 1385 | D33: 310.26 | F33: Manažment v zmysle Manuálu pre kategóriu 4.1 | G33: zachovanie a posilnenie pôdoochrannej funkcie lesa | H33: prejavy erózie, zosuvov a iných geodynamických javov, efektivta a dopad priotieróznych opatrení | I33: ročne | J33: prejavy erózie, zosuvov neboli zaznamenané | K33: prejavy erózie, zosuvov neboli zaznamenané
A34: Horná Ves | C34: 3014b, 3015b 1., 3024, 3087a, 3087b, 3098, 3107 1., 3108, 3117a, 3121,3130c, 3131a, 3161, 3172b, 3175, 3180c, 3184a, 3185, 3186, 3194a, 3195, 3209a,3251,3374, 3425b | D34: 133.85 | F34: Bez zásahu | G34: zachovanie a posilnenie pôdoochrannej funkcie lesa | H34: prejavy erózie, zosuvov a iných geodynamických javov, efektivta a dopad priotieróznych opatrení | I34: ročne
A35: Horná Ves | C35: 3015b 2.,3085 1., 3085 2.,3099, 3107 2., 3117b, 3128, 3131b, 3131c, 3163a, 3163b, 3172a, 3174 1., 3174 2., 3176, 3178c, 3179b, 3184b, 3187, 3188, 3194b, 3209b, 3209c, 3252, 3308, 3329b, 3329c, 3329d, | D35: 135.19 | F35: Manažment v zmysle Manuálu pre kategóriu 4.1 | G35: zachovanie a posilnenie pôdoochrannej funkcie lesa | H35: prejavy erózie, zosuvov a iných geodynamických javov, efektivta a dopad priotieróznych opatrení | I35: ročne
A36: Horná Ves | C36: 3213b, 3320b, 3329a | D36: 21.56 | F36: Manažment v zmysle Manuálu, príloha č. II. | G36: zachovanie a posilnenie pôdoochrannej funkcie lesa | H36: prejavy erózie, zosuvov a iných geodynamických javov, efektivta a dopad priotieróznych opatrení | I36: ročne
A37: Horná Ves | C37: 3180b | D37: 3.7 | F37: Manažment v zmysle Manuálu, príloha č. VI. | G37: zachovanie a posilnenie pôdoochrannej funkcie lesa | H37: prejavy erózie, zosuvov a iných geodynamických javov, efektivta a dopad priotieróznych opatrení | I37: ročne
A38: Kamenec pod Vtáčnikom | C38: 4099a, 4099b, 4099c, 4099d, 4109,4122, 4124a, 4124b, 4127, 4133, 4164, 4187, 4231,4234, 4300a, 4300b, 4322, 4403 | D38: 141.64 | F38: Bez zásahu | G38: zachovanie a posilnenie pôdoochrannej funkcie lesa | H38: prejavy erózie, zosuvov a iných geodynamických javov, efektivta a dopad priotieróznych opatrení | I38: ročne
A39: Kamenec pod Vtáčnikom | C39: 4163, 4167, 4169, 4175, 4181, 4182, 4183, 4186, 4221b, 4227b, 4227c, 4255, 4260, 4269, 4270, 4274, 4277, 4280a, 4280b, 4280c 1., 4280c 2., 4280c 3., 4298b, 4317, 4318, 4319, 4331b, 4377b, 4377c, 4380, 4398,4405, 4406, 4514b, 4566, 4567 | D39: 282.26 | F39: Manažment v zmysle Manuálu pre kategóriu 4.1 | G39: zachovanie a posilnenie pôdoochrannej funkcie lesa | H39: prejavy erózie, zosuvov a iných geodynamických javov, efektivta a dopad priotieróznych opatrení | I39: ročne
A40: Kamenec pod Vtáčnikom | C40: 4225c, 4237, 4310 | D40: 13.77 | F40: Manažment v zmysle Manuálu, príloha č. II. | G40: zachovanie a posilnenie pôdoochrannej funkcie lesa | H40: prejavy erózie, zosuvov a iných geodynamických javov, efektivta a dopad priotieróznych opatrení | I40: ročne
A41: Kamenec pod Vtáčnikom | C41: 4090a, 4124c, 4192, 4246 | D41: 40.67 | F41: Manažment v zmysle Manuálu, príloha č. VI. | G41: zachovanie a posilnenie pôdoochrannej funkcie lesa | H41: prejavy erózie, zosuvov a iných geodynamických javov, efektivta a dopad priotieróznych opatrení | I41: ročne
A42: Partizánske | C42: 2050,2113, 2117b 2., 2130a, 2145c, 2151,2203, 2239, 2283, 2295, 2360, 2369c, 2375, 2402b, 2425, 2426,2457, 2469, 2471, 2482, 2483, 2498, 2501, 2519, 2525, 2536, 2540,2550, 2556, 2558, 2565, 2570, | D42: 112.29 | F42: Bez zásahu | G42: zachovanie a posilnenie pôdoochrannej funkcie lesa | H42: prejavy erózie, zosuvov a iných geodynamických javov, efektivta a dopad priotieróznych opatrení | I42: ročne
A43: Partizánske | C43: 22071b 1., 2071b 2.,117a, 2117b 1.,2130b, 2139a, 2139b, 2139c, 2142a, 2145a, 2145b, 2145d,2187, 2188, 2208, 2233, 2241a, 2241b, 2242a, 2242b, 2280a, 2370,2402a, 2406, 2438a, 2438b, 2453, 2454, 2517, 2531, 2598 | D43: 144.76 | F43: Manažment v zmysle Manuálu pre kategóriu 4.1 | G43: zachovanie a posilnenie pôdoochrannej funkcie lesa | H43: prejavy erózie, zosuvov a iných geodynamických javov, efektivta a dopad priotieróznych opatrení | I43: ročne
A44: Partizánske | C44: 2071a, 2126a, 2190, 2282, 2411 | D44: 38.73 | F44: Manažment v zmysle Manuálu, príloha č. II. | G44: zachovanie a posilnenie pôdoochrannej funkcie lesa | H44: prejavy erózie, zosuvov a iných geodynamických javov, efektivta a dopad priotieróznych opatrení | I44: ročne
A45: Partizánske | C45: 2142b, 2429, 2433, 2434, 2593 | D45: 53.54 | F45: Manažment v zmysle Manuálu, príloha č. VI. | G45: zachovanie a posilnenie pôdoochrannej funkcie lesa | H45: prejavy erózie, zosuvov a iných geodynamických javov, efektivta a dopad priotieróznych opatrení | I45: ročne
... A49: Žarnovica | C49: 181, 209a, 209b, 217, 219a, 235b, 235c, 243, 249, 268, 276, 278, 303, 329a, 329b, 414, 416, 425, 426a, 426b, 427, 431, 437, 439b, 439c, 443, 444a, 444b, 478, 495, 509, 511a, 511b, 526b, 526c, 529a, 536b, 537b, 546b, 548b, 548c, 548d, 560b, 573, 585, 599b, 599d, 631, 800, 803, 804, 1201, 1202, 1203, 1208b, 1243, 1244, 1245, 1246, 1305b, 1307b, 1307c, 1308b, 1310, 1316, 1325, 1330b, 1330c, 1331a, 1331d, 1331e, 1348, 1354c, 1377b, 1377c, 1377d, 1382b, 1394, 1395, 149b, 159b, 1606b, 1606c, 1612, 1620b, 1652b, 1655b, 1662b, 1672c, 1672d, 1673a, 1673b, 1723, 1725c, 1725d, 1729b, 1734, 1741c, 1753, 1758c, 1763 | D49: 358.42 | F49: Manažment v zmysle Manuálu pre kategóriu 4.1 | G49: zachovanie a posilnenie pôdoochrannej funkcie lesa | H49: prejavy erózie, zosuvov a iných geodynamických javov, efektivta a dopad priotieróznych opatrení | I49: ročne
A50: Žiar | C50: 1063a, 1063b, 1196, 1197, 1208b, 1293, 1311a, 1311c, 1333, 1341a, 1351a, 1352a, 1353, 1369, 1375a, 1375b, 1378, 1385a, 1389a, 1390a, 1413, 1453a, 1453b, 1454a, 1454b, 1455a, 1455b, 1470a, 1476 1, 1488, 1501, 1502, | D50: 96.36 | F50: Bez zásahu | G50: zachovanie a posilnenie pôdoochrannej funkcie lesa | H50: prejavy erózie, zosuvov a iných geodynamických javov, efektivta a dopad priotieróznych opatrení | I50: ročne | J50: Bez zmien | L50: Bez zmien
A51: Žiar | C51: 1053a, 1053b, 1053c, 1113, 1198, 1311b, 1331, 1341b, 1341c, 1351b, 1352b, 1352c, 1385b, 1389b, 1390b, 1397, 1399 1, 1399 2, 1404, 1406, 1433, 1434, 1454c, 1455c, 1462, 1465a, 1465b, 1466a, 1466b, 1467, 1469, 1470b, 1470c, 1476 2, 1476 3, 1487 1, 1487 2, 1503a, 1503b | D51: 85.21 | F51: Manažment v zmysle Manuálu pre kategóriu 4.1 | G51: zachovanie a posilnenie pôdoochrannej funkcie lesa | H51: prejavy erózie, zosuvov a iných geodynamických javov, efektivta a dopad priotieróznych opatrení | I51: ročne | J51: Bez zmien | L51: Bez zmien
A52: Brod | C52: 59a, 92a, 96, 124, 164, 182c, 190, 219a, 219c, 251, 269 1, 284a, 294, 298, 309, 318a, 319, 326a, 34, 343a, 343b, 345a, 360a, 360c, 385, 404, 422, 446, 1054, 1141a, 1183a2, 1268c, 1354, 1360a, 1360b, 136a, 1456a, 1473, 1483, 1493a, 1494, 1500a, 1510a, 1510b, 1510c, 1511, 1513a, 1513c, 1514, 1515, 1516, 1517, 1519 | D52: 9.17 | F52: Bez zásahu | G52: zachovanie a posilnenie pôdoochrannej funkcie lesa | H52: prejavy erózie, zosuvov a iných geodynamických javov, efektivta a dopad priotieróznych opatrení | I52: ročne | J52: prejavy erózie, zosuvov neboli zaznamenané | K52: prejavy erózie, zosuvov neboli zaznamenané
A53: Brod | C53: 1, 38, 59b, 70, 78, 82, 92b, 115a, 115b, 115c, 1179, 117a, 117b, 117c, 136b, 136c, 136d, 142, 148, 211, 219b, 228a, 228b, 252, 269 2, 270, 284b, 286, 296, 318b, 320a, 320b, 326b, 345b, 360b, 360d, 360e, 388, 428, 447, 448, 449a, 449b, 1001, 1002, 1030, 1032, 1056a, 1056b, 1061, 1079a, 1079b, 1112a, 1113, 1136, 1141b, 1183a1, 1183b, 1184a, 1184b, 1185, 1186, 1187a, 1187b, 1192, 1193, 1194, 1322a, 1322b, 1334, 1406, 1407, 1415, 1431, 1446 1, 1446 2, 1446 3, 1453, 1456b, 1456c, 1457, 1459a, 1459b, 1493b, 1500b, 1512, 1513b | D53: 371.75 | F53: Manažment v zmysle Manuálu pre kategóriu 4.1 | G53: zachovanie a posilnenie pôdoochrannej funkcie lesa | H53: prejavy erózie, zosuvov a iných geodynamických javov, efektivta a dopad priotieróznych opatrení | I53: ročne | J53: prejavy erózie, zosuvov neboli zaznamenané | K53: prejavy erózie, zosuvov neboli zaznamenané
A54: Žiar | B54: 1063a, 1063b, 2087, 3151b, 3155, 3162, 3207a, 3222a, 4010, 4043a, 4052a, 4052b, 4070a, 4358b, 5014, 5020a, 5020c, 5020d, 5020f, 5031 1, 5056a, 5056b, 5101, 5103a, 5103b, 5103c, 5106, 5112, 5159a, 5159b, 5159d, 5161a, 5161b, 5161d, 5162, 5166 1, 5166 2, 5169b, 5172, 5173, 5177, 5178a, 5181a, 5181b, 5184, 5187a, 5187b, 5188a, 5188b, 5188c, 5188d, 5190 1, 5191, 5192, 5193 1, 5193 2, 5195, 5218, 5229, 5230, 5238, 5243b, 5244b, 5249, 5251c, 5261, 5263, 5277a, 5277c, 5283a, 5283b, 5285a, 5285b, 5286a, 5286b, 5287, 5345b, 5347, 5349c, 5363b, 5364a, 5366a, 5367b, 5368b, 5369a, 5369b, 5370a, 5370b, 5371, 5372, 5373 1 | C54: 229.63 | E54: Bez zásahu | F54: zachovanie a posilnenie pôdoochrannej funkcie lesa | G54: prejavy erózie, zosuvov a iných geodynamických javov, efektivta a dopad priotieróznych opatrení | H54: ročne
A55: Žiar | B55: 2054, 2069, 2100, 2103a, 2103b, 2103c, 2109, 2110a, 2110b, 2311, 2313, 2409, 3103a, 3103b, 3107, 3108, 3109a, 3109b, 3109c, 3146a, 3146b, 3146c, 3146d, 3146e, 3149, 3150, 3151a, 3152, 3153, 3154, 3156a, 3156b, 3160, 3166, 3196a, 3196b, 3196c, 3200a, 3200b, 3201a, 3201b, 3207b, 3207c, 3207d, 3207e, 3211a, 3211b, 3214a, 3214b, 3215a, 3215b, 3218, 3222b, 3222c, 3247, 3385, 3386, 3387, 4013, 4043b, 4070b, 4123a, 4123b, 4133, 4134a, 4134b, 4134c, 4134d, 4134e, 4142, 4143, 4144a, 4144b, 4146a, 4146b, 4148, 4153, 4154, 4155, 4157a, 4157b, 4320a, 4320b, 4320c, 4320d1, 4320d2, 4320d3, 4328, 4340a, 4340b, 4350, 4353a, 4353b, 4354, 4356, 4357a, 4357b, 4358a, 4364a, 4364b1, 4364b2, 4459a, 5010, 5013, 5020b, 5020e, 5020g, 5029a, 5029b, 5031 2, 5047 1, 5047 2, 5053a, 5053b, 5053c, 5062, 5084, 5087a, 5087b, 5100, 5159c, 5159e, 5161c, 5169a, 5178b, 5181c, 5183, 5190 2, 5190 3, 5221a, 5221b, 5232, 5235, 5260a, 5260b, 5264a, 5264b, 5277b, 5278a, 5278b, 5280, 5281, 5282, 5284, 5342, 5343, 5344a, 5344b, 5344c, 5344d, 5344e, 5344f, 5345a, 5346, 5348, 5349a, 5362, 5363a, 5364b, 5365, 5366b, 5367a, 5368a, 5373 2, 5376a, 5376b | C55: 603.02 | E55: Manažment v zmysle Manuálu pre kategóriu 4.1 | F55: zachovanie a posilnenie pôdoochrannej funkcie lesa | G55: prejavy erózie, zosuvov a iných geodynamických javov, efektivta a dopad priotieróznych opatrení | H55: ročne
D56: =SUM(D5:D55) -> 6043.81

Sheet 4.2. hydrická funkcia
A1: 4.2. LESY S VÝZNAMNOU HYDRICKOU FUNKCIOU -ochranné lesy
A4: LHC | B4: lokalita/miestny názov | C4: JPRL/súbor JPRL | D4: Výmera (ha) | E4: k.ú. | F4: manažment | G4: Cieľ LVSV | H4: Monitorovací indikátor | I4: monitoring | J4: výsledok monitoringu | K4: poznámka
A5: Jedľové Kostoľany | C5: 152b | D5: 0.32 | F5: Bez zásahu | G5: zachovanie a posilnenie pozitívneho vplyvu lesa na odtokové a retenčné vlastnosti povodia | H5: stav lesnej dopravnej siete, evidencia zásahov potenciálne negatívne ovplyňujúcich plnenie hydrickej funkcie lesov; výskyt povodňových udalostí, sucha (údaje SHMÚ) | I5: v prípade vykonania lesohospodárskych opatrení, inak ročne zber údajov SHMÚ
A6: Horná Ves | C6: 3013 | D6: 2.35 | F6: Manažment v zmysle manuálu pre kategóriu 4.2 | G6: zachovanie a posilnenie pozitívneho vplyvu lesa na odtokové a retenčné vlastnosti povodia | H6: stav lesnej dopravnej siete, evidencia zásahov potenciálne negatívne ovplyňujúcich plnenie hydrickej funkcie lesov; výskyt povodňových udalostí, sucha (údaje SHMÚ) | I6: v prípade vykonania lesohospodárskych opatrení, inak ročne zber údajov SHMÚ
A7: Kamenec pod Vtáčnikom | C7: 4268, 4381 | D7: 54.63 | F7: Bez zásahu | G7: zachovanie a posilnenie pozitívneho vplyvu lesa na odtokové a retenčné vlastnosti povodia | H7: stav lesnej dopravnej siete, evidencia zásahov potenciálne negatívne ovplyňujúcich plnenie hydrickej funkcie lesov; výskyt povodňových udalostí, sucha (údaje SHMÚ) | I7: v prípade vykonania lesohospodárskych opatrení, inak ročne zber údajov SHMÚ
A8: Kamenec pod Vtáčnikom | C8: 4178, 4377a, 4383, 4391, 4565 | D8: 51.75 | F8: Manažment v zmysle manuálu pre kategóriu 4.2 | G8: zachovanie a posilnenie pozitívneho vplyvu lesa na odtokové a retenčné vlastnosti povodia | H8: stav lesnej dopravnej siete, evidencia zásahov potenciálne negatívne ovplyňujúcich plnenie hydrickej funkcie lesov; výskyt povodňových udalostí, sucha (údaje SHMÚ) | I8: v prípade vykonania lesohospodárskych opatrení, inak ročne zber údajov SHMÚ
A9: Brod | C9: 182a, 182b, 183a, 183b, 193a, 193b, 264a | D9: 0 | F9: Bez zásahu | G9: zachovanie a posilnenie pozitívneho vplyvu lesa na odtokové a retenčné vlastnosti povodia | H9: stav lesnej dopravnej siete, evidencia zásahov potenciálne negatívne ovplyňujúcich plnenie hydrickej funkcie lesov; výskyt povodňových udalostí, sucha (údaje SHMÚ) | I9: v prípade vykonania lesohospodárskych opatrení, inak ročne zber údajov SHMÚ | J9: bez zásahu | K9: bez zásahu
A10: Brod | C10: 265, 281, 282, 302 | D10: 3.36 | F10: Manažment v zmysle manuálu, príloha č. II | G10: zachovanie a posilnenie pozitívneho vplyvu lesa na odtokové a retenčné vlastnosti povodia | H10: stav lesnej dopravnej siete, evidencia zásahov potenciálne negatívne ovplyňujúcich plnenie hydrickej funkcie lesov; výskyt povodňových udalostí, sucha (údaje SHMÚ) | I10: v prípade vykonania lesohospodárskych opatrení, inak ročne zber údajov SHMÚ | J10: bez zásahu | K10: bez zásahu
A11: Brod | C11: 264b | D11: 2.51 | F11: Manažment v zmysle manuálu pre kategóriu 4.2 | G11: zachovanie a posilnenie pozitívneho vplyvu lesa na odtokové a retenčné vlastnosti povodia | H11: stav lesnej dopravnej siete, evidencia zásahov potenciálne negatívne ovplyňujúcich plnenie hydrickej funkcie lesov; výskyt povodňových udalostí, sucha (údaje SHMÚ) | I11: v prípade vykonania lesohospodárskych opatrení, inak ročne zber údajov SHMÚ | J11: bez zásahu | K11: bez zásahu
A12: Žiar | C12: 4206, 4207, 4270 | D12: 18.98 | F12: Manažment v zmysle manuálu pre kategóriu 4.2 | G12: zachovanie a posilnenie pozitívneho vplyvu lesa na odtokové a retenčné vlastnosti povodia | H12: stav lesnej dopravnej siete, evidencia zásahov potenciálne negatívne ovplyňujúcich plnenie hydrickej funkcie lesov; výskyt povodňových udalostí, sucha (údaje SHMÚ) | I12: v prípade vykonania lesohospodárskych opatrení, inak ročne zber údajov SHMÚ
D13: =SUM(D5:D12) -> 133.9

Sheet 5.1. vodoochranná funkcia
A1: 5.1. LESY S VÝZNAMNOU VODOOCHRANNOU FUNKCIOU PRE MIESTNE KOMUNITY - ochranné pásma vodárenských zdrojov I., II. stupňa
A3: LHC | B3: lokalita/miestny názov | C3: JPRL/súbor JPRL | D3: Výmera (ha) | E3: k.ú. | F3: manažment | G3: Cieľ LVSV | H3: Monitorovací indikátor | I3: monitoring | J3: výsledok monitoringu | K3: poznámka
A4: Jedľové Kostoľany | C4: 65a | D4: 4.75 | F4: Bez zásahu | G4: zachovanie a posilnenie vodoochrannej funkcie lesa | H4: stav lesných ekosystémov z pohľadu vodoochranných funkcií, kvalita a kvantita vodného zdroja | I4: v prípade realizácie lesohospodárskych zásahov, inak ročne zber údajov o kvalite a kvantite vodného zdroja od správcu/prevádzkovateľa
A5: Jedľové Kostoľany | C5: 122b | D5: 8.79 | F5: Manažment v zmysle Manuálu pre kategóriu 4.1 | G5: zachovanie a posilnenie vodoochrannej funkcie lesa | H5: stav lesných ekosystémov z pohľadu vodoochranných funkcií, kvalita a kvantita vodného zdroja | I5: v prípade realizácie lesohospodárskych zásahov, inak ročne zber údajov o kvalite a kvantite vodného zdroja od správcu/prevádzkovateľa
A6: Jedľové Kostoľany | C6: 303 | D6: 5.58 | F6: Manažment v zmysle Manuálu pre kategóriu 5.1 | G6: zachovanie a posilnenie vodoochrannej funkcie lesa | H6: stav lesných ekosystémov z pohľadu vodoochranných funkcií, kvalita a kvantita vodného zdroja | I6: v prípade realizácie lesohospodárskych zásahov, inak ročne zber údajov o kvalite a kvantite vodného zdroja od správcu/prevádzkovateľa
A7: Hrušov | C7: 319 10 | D7: 2.97 | F7: Bez zásahu | G7: zachovanie a posilnenie vodoochrannej funkcie lesa | H7: stav lesných ekosystémov z pohľadu vodoochranných funkcií, kvalita a kvantita vodného zdroja | I7: v prípade realizácie lesohospodárskych zásahov, inak ročne zber údajov o kvalite a kvantite vodného zdroja od správcu/prevádzkovateľa
A8: Hrušov | C8: 319 20 | D8: 6.15 | F8: Manažment v zmysle Manuálu pre kategóriu 4.1 | G8: zachovanie a posilnenie vodoochrannej funkcie lesa | H8: stav lesných ekosystémov z pohľadu vodoochranných funkcií, kvalita a kvantita vodného zdroja | I8: v prípade realizácie lesohospodárskych zásahov, inak ročne zber údajov o kvalite a kvantite vodného zdroja od správcu/prevádzkovateľa
A9: Hrušov | C9: 318 20 | D9: 10.55 | F9: Manažment v zmysle Manuálu pre kategóriu 5.1 | G9: zachovanie a posilnenie vodoochrannej funkcie lesa | H9: stav lesných ekosystémov z pohľadu vodoochranných funkcií, kvalita a kvantita vodného zdroja | I9: v prípade realizácie lesohospodárskych zásahov, inak ročne zber údajov o kvalite a kvantite vodného zdroja od správcu/prevádzkovateľa
A10: Hrušov | C10: 318 10 | D10: 4.11 | F10: Manažment v zmysle Manuálu, príloha č. II. | G10: zachovanie a posilnenie vodoochrannej funkcie lesa | H10: stav lesných ekosystémov z pohľadu vodoochranných funkcií, kvalita a kvantita vodného zdroja | I10: v prípade realizácie lesohospodárskych zásahov, inak ročne zber údajov o kvalite a kvantite vodného zdroja od správcu/prevádzkovateľa
A11: Hrušov | C11: 317 | D11: 17.68 | F11: Manažment v zmysle Manuálu, príloha č. VI. | G11: zachovanie a posilnenie vodoochrannej funkcie lesa | H11: stav lesných ekosystémov z pohľadu vodoochranných funkcií, kvalita a kvantita vodného zdroja | I11: v prípade realizácie lesohospodárskych zásahov, inak ročne zber údajov o kvalite a kvantite vodného zdroja od správcu/prevádzkovateľa
A12: Topoľčianky a Žitavany | C12: 86 | D12: 15.01 | F12: Manažment v zmysle Manuálu pre kategóriu 5.1 | G12: zachovanie a posilnenie vodoochrannej funkcie lesa | H12: stav lesných ekosystémov z pohľadu vodoochranných funkcií, kvalita a kvantita vodného zdroja | I12: v prípade realizácie lesohospodárskych zásahov, inak ročne zber údajov o kvalite a kvantite vodného zdroja od správcu/prevádzkovateľa
A13: Nitrianska Streda | C13: 1161a, 1168, 1170, 1176, 1802, 1815 | D13: 10.79 | F13: Bez zásahu | G13: zachovanie a posilnenie vodoochrannej funkcie lesa | H13: stav lesných ekosystémov z pohľadu vodoochranných funkcií, kvalita a kvantita vodného zdroja | I13: v prípade realizácie lesohospodárskych zásahov, inak ročne zber údajov o kvalite a kvantite vodného zdroja od správcu/prevádzkovateľa | J13: Bez zásahu
A14: Nitrianska Streda | C14: 1006a, 1006b, 1008, 1023a, 1023b, 1024a, 1024b, 1161b, 1219, 1801 | D14: 42.02 | F14: Manažment v zmysle Manuálu pre kategóriu 4.1 | G14: zachovanie a posilnenie vodoochrannej funkcie lesa | H14: stav lesných ekosystémov z pohľadu vodoochranných funkcií, kvalita a kvantita vodného zdroja | I14: v prípade realizácie lesohospodárskych zásahov, inak ročne zber údajov o kvalite a kvantite vodného zdroja od správcu/prevádzkovateľa | J14: Bez zásahu
A15: Nitrianska Streda | C15: 1001a, 1001b, 1002, 1003, 1004 1., 1004 2., 1007, 1009, 1019, 1020, 1021a, 1021b, 1022a, 1022b, 1025a, 1025b, 1153, 1154, 1155, 1156a, 1156b 1., 1156b 2., 1157, 1158, 1159, 1160, 1162, 1164, 1165, 1167, 1177, 1178, 1179 1., 1179 2., 1179 3., 1180a, 1180b 1., 1180b 2., 1181 1., 1181 2., 1182 2., 1183 1., 1183 2., 1184a 1., 1184a 2., 1184a 3., 1184b, 1184c, 1185a, 1185b 1., 1185b 2., 1185c, | D15: 370.4 | F15: Manažment v zmysle Manuálu pre kategóriu 5.1 | G15: zachovanie a posilnenie vodoochrannej funkcie lesa | H15: stav lesných ekosystémov z pohľadu vodoochranných funkcií, kvalita a kvantita vodného zdroja | I15: v prípade realizácie lesohospodárskych zásahov, inak ročne zber údajov o kvalite a kvantite vodného zdroja od správcu/prevádzkovateľa | J15: 1003 00: 2022 VU+50 86,95/6,00ha, 1019 00: 2022 VU+50 259,04/10,00ha, 1020 00: OU MP 99,10m3, 1157 00: 2021 OU MPP 343,15m3, 1158 01: 2022 OU MPP 99,32m3, 1159 00: 2022 OU MPP 307,10 m3, 1160 00: 2022 VU+50 194,58/10,86ha, 1165 00: 2022 VU+50 445,25/13,88ha, 1178 00:2022 VU+50 53,66/2,84ha, 1180B11: 2021 OU MH 784,23/2,10ha, 1181 10: 2023 OU MPP 381,51m3, 1183 11: OU MPP 136,70 m3,
A16: Nitrianska Streda | C16: 1005 | D16: 8.83 | F16: Manažment v zmysle Manuálu, príloha č. II. | G16: zachovanie a posilnenie vodoochrannej funkcie lesa | H16: stav lesných ekosystémov z pohľadu vodoochranných funkcií, kvalita a kvantita vodného zdroja | I16: v prípade realizácie lesohospodárskych zásahov, inak ročne zber údajov o kvalite a kvantite vodného zdroja od správcu/prevádzkovateľa | J16: Bez zásahu
A17: Nitrianska Streda | B17: Žámová studňa | C17: 1158 | D17: 5.43 | F17: Manažment v zmysle Manuálu pre kategóriu 5.1 | G17: zachovanie a posilnenie vodoochrannej funkcie lesa | H17: stav lesných ekosystémov z pohľadu vodoochranných funkcií, kvalita a kvantita vodného zdroja | I17: v prípade realizácie lesohospodárskych zásahov, inak ročne zber údajov o kvalite a kvantite vodného zdroja od správcu/prevádzkovateľa
A18: Nitrianska Streda | C18: 1163, 1166, 1169, 1182 1., 1193 | D18: 45.53 | F18: Manažment v zmysle Manuálu, príloha č. VI. | G18: zachovanie a posilnenie vodoochrannej funkcie lesa | H18: stav lesných ekosystémov z pohľadu vodoochranných funkcií, kvalita a kvantita vodného zdroja | I18: v prípade realizácie lesohospodárskych zásahov, inak ročne zber údajov o kvalite a kvantite vodného zdroja od správcu/prevádzkovateľa | J18: 1166 00:2022 VU+50 224,08/9,00ha, 1169 00:2022 VU+50 147,57/6,40ha, 1182 11: OU MPP 354,47ha,
A19: Zobor | C19: 256c, 269b, 276b, 284 | D19: 9.88 | F19: Bez zásahu | G19: zachovanie a posilnenie vodoochrannej funkcie lesa | H19: stav lesných ekosystémov z pohľadu vodoochranných funkcií, kvalita a kvantita vodného zdroja | I19: v prípade realizácie lesohospodárskych zásahov, inak ročne zber údajov o kvalite a kvantite vodného zdroja od správcu/prevádzkovateľa | J19: Bez zásahu | K19: 312b, 314, 315 odovzdané- Urbár Drážovce
A20: Zobor | C20: 189, 190, 191, 192, 193, 194, 195, 222, 233a, 233b, 242, 244, 251, 254, 256b, 267, 269a, 273a, 273b, 274, 276a, 279 | D20: 153.59 | F20: Manažment v zmysle Manuálu pre kategóriu 4.1 | G20: zachovanie a posilnenie vodoochrannej funkcie lesa | H20: stav lesných ekosystémov z pohľadu vodoochranných funkcií, kvalita a kvantita vodného zdroja | I20: v prípade realizácie lesohospodárskych zásahov, inak ročne zber údajov o kvalite a kvantite vodného zdroja od správcu/prevádzkovateľa | J20: Bez zásahu | K20: 305, 308, 309, 310, 311, 312a, 312c, 313a, 313b, 316, 806 odovzdané- Urbár Drážovce
A21: Zobor | C21: 226a, 226b, 238d, 239a, 239b, 239c, 240 1., 240 2., 240 3., 241a, 241b 1., 241b 2., 243 1., 243 2., 243 3., 246 1., 246 3., 246 4., 247, 248, 250a, 250b, 253, 255, 257, 258a 1., 258a 2., 258a 3., 258c, 258d, 259a, 259b, 260a, 260b, 260c, 261a 1., 261a 2., 261a 3., 261b, 261c, 262a, 262b, 263a, 263b, 265, 266, 268, 270, 271, 272, 275, 285, 298 | D21: 298.53 | F21: Manažment v zmysle Manuálu pre kategóriu 5.1 | G21: zachovanie a posilnenie vodoochrannej funkcie lesa | H21: stav lesných ekosystémov z pohľadu vodoochranných funkcií, kvalita a kvantita vodného zdroja | I21: v prípade realizácie lesohospodárskych zásahov, inak ročne zber údajov o kvalite a kvantite vodného zdroja od správcu/prevádzkovateľa | J21: Bez zásahu | K21: 303 2., 304a 2., 304a 3., 304b, 306a 2., 306b, 307, 318 odovzdané- Urbár Drážovce
A22: Zobor | B22: Kamenný breh | C22: 370a, 370b, 370c, 371 | D22: 18.06 | F22: Manažment v zmysle Manuálu pre kategóriu 5.1 | G22: Manažment v zmysle Manuálu pre kategóriu 5.1 | H22: zachovanie a posilnenie vodoochrannej funkcie lesa | I22: stav lesných ekosystémov z pohľadu vodoochranných funkcií, kvalita a kvantita vodného zdroja | J22: v prípade realizácie lesohospodárskych zásahov, inak ročne zber údajov o kvalite a kvantite vodného zdroja od správcu/prevádzkovateľa | K22: Bez zásahu
A23: Zobor | C23: 256a, 269c | D23: 19.45 | F23: Manažment v zmysle Manuálu, príloha č. II. | G23: zachovanie a posilnenie vodoochrannej funkcie lesa | H23: stav lesných ekosystémov z pohľadu vodoochranných funkcií, kvalita a kvantita vodného zdroja | I23: v prípade realizácie lesohospodárskych zásahov, inak ročne zber údajov o kvalite a kvantite vodného zdroja od správcu/prevádzkovateľa | J23: Bez zásahu | K23: 303 1., 304a 1., 306a 1., 317 odovzdané- Urbár Drážovce
A24: Zobor | C24: 238a, 238b, 238c, 245 1., 245 2., 246 2., 252, 258b, 264a, 264b | D24: 81.29 | F24: Manažment v zmysle Manuálu, príloha č. VI. | G24: zachovanie a posilnenie vodoochrannej funkcie lesa | H24: stav lesných ekosystémov z pohľadu vodoochranných funkcií, kvalita a kvantita vodného zdroja | I24: v prípade realizácie lesohospodárskych zásahov, inak ročne zber údajov o kvalite a kvantite vodného zdroja od správcu/prevádzkovateľa | J24: Bez zásahu
A25: Zobor | B25: Pánksy les | C25: 120a, 120b, 129 | D25: 12.39 | F25: Manažment v zmysle Manuálu, príloha č. VI. | G25: zachovanie a posilnenie vodoochrannej funkcie lesa | H25: stav lesných ekosystémov z pohľadu vodoochranných funkcií, kvalita a kvantita vodného zdroja | I25: v prípade realizácie lesohospodárskych zásahov, inak ročne zber údajov o kvalite a kvantite vodného zdroja od správcu/prevádzkovateľa | J25: Bez zásahu
A26: Banská Štiavnica II. | C26: 1994a | D26: 0.38 | F26: Manažment v zmysle Manuálu pre kategóriu 4.1 | G26: zachovanie a posilnenie vodoochrannej funkcie lesa | H26: stav lesných ekosystémov z pohľadu vodoochranných funkcií, kvalita a kvantita vodného zdroja | I26: v prípade realizácie lesohospodárskych zásahov, inak ročne zber údajov o kvalite a kvantite vodného zdroja od správcu/prevádzkovateľa | J26: poznámka: Porasty gravitujúce k jazeru Rozgrundt - nevyužíva sa niekoľko rokov pre potreby pitnej vody pre miestne komunity ( podľa vyjadrenia STVPS - nevhodné senzorické vlastnosti vody) doložený prehľad ukazovateľov vody z StVPS zo dňa 1.8.2022 | K26: Doložený prehľad ukazovateľov vody z StVPS zo dňa 31.7.2023
A27: Banská Štiavnica II. | C27: 1996a, 1996b, 1996c | D27: 3.22 | F27: Manažment v zmysle Manuálu pre kategóriu 5.1 | G27: zachovanie a posilnenie vodoochrannej funkcie lesa | H27: stav lesných ekosystémov z pohľadu vodoochranných funkcií, kvalita a kvantita vodného zdroja | I27: v prípade realizácie lesohospodárskych zásahov, inak ročne zber údajov o kvalite a kvantite vodného zdroja od správcu/prevádzkovateľa | J27: JPRL 1996a - stabilný stav lesných ekosystémov z pohľadu vodoochranných funkcií, Porasty gravitujúce k jazeru Rozgrundt - nevyužíva sa niekoľko rokov pre potreby pitnej vody pre miestne komunity ( podľa vyjadrenia STVPS - nevhodné senzorické vlastnosti vody) doložený prehľad ukazovateľov vody z StVPS zo dňa 1.8.2022 | K27: Doložený prehľad ukazovateľov vody z StVPS zo dňa 31.7.2023
A28: Banská Štiavnica II. | C28: 1997 | D28: 3.03 | F28: Manažment v zmysle Manuálu, príloha č. II. | G28: zachovanie a posilnenie vodoochrannej funkcie lesa | H28: stav lesných ekosystémov z pohľadu vodoochranných funkcií, kvalita a kvantita vodného zdroja | I28: v prípade realizácie lesohospodárskych zásahov, inak ročne zber údajov o kvalite a kvantite vodného zdroja od správcu/prevádzkovateľa | J28: doložený prehľad ukazovateľov vody z StVPS zo dňa 2.5.2022 | K28: Doložený prehľad ukazovateľov vody z StVPS zo dňa 31.7.2023
A29: Lesy Kozelník | C29: 730e | D29: 0.06 | F29: Manažment v zmysle Manuálu pre kategóriu 5.1 | G29: zachovanie a posilnenie vodoochrannej funkcie lesa | H29: stav lesných ekosystémov z pohľadu vodoochranných funkcií, kvalita a kvantita vodného zdroja | I29: v prípade realizácie lesohospodárskych zásahov, inak ročne zber údajov o kvalite a kvantite vodného zdroja od správcu/prevádzkovateľa | J29: NEPATRÍ pod LS Šášov
A30: Šášov | C30: 338a, 346, 350 | D30: 14.41 | F30: Bez zásahu | G30: zachovanie a posilnenie vodoochrannej funkcie lesa | H30: stav lesných ekosystémov z pohľadu vodoochranných funkcií, kvalita a kvantita vodného zdroja | I30: v prípade realizácie lesohospodárskych zásahov, inak ročne zber údajov o kvalite a kvantite vodného zdroja od správcu/prevádzkovateľa | J30: doložený prehľad ukazovateľov vody z StVPS zo dňa 2.5.2022 | K30: Doložený prehľad ukazovateľov vody z StVPS zo dňa 12.6.2023
A31: Šášov | C31: 156a, 156b, 338b, 339a, 339b, 348, 349, 351, 352a, 352b, 352c, 355a, 355b, 355c, 356, 671, 685, 1326 | D31: 72.52 | F31: Manažment v zmysle Manuálu pre kategóriu 4.1 | G31: zachovanie a posilnenie vodoochrannej funkcie lesa | H31: stav lesných ekosystémov z pohľadu vodoochranných funkcií, kvalita a kvantita vodného zdroja | I31: v prípade realizácie lesohospodárskych zásahov, inak ročne zber údajov o kvalite a kvantite vodného zdroja od správcu/prevádzkovateľa | J31: JPRL 356 - stabilný stav lesných ekosystémov z pohľadu vodoochranných funkcií. Doložený prehľad ukazovateľov vody z StVPS zo dňa 2.5.2022 | K31: Doložený prehľad ukazovateľov vody z StVPS zo dňa 12.6.2023
A32: Šášov | C32: 110a2, 110a3, 110b1, 110b2, 111a2, 111a3, 111b1, 111b2, 112 1, 112 2, 114 1, 114 2, 115 2, 116 2, 117 1, 117 2, 117 3, 118 1, 118 2, 119, 120 1, 120 2, 120 3, 121a1, 121a2, 121a3, 121b, 122, 123 1, 123 2, 123 3, 123 4, 124 2, 125 2, 126 1, 126 2, 127 2, 128 2, 129 1, 129 2, 129 3, 129 4, 130 1, 130 2, 130 3, 133a, 133b, 138, 139b, 139c, 139d, 140a1, 140a2, 140a3, 140b, 141b, 142 2, 146b, 147a1, 147a2, 147a3, 147b, 148a, 148b, 152 1, 152 2, 153 1, 153 2, 154 1, 154 2, 155 1, 155 2, 157 1, 157 2, 158, 159, 317, 320a, 320b, 321, 322, 323a, 323b, 325, 327 1, 327 2, 327 3, 328a, 328b, 329a, 329b, 330, 331a, 331b, 331c, 332a1, 332a2, 332a3, 332b, 333, 340, 344, 345, 347 1, 347 2, 347 3, 347 4, 353, 354a, 354b, 357, 358, 359a, 359b, 360, 361a, 361b, 662, 664 | D32: 508.18 | F32: Manažment v zmysle Manuálu pre kategóriu 5.1 | G32: zachovanie a posilnenie vodoochrannej funkcie lesa | H32: stav lesných ekosystémov z pohľadu vodoochranných funkcií, kvalita a kvantita vodného zdroja | I32: v prípade realizácie lesohospodárskych zásahov, inak ročne zber údajov o kvalite a kvantite vodného zdroja od správcu/prevádzkovateľa | J32: JPRL 112 1,114 1,117 1,118,147a2,148b,152 1,153 1,154 1,155 1,330,332b,344,357,358,359a,664 stabilný stav lesných ekosystémov z pohľadu vodoochranných funkcií | K32: JPRL 120 1,121a1,126 1,129 2,129 3, 152 1 -- stabilný stav lesných ekosystémov z pohľadu vodoochranných funkcií. Doložený prehľad ukazovateľov vody z StVPS zo dňa 12.6.2023
A33: Šášov | C33: 110a1, 111a1, 115 1, 124 1, 125 1, 127 1, 128 1, 142 1 | D33: 61.15 | F33: Manažment v zmysle Manuálu, príloha č. II. | G33: zachovanie a posilnenie vodoochrannej funkcie lesa | H33: stav lesných ekosystémov z pohľadu vodoochranných funkcií, kvalita a kvantita vodného zdroja | I33: v prípade realizácie lesohospodárskych zásahov, inak ročne zber údajov o kvalite a kvantite vodného zdroja od správcu/prevádzkovateľa | J33: JPRL 110a1,115 1,124 1,125 1,127 1,128 1,142 1 -stabilný stav lesných ekosystémov z pohľadu vodoochranných funkcií | K33: JPRL 115 1,125 1,128 1 - stabilný stav lesných ekosystémov z pohľadu vodoochranných funkcií. Doložený prehľad ukazovateľov vody z StVPS zo dňa 12.6.2023
A34: Šášov | C34: 116 1 | D34: 6.98 | F34: Manažment v zmysle Manuálu, príloha č. VI. | G34: zachovanie a posilnenie vodoochrannej funkcie lesa | H34: stav lesných ekosystémov z pohľadu vodoochranných funkcií, kvalita a kvantita vodného zdroja | I34: v prípade realizácie lesohospodárskych zásahov, inak ročne zber údajov o kvalite a kvantite vodného zdroja od správcu/prevádzkovateľa | J34: JPRL 116 1 -stabilný stav lesných ekosystémov z pohľadu vodoochranných funkcií | K34: Doložený prehľad ukazovateľov vody z StVPS zo dňa 12.6.2023
A35: Horná Ves | C35: 3129a, 3129b, 3132a, 3132b, 3133, 3135a, 3135b, 3136a 1., 3136a 2., 3136a 3., 3136a 4., 3136a 5., 3136b, 3137, 3138, 3139, 3140a, 3140b, 3140c, 3141a, 3141b, 3147, 3148, 3149, 3150a 1., 3150a 2., 3150b, 3151a, 3151b, 3151c, 3151d, 3152a, 3152b, 3152c, 3152d, 3153 2., 3153 3., 3154 1., 3154 2., 3154 3., 3155 1., 3155 2., 3156 1., 3156 2., 3156 3., 3157 1., 3157 2., 3158 1., 3158 2., 3158 3., 3158 4., 3159a, 3159b, 3160a, 3160b, 3160c, 3162a, 3162b, 3162c, 3165a 1., 3165a 2., 3165a 3., 3166, 3167a, 3167b, 3167c, 3173 1., 3173 2., 3173 3., 3177a, 3205, 3206, 3207b, 3207c, 3222a, 3222b, 3225a, 3304 | D35: 326.76 | F35: Manažment v zmysle Manuálu pre kategóriu 5.1 | G35: zachovanie a posilnenie vodoochrannej funkcie lesa | H35: stav lesných ekosystémov z pohľadu vodoochranných funkcií, kvalita a kvantita vodného zdroja | I35: v prípade realizácie lesohospodárskych zásahov, inak ročne zber údajov o kvalite a kvantite vodného zdroja od správcu/prevádzkovateľa
A36: Horná Ves | C36: 3153 1., 3213b, 3237 | D36: 22.92 | F36: Manažment v zmysle Manuálu, príloha č. II. | G36: zachovanie a posilnenie vodoochrannej funkcie lesa | H36: stav lesných ekosystémov z pohľadu vodoochranných funkcií, kvalita a kvantita vodného zdroja | I36: v prípade realizácie lesohospodárskych zásahov, inak ročne zber údajov o kvalite a kvantite vodného zdroja od správcu/prevádzkovateľa
A37: Horná Ves | C37: 3207a, 3208 | D37: 21.88 | F37: Manažment v zmysle Manuálu, príloha č. VI. | G37: zachovanie a posilnenie vodoochrannej funkcie lesa | H37: stav lesných ekosystémov z pohľadu vodoochranných funkcií, kvalita a kvantita vodného zdroja | I37: v prípade realizácie lesohospodárskych zásahov, inak ročne zber údajov o kvalite a kvantite vodného zdroja od správcu/prevádzkovateľa
A38: Kamenec pod Vtáčnikom | C38: 4231.4234 | D38: 6.12 | F38: Bez zásahu | G38: zachovanie a posilnenie vodoochrannej funkcie lesa | H38: stav lesných ekosystémov z pohľadu vodoochranných funkcií, kvalita a kvantita vodného zdroja | I38: v prípade realizácie lesohospodárskych zásahov, inak ročne zber údajov o kvalite a kvantite vodného zdroja od správcu/prevádzkovateľa
A39: Kamenec pod Vtáčnikom | C39: 4236 | D39: 6.24 | F39: Manažment v zmysle Manuálu pre kategóriu 4.1 | G39: zachovanie a posilnenie vodoochrannej funkcie lesa | H39: stav lesných ekosystémov z pohľadu vodoochranných funkcií, kvalita a kvantita vodného zdroja | I39: v prípade realizácie lesohospodárskych zásahov, inak ročne zber údajov o kvalite a kvantite vodného zdroja od správcu/prevádzkovateľa
A40: Kamenec pod Vtáčnikom | C40: 4232 3., 4240a, 4240b 2., 4241a 1., 4241a 2., 4241a 3., 4241a 5., 4241b, 4242a, 4254a 1., 4254b, 4275a, 4275b, 4275c, 4278, 4279c, 4281a, 4281b, 4281c, 4282a, 4282b, 4282c, 4283a, 4283b, 4283c, 4299a 1., 4299a 2., 4299a 3., 4299b, 4299c, 4299d, 4307a, 4508, 4516b | D40: 131.15 | F40: Manažment v zmysle Manuálu pre kategóriu 5.1 | G40: zachovanie a posilnenie vodoochrannej funkcie lesa | H40: stav lesných ekosystémov z pohľadu vodoochranných funkcií, kvalita a kvantita vodného zdroja | I40: v prípade realizácie lesohospodárskych zásahov, inak ročne zber údajov o kvalite a kvantite vodného zdroja od správcu/prevádzkovateľa
A41: Kamenec pod Vtáčnikom | C41: 4240b1 | D41: 0.96 | F41: Manažment v zmysle Manuálu, príloha č. II. | G41: zachovanie a posilnenie vodoochrannej funkcie lesa | H41: stav lesných ekosystémov z pohľadu vodoochranných funkcií, kvalita a kvantita vodného zdroja | I41: v prípade realizácie lesohospodárskych zásahov, inak ročne zber údajov o kvalite a kvantite vodného zdroja od správcu/prevádzkovateľa
A42: Kamenec pod Vtáčnikom | C42: 4230 1., 4230 2., 4230 3., 4232 1., 4232 2., 4238, 4239, 4241a 4., 4254a 2., 4254a 3., 4254c, 4279a, 4279b | D42: 53.85 | F42: Manažment v zmysle Manuálu, príloha č. VI. | G42: zachovanie a posilnenie vodoochrannej funkcie lesa | H42: stav lesných ekosystémov z pohľadu vodoochranných funkcií, kvalita a kvantita vodného zdroja | I42: v prípade realizácie lesohospodárskych zásahov, inak ročne zber údajov o kvalite a kvantite vodného zdroja od správcu/prevádzkovateľa
A43: Partizánske | C43: 2095 1., 2095 2., 2095 3., 2098, 2099, 2100a 2., 2100a 3., 2101 1., 2101 2., 2102, 2103a, 2104, 2105, 2106 1., 2106 2., 2106 3., 2107, 2108a 1., 2108a 2., 2108a 3., 2108b, 2112a, 2112b, 2114, 2115 3., 2116 1., 2116 2., 2116 3., 2118a 1., 2118a 2., 2118a 3., 2118b, 2119, 2120, 2121, 2122, 2123a 1., 2123a 2., 2123b, 2124, 2125, 2127 1., 2127 2., 2129 2., 2131, 2132, 2133, 2134, 2135, 2136, 2138b, 2140b, 2281b, 2284 2., 2284 3., 2284 4., 2287, 2290, 2292b, 2293, 2296, 2297, 2298, 2299, 2304, 2305a, 2305b, 2323, 2324a, 2324b, 2325a, 2325b, 2326, 2327, 2328, 2329a 1., 2329a 2., 2329b, 2330, 2331a, 2331b, 2332a, 2333 1., 2333 2., 2334, 2335, 2336, 2337, 2350a, 2350b, 2351, 2352a, 2352b, 2410a, 2410b, 2445a 1., 2445a 2., 2445b, 2447 2., 2447 3., 2448a, 2448b, 2449a, 2449b, 2450a, 2450b 2., 2450b 3., 2451a, 2451b 1., 2451b 2., 2452b, 2455b, 2455c, 2456, 2462a 1., 2462a 2., 2462a 3., 2462a 4., 2462b, 2465 1., 2465 2., 2466a, 2467 2., 2468a, 2468b, 2473 1., 2473 2., 2473 3., 2474a, 2474b 1., 2474b 2., 2474b 3., 2475 1., 2475 2., 2475 3., 2476, 2477, 2478 2., 2533 1., 2533 2., 2533 3., 2534, 2535, 2609a | D43: 797.5 | F43: Manažment v zmysle Manuálu pre kategóriu 5.1 | G43: zachovanie a posilnenie vodoochrannej funkcie lesa | H43: stav lesných ekosystémov z pohľadu vodoochranných funkcií, kvalita a kvantita vodného zdroja | I43: v prípade realizácie lesohospodárskych zásahov, inak ročne zber údajov o kvalite a kvantite vodného zdroja od správcu/prevádzkovateľa
A44: Partizánske | C44: 2096, 2097, 2100a 1., 2100b, 2126a, 2129 1., 2277a, 2282, 2284 1., 2292a, 2294, 2332b, 2409, 2411, 2447 1., 2450b 1., 2452a, 2455a, 2467 1., 2478 1. | D44: 134.18 | F44: Manažment v zmysle Manuálu, príloha č. II. | G44: zachovanie a posilnenie vodoochrannej funkcie lesa | H44: stav lesných ekosystémov z pohľadu vodoochranných funkcií, kvalita a kvantita vodného zdroja | I44: v prípade realizácie lesohospodárskych zásahov, inak ročne zber údajov o kvalite a kvantite vodného zdroja od správcu/prevádzkovateľa
A45: Partizánske | C45: 2115 1., 2115 2., 2128, 2281a 1., 2281a 2., 2285, 2286, 2288, 2289, 2291, 2300, 2301, 2302, 2303, 2322, 2407, 2429, 2430a, 2446, 2466b, 2472 | D45: 226.8 | F45: Manažment v zmysle Manuálu, príloha č. VI. | G45: zachovanie a posilnenie vodoochrannej funkcie lesa | H45: stav lesných ekosystémov z pohľadu vodoochranných funkcií, kvalita a kvantita vodného zdroja | I45: v prípade realizácie lesohospodárskych zásahov, inak ročne zber údajov o kvalite a kvantite vodného zdroja od správcu/prevádzkovateľa
A46: Banská Štiavnica I. | C46: 1096 2, 1096 3 | D46: 1.96 | F46: Manažment v zmysle Manuálu pre kategóriu 5.1 | G46: zachovanie a posilnenie vodoochrannej funkcie lesa | H46: stav lesných ekosystémov z pohľadu vodoochranných funkcií, kvalita a kvantita vodného zdroja | I46: v prípade realizácie lesohospodárskych zásahov, inak ročne zber údajov o kvalite a kvantite vodného zdroja od správcu/prevádzkovateľa | J46: Bez zmien | L46: Bez zmien
A47: Nová Baňa | C47: 2425b | D47: 0.49 | F47: Manažment v zmysle Manuálu pre kategóriu 5.1 | G47: zachovanie a posilnenie vodoochrannej funkcie lesa | H47: stav lesných ekosystémov z pohľadu vodoochranných funkcií, kvalita a kvantita vodného zdroja | I47: v prípade realizácie lesohospodárskych zásahov, inak ročne zber údajov o kvalite a kvantite vodného zdroja od správcu/prevádzkovateľa | J47: Bez zmien | L47: Bez zmien
A48: Žiar | C48: 1200c, 1201b, 1203 1, 1203 2, 1203 3, 1203 4, 1204 1, 1204 2, 1204 3, 1205a, 1205b, 1217 1, 1217 2, 1218, 1221a, 1221b, 1222, 1223 | D48: 76.21 | F48: Manažment v zmysle Manuálu pre kategóriu 5.1 | G48: zachovanie a posilnenie vodoochrannej funkcie lesa | H48: stav lesných ekosystémov z pohľadu vodoochranných funkcií, kvalita a kvantita vodného zdroja | I48: v prípade realizácie lesohospodárskych zásahov, inak ročne zber údajov o kvalite a kvantite vodného zdroja od správcu/prevádzkovateľa | J48: Bez zmien | L48: Bez zmien
A49: Brod | C49: 136a | D49: 5.27 | F49: Bez zásahu | G49: zachovanie a posilnenie vodoochrannej funkcie lesa | H49: stav lesných ekosystémov z pohľadu vodoochranných funkcií, kvalita a kvantita vodného zdroja | I49: v prípade realizácie lesohospodárskych zásahov, inak ročne zber údajov o kvalite a kvantite vodného zdroja od správcu/prevádzkovateľa | J49: bez zásahu | K49: bez zásahu
A50: Brod | C50: 78, 115a, 115b, 115c, 117a, 117b, 117c, 136b, 136c, 136d | D50: 55.23 | F50: Manažment v zmysle Manuálu pre kategóriu 4.1 | G50: zachovanie a posilnenie vodoochrannej funkcie lesa | H50: stav lesných ekosystémov z pohľadu vodoochranných funkcií, kvalita a kvantita vodného zdroja | I50: v prípade realizácie lesohospodárskych zásahov, inak ročne zber údajov o kvalite a kvantite vodného zdroja od správcu/prevádzkovateľa | J50: bez zásahu | K50: bez zásahu
A51: Brod | C51: 36, 37b, 79, 80 1, 80 2, 80 3, 93 1, 93 2, 94 1, 94 2, 95a1, 95a2, 100a, 100b, 101a, 101b, 102a, 102b, 103a, 103b, 104a, 104b, 105a, 105b, 105c, 106, 107, 108, 109, 110a1, 110a2, 110a3, 110b, 110c, 111a, 111b, 111c, 112, 113a, 113b, 113c, 114a, 114b, 116a, 116b, 116c, 118, 119, 120a1, 120a2, 120b, 121a1, 121a2, 121b, 131a, 132a, 132b, 132c, 135a, 135b, 135c, 137a, 137b, 138a, 138b, 139a, 139c, 139d | D51: 246.69 | F51: Manažment v zmysle Manuálu pre kategóriu 5.1 | G51: zachovanie a posilnenie vodoochrannej funkcie lesa | H51: stav lesných ekosystémov z pohľadu vodoochranných funkcií, kvalita a kvantita vodného zdroja | I51: v prípade realizácie lesohospodárskych zásahov, inak ročne zber údajov o kvalite a kvantite vodného zdroja od správcu/prevádzkovateľa | J51: bez zásahu | K51: bez zásahu
A52: Žiar | C52: 4206, 4207 | D52: 0 | F52: Manažment v zmysle Manuálu pre kategóriu 4.2 | G52: zachovanie a posilnenie vodoochrannej funkcie lesa | H52: stav lesných ekosystémov z pohľadu vodoochranných funkcií, kvalita a kvantita vodného zdroja | I52: v prípade realizácie lesohospodárskych zásahov, inak ročne zber údajov o kvalite a kvantite vodného zdroja od správcu/prevádzkovateľa
A53: Žiar | C53: 2010c, 2023a1, 2023a2, 2023a3, 2023b, 2024 1, 2024 2, 2024 3, 2025 1, 2025 2, 2025 3, 2026a1, 2026a2, 2026a3, 2026b, 2027a1, 2027a2, 2027b, 2028a1, 2028a2, 2028b, 2028c, 2028d, 2028e, 2029a, 2029b, 2030a, 2030b1, 2030b2, 2030c, 2030d, 2030e, 2031a, 2031b, 2032a, 2032b, 2032c, 2033a, 2033b, 2034a1, 2034a2, 2034b, 2034c, 2035, 2036a, 2036c, 2037 1, 2037 2, 2037 3, 2080a1, 2080a2, 2080a3, 2080b, 2080c, 2081a, 2081b, 2082a, 2082b, 2084a, 2084b, 2086a1, 2086a2, 2086a3, 2095a, 2095b, 2096a, 2096b, 2096c, 2096d, 2096e, 2097, 2098a1, 2098a2, 2098b, 2099c, 2099d1, 2099d2, 2101c, 2101d, 2102a, 2102b, 2102c, 2102d, 2102e, 2102f, 2105, 2106a1, 2106a2, 2106a3, 2106a4, 2106b, 2111, 2112a, 2112b, 2113a, 2113b, 2113c, 2113d, 2114a2, 2114a3, 2114b, 4126, 4135, 4136b, 4136d, 4136f, 4136g, 4136h, 4197, 4203 1, 4203 2, 4204a1, 4204a2, 4204a3, 4204a4, 4204b, 4205 1, 4205 2, 4205 3, 4208 1, 4208 2, 4208 3, 4208 4, 5210b, 5272, 5292b, 5306a, 5306b, 5306c1, 5306c2, 5306c3, 5306c4, 5308c, 5308d, 5309a, 5309b, 5310a, 5310b, 5310c, 5314, 5315a, 5315b, 5316, 5317a1, 5317a2, 5317b1, 5317b2 | D53: 499.9 | F53: Manažment v zmysle Manuálu pre kategóriu 5.1 | G53: zachovanie a posilnenie vodoochrannej funkcie lesa | H53: stav lesných ekosystémov z pohľadu vodoochranných funkcií, kvalita a kvantita vodného zdroja | I53: v prípade realizácie lesohospodárskych zásahov, inak ročne zber údajov o kvalite a kvantite vodného zdroja od správcu/prevádzkovateľa
A54: Žiar | C54: 2104, 2114a1, 5292a1 | D54: 24.08 | F54: Manažment v zmysle Manuálu, príloha č. II. | G54: zachovanie a posilnenie vodoochrannej funkcie lesa | H54: stav lesných ekosystémov z pohľadu vodoochranných funkcií, kvalita a kvantita vodného zdroja | I54: v prípade realizácie lesohospodárskych zásahov, inak ročne zber údajov o kvalite a kvantite vodného zdroja od správcu/prevádzkovateľa
D55: =SUM(D4:D54) -> 4459.9

Sheet 6.1 zdravotno - hyg. využ. 
A1: 6.1. LESY S PREFERENCIOU ZDRAVOTNO - HYGIENICKÉHO VYUŽÍVANIA
A2: v certfikovanom území negatívny výskyt
A3: LHC | B3: lokalita/miestny názov | C3: JPRL/súbor JPRL | D3: Výmera (ha) | E3: k.ú. | F3: manažment | G3: Cieľ LVSV | H3: Monitorovací indikátor | I3: monitoring | J3: výsledok monitoringu | K3: poznámka

Sheet 6.2. rekreačné využitie
A1: 6.2 Lesy s preferenciou rekreačného využívania - rekreačné lesy
A2: v certfikovanom území negatívny výskyt
A3: LHC | B3: lokalita/miestny názov | C3: JPRL/súbor JPRL | D3: Výmera (ha) | E3: k.ú. | F3: manažment | G3: Cieľ LVSV | H3: Monitorovací indikátor | I3: monitoring | J3: výsledok monitoringu | K3: poznámka
A4: Topoľčianky Žitavany | B4: Topoľčiansky park | E4: Topoľčianky | G4: Zachovať predmet ochrany CHÚ | H4: Stav biotopov a druhov | I4: Iba v prípade realizácie lesohospodárskych zásahov ináč v rámci revízie CHÚ

Sheet 6.3. hist., kultúrne, nábož. 
A1: 6.3. Historicky, kultúrne a nábožensky významné územia
A3: LHC | B3: lokalita/miestny názov | C3: JPRL/súbor JPRL | D3: Výmera (ha) | E3: k.ú. | F3: manažment | G3: Cieľ LVSV | H3: Monitorovací indikátor | I3: monitoring | J3: výsledok monitoringu | K3: poznámka
A4: Skýcov | B4: Vrch hora | E4: Veľký Klíž
A5: Skýcov | B5: Pri troch tisoch | C5: 297B 10 | D5: 0.73 | E5: Ješková Ves | F5: V zmysle PSoL
A6: Jedľové Kostoľany | B6: PP Jazvinská jaskyňa | C6: 65a | F6: bez zásahu | K6: jaskyňa
A7: Jelenec | B7: pamätník SNP | C7: 115c | D7: 3.48 | E7: Zlatno | F7: Manažment v zmysle pre kategóriu 6.3 | J7: Bez zásahu
A8: Nitrianska Streda | B8: Gedelov, 1 x ročne poľná omša | C8: 1343 | D8: 0.05 | E8: Súlovce | F8: Manažment v zmysle pre kategóriu 6.3 | J8: Bez zásahu
A9: Nitrianska Streda | B9: Oponický hrad | C9: 1176, N9 | D9: 3.54 | E9: Oponice
A10: Zobor | B10: Jelenská gaštanica | C10: 35a, 35b | D10: 14.93 | E10: Jelenec | F10: Manažment v zmysle pokynov ŠOP | J10: Bez zásahu
A11: Zobor | B11: Nová Pyramída | C11: CH6 | D11: 1.49 | E11: Zobor | F11: Manažment v zmysle pre kategóriu 6.4 | J11: Bez zásahu
A12: Lesy Kozelník | B12: PP Žakýlske pleso | C12: 403b | D12: 6.03 | F12: bez zásahu | J12: bez zásahu | K12: bez zásahu
A13: Banská Štiavnica II. | B13: Banská Štiavnica, Kalvária | C13: 1992a | D13: 3.39 | F13: Manažment v zmysle Manuálu, príloha č. VI | J13: bez zásahu UNESCO | K13: bez zásahu
A14: Šášov | B14: Wilckensove pamätné stromy | C14: 248 | D14: 4.19 | F14: Manažment v zmysle Manuálu pre kategóriu 4.1 | J14: bez zásahu - ochranné pásmo chránených stromov | K14: bez zásahu
A15: Brod | B15: PP Ostrovica | C15: 326a | D15: 6.25 | F15: bez zásahu | J15: bez zásahu | K15: bez zásahu
A16: Brod | B16: CHS: Kľacké duglasky | C16: 274b | D16: 7.03 | F16: ochrana CHS | J16: bez zásahu | K16: bez zásahu | L16: chránené stromy
D17: =SUM(D4:D16) -> 51.11

Sheet 6.4. objekty Pro Silva a GZ  
A1: 6.4. Objekty Pro Silva a GZ (génové základne)
A3: LHC | B3: lokalita/miestny názov | C3: JPRL/súbor JPRL | D3: Výmera (ha) | E3: k.ú. | F3: manažment | G3: Cieľ LVSV | H3: Monitorovací indikátor | I3: monitoring | J3: výsledok monitoringu | K3: poznámka
A4: Topoľčianky - Žitavany | B4: 506 Rakytov | C4: 1306A, 1306B, 1307, 1308, 1309, 1310A, 1310B, 1311A, 1311B, 1312, 1313, 1314, 1315-10, 1315-20, 1315-30, 1316-10, 1316-20, 1316-30, 1316-40, 1317, 1318A, 1318B, 1318C, 1319-20, 1320, 1322-10, 1322-20, 1323-11, 1323-11, 1323-12, 1323-20, 1323-30, 1324A10, 1324A20, 1325, 1326 | D4: 211.26 | E4: Topoľčianky | F4: V zmysle PSoL | G4: Pro Silva - zásady prírode blízkeho obhospodarovania lesov
A5: Skýcov | B5: 504 Lakeť | C5: 230, 235, 236, 237, 237, 238, 239, 240A, 240B, 241, 242, 243, 244-10, 244-20, 245-10, 245-20, 246, 247-10, 247-20, 247-30, 248, 249, 250, 251-10, 251-20, 252, 253, 254-10, 254-20, 255, 256-10, 256-20, 257B | D5: 189.52 | E5: Skýcov, Veľký Klíž | F5: V zmysle PSoL | G5: Pro Silva - zásady prírode blízkeho obhospodarovania lesov
A6: Skýcov | B6: 507 Kajanov I. | C6: 11-10, 11-20, 11-30, 12A-10, 12A-20, 12B, 14, 15-10, 15-20, 16-10, 16-20,17-10, 17-20, 18-10, 18-20, 19-10, 19-20 | D6: 102.3 | E6: Klížske hradište, Skýcov | F6: V zmysle PSoL | G6: Pro Silva - zásady prírode blízkeho obhospodarovania lesov
A7: Topoľčianky - Žitavany | B7: qpeG12ZM-130 Piesky | C7: 1094A, 1094B, 1093, 1092, 1091, 1090, 1089, 1088, 1087, 1086, 1085, 1084A, 1084B, 1083, 1082, 1081, 1080, 1079, 1078, 1077, 1076, 1075, 1074, 1073, 1072A, 1072B, 1071, 1070, 1069, 1068A, 1067, 1066, 1065 | D7: 260.15 | E7: Topoľčianky, Žikava | F7: V zmysle PSoL | G7: Génová základňa pre DZ
D8: =SUM(D4:D7) -> 763.23
