Workbook

Sheet Súčet plôch
A1: OZ TRIBEČ
A3: VEĽKÉ SPOLOČENSKÉ HODNOTY
A5: Kategória | B5: Podkategória | D5: Výmera (ha)
A6: 1. | C6: Lesy významné z hľadiska biologickej rozmanitosti | D6: =SUM(D7+D13+D14+D15) -> 14679.378
B7: 1.1. | C7: Chránené územia spolu | D7: =SUM('1.1. CHÚ'!G64) -> 10606.438
C8: z toho NP /Národný park/
C9: NPR | D9: 323.29
C10: PR | D10: 431.64
C11: PP | D11: 0.95
C12: CHA | D12: 58.26
B13: 1.2. | C13: Územie s výskytom zákonom chráneného živočícha | D13: 3810.76
C14: Územie s výskytom zákonom chránenej rastliny | D14: 236.84
B15: 1.3. | C15: Územie s výskytom endemických druhov | D15: =SUM('1.3. endemické druhy'!D6) -> 25.34
A16: 3. | C16: Lesy so vzácnymi, ohrozenými a zriedkavými ekosystémami | D16: =SUM(D17:D19) -> 5399.62
B17: 3.1. | C17: Vzácne, ohrozené a zriedkavé biotopy | D17: =SUM('3.1. vzácne biotopy'!D81) -> 4932.26
B18: 3.2. | C18: Pralesy a prírodné lesy s charakterom pralesa | D18: =SUM('3.2.prírodné lesy prales'!E16) -> 414.1
B19: 3.3. | C19: Lesy s významným prirodzeným výskytom tisa obyčajného | D19: =SUM('3.3. prirodzený výskyt tisa'!E7) -> 53.26
A20: 4. | C20: Lesy s významnou pôdoochranou a hydrickou funkciou | D20: =SUM(D21:D22) -> 6177.71
B21: 4.1. | C21: Lesy s významnou pôdoochrannou funkciou | D21: =SUM('4.1pôdoochranná funkcia '!D56) -> 6043.81
B22: 42404 | C22: Lesy s významnou hydrickou funkciou | D22: =SUM('4.2. hydrická funkcia'!D13) -> 133.9
A23: 5. | C23: Lesy významné z hľadiska plnenia základných životných potrieb miestnych komunít | D23: =SUM(D24) -> 4459.9
B24: 5.1. | C24: Lesy s významnou vodoochrannou funkciou pre miestne komunity | D24: =SUM('5.1. vodoochranná funkcia'!D55) -> 4459.9
A25: 6. | C25: Lesy významné pre miestne komunity z hľadiska sociálnych a tradičných kultúrnych hodnôt | D25: =SUM(D26:D29) -> 51.11
B26: 6.1. | C26: Lesy s preferenciou zdravotno - hygienického využívania
B27: 6.2. | C27: Lesy s preferenciou rekreačného využívania
B28: 6.3. | C28: Historicky, kultúrne a nábožensky významné územia | D28: =SUM('6.3. hist., kultúrne, nábož. '!D17) -> 51.11
B29: 6.4. | C29: Objekty Pro Silva a GZ (génové základne)
B30: Spolu: | D30: =SUM(D6+D16+D20+D23+D25) -> 30767.718

Sheet 1.1. CHÚ
A1: 1.1. CHRÁNENÉ ÚZEMIA
A3: Názov CHÚ | B3: Kategória CHÚ | C3: Stupeň ochrany | D3: LHC | E3: k.ú. | F3: JPRL | G3: Výmera (ha) | H3: manažment | I3: cieľ LVSV | J3: Monitorovací indikátor | K3: monitoring /revízia CHÚ | L3: výsledok monitoringu /aktuálny stav | M3: Poznámka
A4: Topoľčianska zubria zvernica | B4: CHA | C4: 3 | D4: Topoľčianky - Žitavany | E4: Hosťovce | F4: 1178, 1177, 1176, 1175 A, 1175 B, 1175 C, 1175 D, 1174 A, 1174 B, 1173 | G4: 116.53 | H4: V zmysle PSoL | I4: Zachovať predmet ochrany CHÚ | J4: Stav biotopov a druhov | K4: Iba v prípade realizácie lesohospodárskych zásahov ináč v rámci revízie CHÚ.
A5: Topoľčiansky park | B5: CHA | C5: 4 | D5: Topoľčianky - Žitavany | E5: Topoľčianky | G5: 10.33 | I5: Zachovať predmet ochrany CHÚ | J5: Stav biotopov a druhov | K5: Iba v prípade realizácie lesohospodárskych zásahov ináč v rámci revízie CHÚ.
A6: Skuev - Člnok | B6: Skuev | C6: 2 | D6: Topoľčianky - Žitavany | E6: Zlatno, Hosťovce, Mankovce, Žikava, Lovce | F6: 1179 ,1180 ,1181 ,1182 ,1183 ,1184 A,1184 B,1185 A,1185 B,1186 A,1186 B,1186 C,1186 D,1187 ,1188 ,1189 ,1190 ,1191 A,1191 B,1191 C,1192 A,1192 B,1193 ,1194 A,1195 A,1195 B,1196 A,1196 B,1196 C,1197 ,1198 ,1199 ,1200 A,1200 B,1200 C,1201 ,1202 ,1203 ,1204 A,1204 B,1205 A,1205 B,1206 A,1206 B,1207 ,1210 A,1210 B,1210 C,1233 ,1234 A,1234 B,1235 ,1236 A,1236 B,1237 A,1237 B,1238 A,1238 B,1239 ,1240 ,1241 A,1241 B,1242 A,1242 C,1251 ,1252 ,1253 ,1254 | G6: 446.22 | H6: V zmysle PSoL | I6: Zachovať predmet ochrany CHÚ
A7: CHKO - Ponitrie | C7: 1 | D7: Skýcov | F7: 26 B, 82 A, 224, 233, 234 A, 235, 237, 341 B, 363, 370 A | G7: 109.25 | H7: V zmysle PSoL | I7: Zachovať predmet ochrany CHÚ
A8: CHKO - Ponitrie | C8: 2 | D8: Skýcov | F8: 129, 311, 312, 313, 314, 315, 316, 317, 318, 360 A, 360 B, 361, 370 B, 371 A, 371B, 372 A 372 B, 373, 374, 375 A, 375 B, 377 | G8: 171.97 | H8: V zmysle PSoL | I8: Zachovať predmet ochrany CHÚ
A9: Chvú - Tríbeč | B9: Chvú | C9: 1 | D9: Skýcov | E9: Klátová nová Ves | F9: 363, 370 A | H9: V zmysle PSoL | I9: Zachovať predmet ochrany CHÚ
A10: Chvú - Tríbeč | B10: Chvú | C10: 2 | D10: Skýcov | E10: Klátová nová Ves | F10: 360 A, 360 B, 361, 370 B, 371 A, 371 B, 372 A, 372 B, 373, 374, 375 A, 375 B, 377 | H10: V zmysle PSoL | I10: Zachovať predmet ochrany CHÚ
A11: Jedľové Kostoľany | C11: 61 | D11: 24.14 | E11: Bez zásahu | F11: Zachovať predmet ochrany CHÚ | G11: Stav biotopov a druhov | H11: Iba v prípade realizácie lesohospodárskych zásahov ináč v rámci revízie CHÚ.
A12: Jedľové Kostoľany | C12: 59, 60b, 62a, 62b 10, 62b 20, 62c, 62d, 63a, 63b | D12: 43.09 | E12: Bez zásahu
A13: Jedľové Kostoľany | C13: 2a, 2b | D13: 20.01 | E13: Bez zásahu
A14: Hrušov | C14: 62b, 63a, 63b, 64a, 64b, 66a, 66b, 66c, 66d | D14: 40.69 | E14: Bez zásahu | F14: Zachovať predmet ochrany CHÚ | G14: Stav biotopov a druhov | H14: Iba v prípade realizácie lesohospodárskych zásahov ináč v rámci revízie CHÚ.
A15: Hrušov | C15: 62a 10, 62a 20, 65 | D15: 10.61 | E15: Bez zásahu
A16: Ponitrie | B16: CHKO | C16: 2 | D16: Zobor, Jelenec, Nitrianska Streda | G16: Celkom 37665,41, za LS Tribeč v užívaní LSR je 11015,53, LC N. Streda 4747,00, LC Zobor 2186,18, LC Jelenec 4082,35 | H16: 5432.01 | I16: Manažment v zmysle Manuálu | J16: Zachovať predmet ochrany CHÚ | K16: Stav biotopov a druhov | L16: Iba v prípade realizácie lesohospodárskych zásahov ináč v rámci revízie CHÚ.
A17: Hrdovická | B17: NPR | C17: 4 | D17: Nitrianska Streda | E17: Čeladince | F17: 1444a, 1445a, 1445b, 1446 | G17: 30.03 | H17: 30.03 | I17: Bez zásahu | J17: Zachovať predmet ochrany CHÚ | K17: Stav biotopov a druhov | L17: Iba v prípade realizácie lesohospodárskych zásahov ináč v rámci revízie CHÚ. | M17: Bez zásahu
A18: Hrdovická | B18: OP NPR | C18: 3 | D18: Nitrianska Streda | E18: Čeladince, Kovarce | F18: 100 m, 1391/., 1392/., 1393/., 1394/., 1441C/., 1442/., 1443B/., 1444B/., 1447/., 1451/., 1452/. | G18: 29.55 | H18: 29.55 | I18: Manažment v zmysle Manuálu | J18: Zachovať predmet ochrany CHÚ | K18: Stav biotopov a druhov | L18: Iba v prípade realizácie lesohospodárskych zásahov ináč v rámci revízie CHÚ. | M18: Bez zásahu
A19: Zoborská lesostep | B19: NPR | C19: 5 | D19: Zobor | E19: Zobor | F19: iný obhospodarovatel lesa | G19: 23.08 | H19: 0 | I19: Bez zásahu | J19: Zachovať predmet ochrany CHÚ | K19: Stav biotopov a druhov | L19: Iba v prípade realizácie lesohospodárskych zásahov ináč v rámci revízie CHÚ. | M19: Bez zásahu
A20: Zoborská lesostep | B20: OP NPR | C20: 3 | D20: Zobor | E20: Zobor | F20: 100 m, N55, N56, N57, 276C/. | G20: 0 | H20: 6.89 | I20: Manažment v zmysle Manuálu | J20: Zachovať predmet ochrany CHÚ | K20: Stav biotopov a druhov | L20: Iba v prípade realizácie lesohospodárskych zásahov ináč v rámci revízie CHÚ. | M20: Bez zásahu
A21: Kovarská hôrka | B21: PR | C21: 4 | D21: Nitrianska Streda | E21: Kovarce | F21: 1369a | G21: 4.4 | H21: 4.4 | I21: Bez zásahu | J21: Zachovať predmet ochrany CHÚ | K21: Stav biotopov a druhov | L21: Iba v prípade realizácie lesohospodárskych zásahov ináč v rámci revízie CHÚ. | M21: Bez zásahu
A22: Kovarská hôrka | B22: OP PR | C22: 3 | D22: Nitrianska Streda | E22: Kovarce | F22: 100 m, 1366/., 1367/., 1370/., 1371/. | G22: 0 | H22: 13.78 | I22: Manažment v zmysle Manuálu | J22: Zachovať predmet ochrany CHÚ | K22: Stav biotopov a druhov | L22: Iba v prípade realizácie lesohospodárskych zásahov ináč v rámci revízie CHÚ. | M22: Bez zásahu
A23: Lupka | B23: PR | C23: 4 | D23: Zobor | E23: Zobor | F23: 332a | G23: 20.73 | H23: 9.87 | I23: Bez zásahu | J23: Zachovať predmet ochrany CHÚ | K23: Stav biotopov a druhov | L23: Iba v prípade realizácie lesohospodárskych zásahov ináč v rámci revízie CHÚ. | M23: Bez zásahu
A24: Lupka | B24: OP PR | C24: 3 | D24: Zobor | E24: Zobor | F24: 100 m, mimo LPF | G24: 27.6659 | H24: 0 | I24: Manažment v zmysle Manuálu | J24: Zachovať predmet ochrany CHÚ | K24: Stav biotopov a druhov | L24: Iba v prípade realizácie lesohospodárskych zásahov ináč v rámci revízie CHÚ. | M24: Bez zásahu
A25: Solčiansky háj | B25: PR | C25: 4 | D25: Nitrianska Streda | E25: Solčany | F25: 1549a, 1549b | G25: 7.07 | H25: 7.07 | I25: Bez zásahu | J25: Zachovať predmet ochrany CHÚ | K25: Stav biotopov a druhov | L25: Iba v prípade realizácie lesohospodárskych zásahov ináč v rámci revízie CHÚ. | M25: Bez zásahu
A26: Solčiansky háj | B26: OP PR | C26: 3 | D26: Nitrianska Streda | E26: Solčany | F26: 100 m, 1514/., 1515/., 1550/., 1554/., 1547/., 1803 /. | G26: 15.49 | H26: 15.49 | I26: Manažment v zmysle Manuálu | J26: Zachovať predmet ochrany CHÚ | K26: Stav biotopov a druhov | L26: Iba v prípade realizácie lesohospodárskych zásahov ináč v rámci revízie CHÚ. | M26: Bez zásahu
A27: Žibrica | B27: PR | C27: 4.3 | D27: Zobor | E27: Žirany, Dolné Štitáre, Mechenice | F27: 376, 377, 382, N32-N36, N91-N99 | G27: 68.6053 | H27: 38.88 | I27: Bez zásahu | J27: Zachovať predmet ochrany CHÚ | K27: Stav biotopov a druhov | L27: Iba v prípade realizácie lesohospodárskych zásahov ináč v rámci revízie CHÚ. | M27: Bez zásahu
A28: Svoradova jaskyňa | B28: PP | D28: Zobor | E28: Zobor | F28: iný obhospodarovatel lesa | G28: 0 | H28: 0
A29: Jelenská gaštanica | B29: CHA | C29: 4 | D29: Zobor | E29: Jelenec | F29: 35A1/., 35A2, 35A3 | G29: 3.8 | H29: 3.8 | I29: Bez zásahu | J29: Zachovať predmet ochrany CHÚ | K29: Stav biotopov a druhov | L29: Iba v prípade realizácie lesohospodárskych zásahov ináč v rámci revízie CHÚ. | M29: Bez zásahu
A30: Huntácka dolina | B30: CHA | C30: 4 | D30: Zobor | F30: iný obhospodarovatel lesa | G30: 8.74 | H30: 0
A31: Kostolianske lúky | B31: CHA | C31: 3 | D31: Jelenec | F31: mimo LPF | G31: 4.2019 | H31: 0
A32: Lapášsky park | B32: CHA | C32: 3 | D32: Zobor | F32: iný obhospodarovatel lesa | G32: 2.19 | H32: 0
A33: Velčické cery | B33: CHS | D33: Velčice | F33: iný obhospodarovatel lesa, mimo LPF | G33: 0 | H33: 0
A34: SKCHVU 031 Tribeč | B34: CHVU | D34: Jelenec, Nitrianska Streda | G34: Celkom 23802,8, za LS Tribeč v užívaní LSR je 10311,24, LC N. Streda 4964,75, LC Zobor 1254,21, LC Jelenec 4092,28 | H34: 0 | I34: Manažment v zmysle Manuálu | J34: Zachovať predmet ochrany CHÚ | K34: Stav biotopov a druhov | L34: Iba v prípade realizácie lesohospodárskych zásahov ináč v rámci revízie CHÚ.
A35: SKUEV 0133 Hôrky | B35: UEV | D35: Jelenec, Nitrianska Streda | G35: 329 | H35: 0 | I35: Manažment v zmysle Manuálu | J35: Zachovať predmet ochrany CHÚ | K35: Stav biotopov a druhov | L35: Iba v prípade realizácie lesohospodárskych zásahov ináč v rámci revízie CHÚ.
A36: SKUEV 0879 Lupka | B36: UEV | D36: Zobor | G36: 23 | H36: 0 | I36: Manažment v zmysle Manuálu | J36: Zachovať predmet ochrany CHÚ | K36: Stav biotopov a druhov | L36: Iba v prípade realizácie lesohospodárskych zásahov ináč v rámci revízie CHÚ.
A37: SKUEV 0877 Malý Bahorec | B37: UEV | D37: Zobor | F37: mimo LPF | G37: 5.99 | H37: 0
A38: SKUEV 0132 Kostolianske lúky | B38: UEV | D38: Jelenec | F38: mimo LPF | G38: 4 | H38: 0
A39: SKUEV 4035 Ladické lúky | B39: UEV | D39: Jelenec | F39: mimo LPF | G39: 2 | H39: 0
A40: SKUEV 0874 Člnok | B40: UEV | D40: Jelenec | F40: iný obhospodarovatel lesa | G40: 477 | H40: 0
A41: SKUEV 0130 Zobor | B41: UEV | C41: 2 | D41: Zobor | G41: 1907 | H41: 0 | I41: Manažment v zmysle Manuálu | J41: Zachovať predmet ochrany CHÚ
...

Sheet 1.2.zriedkavé,vzácne, ohrozené
A1: 1.2. Územia s výskytom vzácnych, ohrozených a zriedkavých druhov
A2: Vzhľadom na ochranársku citlivosť niektorých údajov (vykrádanie hniezd...) údaje o porastoch, výmerách a katastrálnych územiach nebudú verejne prístupné.
A4: LHC | B4: Druh /chránené živočíchy/ | C4: JPRL | D4: Výmera (ha) | E4: manažment | F4: Cieľ LVSV | G4: Monitorovací indikátor | H4: monitoring | I4: výsledok monitoringu | J4: poznámka
A5: Skýcov | B5: Accipiter gentilis | C5: 322, 323, 324, 325, 326, 327, 334, 338 | D5: 66.68 | E5: V zmysle PSoL | F5: zlepšiť, resp. zachovať priaznivý stav druhu | G5: Výskyt druhu
A6: Topoľčianky - Žitavany | B6: Accipiter gentilis | C6: 1081, 1083, 1084 A, 1085, 1087 | D6: 66.43 | E6: V zmysle PSoL | F6: zlepšiť, resp. zachovať priaznivý stav druhu | G6: Výskyt druhu
A7: Skýcov | B7: Salamandra salamandra | C7: 6, 7, 8, 9, 12 A, 12 B, 13, 20, 37, 39 | D7: 118.84 | E7: V zmysle PSoL | F7: zlepšiť, resp. zachovať priaznivý stav druhu | G7: Výskyt druhu
A8: Topoľčianky - Žitavany | B8: Salamandra salamandra | C8: 1197, 1198, 1199, 1200 A, 1200 B, 1200 C, 1201, 1202, 1233, 1234 A, 1234 B, 1235 | E8: V zmysle PSoL | F8: zlepšiť, resp. zachovať priaznivý stav druhu | G8: Výskyt druhu
A9: Skýcov | B9: Upupa epops | C9: 104 A, 104 B, 105, 106, 107, 108, 112, 113 A, 156, | D9: 58.79 | E9: V zmysle PSoL | F9: zlepšiť, resp. zachovať priaznivý stav druhu | G9: Výskyt druhu
A10: Skýcov | B10: Buteo Buteo | C10: 340, 341 A, 341 B, 342, 343, 345 | D10: 59.22 | E10: V zmysle PSoL | F10: zlepšiť, resp. zachovať priaznivý stav druhu | G10: Výskyt druhu
A11: Topoľčianky - Žitavany | B11: Buteo Buteo | C11: 1004, 1005, 1006, 1007, 1008, 1014 B, 1015, 1035, | D11: 114.72 | E11: V zmysle PSoL | F11: zlepšiť, resp. zachovať priaznivý stav druhu | G11: Výskyt druhu
A12: Jedľové Kostoľany | B12: Rosalia alpina | C12: 126a, 201 1, 203 1, 208 1 | D12: 24.87 | E12: Manažment v zmysle Manuálu, príloha č. II | F12: zachovanie biodiverzity | G12: výskyt | H12: Iba v prípade realizácie lesohospodárskych zásahov.
A13: Jedľové Kostoľany | B13: Rosalia alpina, Lucanus cervus, Cerambyx cerdo | C13: 164 1, 166 1, 207 1, 211 1 | D13: 22.33 | E13: Manažment v zmysle Manuálu, príloha č. II | F13: zachovanie biodiverzity | G13: výskyt | H13: Iba v prípade realizácie lesohospodárskych zásahov.
A14: Hrušov | B14: Rosalia alpina, Lucanus cervus, Cerambyx cerdo | C14: 15 20 | D14: 4.28 | E14: bez zásahu | F14: zachovanie biodiverzity | G14: výskyt | H14: Iba v prípade realizácie lesohospodárskych zásahov.
A15: Topoľčianky a Žitavany | B15: Lucanus cervus, Cerambyx cerdo | C15: 236a 10, 323 10 | D15: 19.27 | E15: Manažment v zmysle Manuálu, príloha č. II | F15: zachovanie biodiverzity | G15: výskyt | H15: Iba v prípade realizácie lesohospodárskych zásahov.
A16: Jelenec | B16: Epipactis helleborine | C16: 25 | D16: 6.9 | E16: bez zásahu | F16: zachovanie biodiverzity | G16: výskyt | H16: Iba v prípade realizácie lesohospodárskych zásahov. | I16: Bez zásahu
A17: Jelenec | B17: Epipactis helleborine | C17: 33a 2 | D17: 6.99 | E17: Manažment v zmysle Manuálu, príloha č. II | F17: zachovanie biodiverzity | G17: výskyt | H17: Iba v prípade realizácie lesohospodárskych zásahov. | I17: Bez zásahu
A18: Jelenec | B18: Scrophularia vernalis | C18: 42, 320 | D18: 10.31 | E18: bez zásahu | F18: zachovanie biodiverzity | G18: výskyt | H18: Iba v prípade realizácie lesohospodárskych zásahov. | I18: Bez zásahu
A19: Jelenec | B19: Scrophularia vernalis | C19: 41a | D19: 10.7 | E19: Manažment v zmysle Manuálu, príloha č. II | F19: zachovanie biodiverzity | G19: výskyt | H19: Iba v prípade realizácie lesohospodárskych zásahov. | I19: Bez zásahu
A20: Nitrianska Streda | B20: Epipactis helleborine | C20: 1549a | D20: 3.53 | E20: bez zásahu | F20: zachovanie biodiverzity | G20: výskyt | H20: Iba v prípade realizácie lesohospodárskych zásahov. | I20: Bez zásahu
A21: Nitrianska Streda | B21: Epipactis helleborine | C21: 1133 | D21: 8.38 | E21: Manažment v zmysle Manuálu, príloha č. VI | F21: zachovanie biodiverzity | G21: výskyt | H21: Iba v prípade realizácie lesohospodárskych zásahov. | I21: 2020 VU+50, 171,15m3/8,38ha
A22: Nitrianska Streda | B22: Scrophularia vernalis | C22: 1304, 1446 | D22: 21.92 | E22: bez zásahu | F22: zachovanie biodiverzity | G22: výskyt | H22: Iba v prípade realizácie lesohospodárskych zásahov. | I22: Bez zásahu
A23: Zobor | B23: Adonis vernalis | C23: 200b, 382 | D23: 14.65 | E23: bez zásahu | F23: zachovanie biodiverzity | G23: výskyt | H23: Iba v prípade realizácie lesohospodárskych zásahov. | I23: Bez zásahu
A24: Zobor | B24: Adonis vernalis, Pulsatilla grandis, Dictamnus albus, Stipa capillata | C24: 332a | D24: 9.87 | E24: bez zásahu | F24: zachovanie biodiverzity | G24: výskyt | H24: Iba v prípade realizácie lesohospodárskych zásahov. | I24: Bez zásahu
A25: Zobor | B25: Cerasus mahaleb | C25: 276a | D25: 13.94 | E25: Manažment v zmysle Manuálu pre kategóriu 4.1 | F25: zachovanie biodiverzity | G25: výskyt | H25: Iba v prípade realizácie lesohospodárskych zásahov. | I25: Bez zásahu
A26: Zobor | B26: Epipactis helleborine | C26: 317 | D26: 9.26 | E26: Manažment v zmysle Manuálu, príloha č. II | F26: zachovanie biodiverzity | G26: výskyt | H26: Iba v prípade realizácie lesohospodárskych zásahov. | I26: Bez zásahu
A27: Zobor | B27: Epipactis purpurata | C27: 314 | D27: 22.44 | E27: bez zásahu | F27: zachovanie biodiverzity | G27: výskyt | H27: Iba v prípade realizácie lesohospodárskych zásahov. | I27: Bez zásahu
A28: Zobor | B28: Gagea bohemica, Cerasus mahaleb | C28: 276b | D28: 3.8 | E28: bez zásahu | F28: zachovanie biodiverzity | G28: výskyt | H28: Iba v prípade realizácie lesohospodárskych zásahov. | I28: Bez zásahu
A29: Zobor | B29: Gagea minima | C29: 371 | D29: 5.99 | E29: Manažment v zmysle Manuálu, príloha č. II | F29: zachovanie biodiverzity | G29: výskyt | H29: Iba v prípade realizácie lesohospodárskych zásahov. | I29: Bez zásahu
A30: Zobor | B30: Scrophularia vernalis | C30: 256a, 269c | D30: 28.24 | E30: Manažment v zmysle Manuálu, príloha č. II | F30: zachovanie biodiverzity | G30: výskyt | H30: Iba v prípade realizácie lesohospodárskych zásahov. | I30: Bez zásahu
A31: Zobor | B31: Scrophularia vernalis | C31: 264a | D31: 8.2 | E31: Manažment v zmysle Manuálu, príloha č. VI | F31: zachovanie biodiverzity | G31: výskyt | H31: Iba v prípade realizácie lesohospodárskych zásahov. | I31: Bez zásahu
A32: Jelenec | B32: Lucanus cervus, Cerambyx cerdo | C32: 219a, 25, 384, 400, 411, 432a, 472, 475, 503a | D32: 38.36 | E32: bez zásahu | F32: zachovanie biodiverzity | G32: výskyt | H32: Iba v prípade realizácie lesohospodárskych zásahov. | I32: Bez zásahu
A33: Jelenec | B33: Lucanus cervus, Cerambyx cerdo | C33: 274a, 275, 377a | D33: 33.71 | E33: Manažment v zmysle Manuálu, príloha č. II | F33: zachovanie biodiverzity | G33: výskyt | H33: Iba v prípade realizácie lesohospodárskych zásahov. | I33: 274A00: OU MPP,2023 540 m3
A34: Jelenec | B34: Lucanus cervus, Cerambyx cerdo | C34: 485b | D34: 5.57 | E34: Manažment v zmysle Manuálu, príloha č. VI | F34: zachovanie biodiverzity | G34: výskyt | H34: Iba v prípade realizácie lesohospodárskych zásahov. | I34: Bez zásahu
A35: Jelenec | B35: Rosalia alpina | C35: 180a, 243, 271 | D35: 7.76 | E35: bez zásahu | F35: zachovanie biodiverzity | G35: výskyt | H35: Iba v prípade realizácie lesohospodárskych zásahov. | I35: Bez zásahu
A36: Jelenec | B36: Rosalia alpina | C36: 180b, 181a 1., 182 1., 185 1., 186 1., 187 1., 189d 1., 193 1., 194a 1., 194b, 196a, 241a 1., 242 1., 244b 1., 245 1., 246 1., 248 1., 249a 1., 251 1., 252 1., 253 1., 254 1., 255 1., 256 1., 257 1., 258 1., 259 1., 262, 265 1., 266 1., 267 1., 268 1., 272a, 272c 1., 310b 1., 315 1., 322 1. | D36: 201.69 | E36: Manažment v zmysle Manuálu, príloha č. II | F36: zachovanie biodiverzity | G36: výskyt | H36: Iba v prípade realizácie lesohospodárskych zásahov. | I36: 180B00: 2023 OU 168 m3, 268 11: 2023 NTr 40 m3, 272C11:2023 NTr 159 m3
A37: Jelenec | B37: Rosalia alpina, Lucanus cervus, Cerambyx cerdo | C37: 206a, 206c | D37: 3.57 | E37: bez zásahu | F37: zachovanie biodiverzity | G37: výskyt | H37: Iba v prípade realizácie lesohospodárskych zásahov. | I37: Bez zásahu
A38: Jelenec | B38: Rosalia alpina, Lucanus cervus, Cerambyx cerdo | C38: 159a 1., 177b 1., 184 1., 189a 1., 190c 1., 261 1., 278, 279 1., 280 1., 281 1., 317 1., 344 1., 467a 1. | D38: 32.8 | E38: Manažment v zmysle Manuálu, príloha č. II | F38: zachovanie biodiverzity | G38: výskyt | H38: Iba v prípade realizácie lesohospodárskych zásahov. | I38: 279 11:2023 OU MPP 23 m3
A39: Jelenec | B39: Rosalia alpina, Lucanus cervus, Cerambyx cerdo | C39: 276a, 321 1 | D39: 12.08 | E39: Manažment v zmysle Manuálu, príloha č. VI | F39: zachovanie biodiverzity | G39: výskyt | H39: Iba v prípade realizácie lesohospodárskych zásahov. | I39: Bez zásahu
A40: Nitrianska Streda | B40: Lucanus cervus, Cerambyx cerdo | C40: 1142a, 1144c, 1144d, 1144e, 1148, 1151, 1168, 1176, 1273, 1274, 1280, 1286, 1289a, 1289b, 1321 1., 1444b, 1527b, 1527c, 1549a, 1802, 1815 | D40: 45.53 | E40: bez zásahu | F40: zachovanie biodiverzity | G40: výskyt | H40: Iba v prípade realizácie lesohospodárskych zásahov. | I40: Bez zásahu
A41: Nitrianska Streda | B41: Lucanus cervus, Cerambyx cerdo | C41: 1005, 1047, 1092, 1100 1., 1108a 1., 1120b 1., 1129a 1., 1143 1., 1270 1., 1275 1., 1349a, 1646b, 1747c | D41: 73.52 | E41: Manažment v zmysle Manuálu, príloha č. II | F41: zachovanie biodiverzity | G41: výskyt | H41: Iba v prípade realizácie lesohospodárskych zásahov. | I41: 1100 10: 2023 OU MPP 45,87 m3, 1143 10: OU MP 26,45 m3, 1270 10: 2021 OU MPP 246,23 m3, 1275 10: OU MPP 167,95 m3, 1349A00: 2023 OU MPP 570,88 m3, 1646B00: 2022 OU MPP 107,75 m3
...

Sheet 1.3. endemické druhy
A1: 1.3. ÚZEMIA S VÝSKYTOM ENDEMICKÝCH DRUHOV
A3: LHC | B3: Druh(y) | C3: JPRL | D3: Výmera (ha) | E3: manažment | F3: Cieľ LVSV | G3: Monitorovací indikátor | H3: monitoring | I3: výsledok monitoringu | J3: poznámka
A4: Zobor | B4: Peniažtek Jankov ( Thlaspi jankae A. Kern. ) | C4: pliešky-nelesné pozemky (Zoborská lesostep, Lupka) | D4: 6.03 | E4: bez zásahu | F4: zachovanie biodiverzity | G4: výskyt | H4: Iba v prípade realizácie lesohospodárskych zásahov. | I4: bez zásahu
A5: Partizánske | B5: ciha (vretenovka) pyskatá | C5: 4109, 4099B | D5: 19.31 | F5: Bystričany | G5: ciha pyskatá | K5: zdroj: www.biomonitoring.sk
D6: =SUM(D4:D5) -> 25.34

Sheet 3.1. vzácne biotopy
A1: 3.1. Vzácne, ohrozené a zriedkavé biotopy
A3: LHC | B3: Biotop - názov | C3: JPRL | D3: Výmera (ha) | E3: k.ú. | F3: manažment | G3: Cieľ LVSV | H3: Monitorovací indikátor | I3: monitoring | J3: výsledok monitoringu | K3: poznámka
A4: Jedľové Kostoľany | B4: Ls3.51 Sucho- a kyslomilné dubové lesy | C4: 23a, 23b, 125c, 127b | D4: 47.4 | F4: manažment v zmysle Manuálu, príloha č. VI. | G4: zlepšiť, resp. zachovať priaznivý stav biotopu | H4: Drevinová skladba, štruktúra porastu, stanovištné podmienky | I4: Iba v prípade realizácie lesohospodárskych zásahov.
A5: Jedľové Kostoľany | B5: Ls4 Lipovo-javorovo sutinové lesy | C5: 28c | D5: 1.2 | F5: manažment v zmysle Manuálu, príloha č. VI. | G5: zlepšiť, resp. zachovať priaznivý stav biotopu | H5: Drevinová skladba, štruktúra porastu, stanovištné podmienky | I5: Iba v prípade realizácie lesohospodárskych zásahov.
A6: Hrušov | B6: Svieže dubové bučiny | C6: 134 10, 134 20, 134 30 | D6: 22.4 | F6: Bez zásahu | G6: zlepšiť, resp. zachovať priaznivý stav biotopu | H6: Druhová skladba, stanovištné podmienky | I6: Iba v prípade realizácie lesohospodárskych zásahov.
A7: Hrušov | B7: Ls3.51 Sucho- a kyslomilné dubové lesy | C7: 171a 10 | D7: 0.68 | F7: manažment v zmysle Manuálu, príloha č. VI. | G7: zlepšiť, resp. zachovať priaznivý stav biotopu | H7: Druhová skladba, stanovištné podmienky | I7: Iba v prípade realizácie lesohospodárskych zásahov.
A8: Hrušov | B8: Ls3.51 Sucho- a kyslomilné dubové lesy, Ls3.52 Sucho- a kyslomilné dubové lesy | C8: 299 | D8: 16.81 | F8: manažment v zmysle Manuálu, príloha č. VI. | G8: zlepšiť, resp. zachovať priaznivý stav biotopu | H8: Druhová skladba, stanovištné podmienky | I8: Iba v prípade realizácie lesohospodárskych zásahov.
A9: Hrušov | B9: Ls3.52 Sucho- a kyslomilné dubové lesy | C9: 300 | D9: 9.69 | F9: manažment v zmysle Manuálu, príloha č. VI. | G9: zlepšiť, resp. zachovať priaznivý stav biotopu | H9: Druhová skladba, stanovištné podmienky | I9: Iba v prípade realizácie lesohospodárskych zásahov.
A10: Topoľčianky a Žitavany | B10: Ls4 Lipovo-javorovo sutinové lesy | C10: 317 10, 357b | D10: 6.7 | F10: manažment v zmysle Manuálu, príloha č. VI. | G10: zlepšiť, resp. zachovať priaznivý stav biotopu | H10: Druhová skladba, stanovištné podmienky | I10: Iba v prípade realizácie lesohospodárskych zásahov.
A11: Jelenec | B11: Ls1.3 Jaseňovo-jelšové podhorské lužné lesy | C11: 273b, 277d, 306 | D11: 10.22 | F11: Bez zásahu | G11: zlepšiť, resp. zachovať priaznivý stav biotopu | H11: Drevinová skladba, štruktúra porastu, stanovištné podmienky | I11: Iba v prípade realizácie lesohospodárskych zásahov. | J11: Bez zásahu
A12: Jelenec | B12: Ls3.3 Dubové nátržnikové lesy | C12: 276a, 295c, 359a, 359b, 363b, 387, 388a, 389, 390b, 391, 394a, 397, 398, 401b, 402, 403, 404b, 408, 409, 410, 412, 413, 414, 415a, 415b, 417 | D12: 329.34 | F12: Bez zásahu | G12: zlepšiť, resp. zachovať priaznivý stav biotopu | H12: Druhová skladba, stanovištné podmienky | I12: Iba v prípade realizácie lesohospodárskych zásahov. | J12: 390B00: 2023 VU+50 394,58 m3/16,75 ha, 403 00: 2023 VU+50 295,74, 404B00: 2023 VU+50, 20715
A13: Jelenec | B13: Ls3.51 Sucho- a kyslomilné dubové lesy | C13: 51 1, 206c, 411, 432a, 432b, 447, 461a, 472 | D13: 54.76 | F13: Bez zásahu | G13: zlepšiť, resp. zachovať priaznivý stav biotopu | H13: Druhová skladba, stanovištné podmienky | I13: Iba v prípade realizácie lesohospodárskych zásahov. | J13: Bez zásahu
A14: Jelenec | B14: Ls3.51 Sucho- a kyslomilné dubové lesy | C14: 376b, 379, 428, 433, 443c, 476, 480, 485a, 504 | D14: 84.75 | F14: manažment v zmysle Manuálu, príloha č. VI. | G14: zlepšiť, resp. zachovať priaznivý stav biotopu | H14: Druhová skladba, stanovištné podmienky | I14: Iba v prípade realizácie lesohospodárskych zásahov. | J14: 379 01: 2023 VU+50 82,10 m3
A15: Jelenec | B15: Ls3.51 Sucho- a kyslomilné dubové lesy, Ls3.52 Sucho- a kyslomilné dubové lesy | C15: 475, 486, 491 | D15: 24.12 | F15: Bez zásahu | G15: zlepšiť, resp. zachovať priaznivý stav biotopu | H15: Druhová skladba, stanovištné podmienky | I15: Iba v prípade realizácie lesohospodárskych zásahov. | J15: Bez zásahu
A16: Jelenec | B16: Ls3.51 Sucho- a kyslomilné dubové lesy, Ls3.52 Sucho- a kyslomilné dubové lesy | C16: 485b, 492a | D16: 11.72 | F16: manažment v zmysle Manuálu, príloha č. VI. | G16: zlepšiť, resp. zachovať priaznivý stav biotopu | H16: Druhová skladba, stanovištné podmienky | I16: Iba v prípade realizácie lesohospodárskych zásahov. | J16: Bez zásahu
A17: Jelenec | B17: Ls3.52 Sucho- a kyslomilné dubové lesy, Ls4 Lipovo-javorovo sutinové lesy | C17: 25 | D17: 6.9 | F17: Bez zásahu | G17: zlepšiť, resp. zachovať priaznivý stav biotopu | H17: Druhová skladba, stanovištné podmienky | I17: Iba v prípade realizácie lesohospodárskych zásahov. | J17: Bez zásahu
A18: Jelenec | B18: Ls4 Lipovo-javorovo sutinové lesy | C18: 323 | D18: 7.3 | F18: Bez zásahu | G18: zlepšiť, resp. zachovať priaznivý stav biotopu | H18: Druhová skladba, stanovištné podmienky | I18: Iba v prípade realizácie lesohospodárskych zásahov. | J18: Bez zásahu
A19: Jelenec | B19: Ls4 Lipovo-javorovo sutinové lesy | C19: 162 2., 232, 319a, 321 1., 39, 40, 437 | D19: 68.43 | F19: manažment v zmysle Manuálu, príloha č. VI. | G19: zlepšiť, resp. zachovať priaznivý stav biotopu | H19: Druhová skladba, stanovištné podmienky | I19: Iba v prípade realizácie lesohospodárskych zásahov. | J19: 232 00: 2023 OU MPP 319,94 m3
A20: Nitrianska Streda | B20: Ls3.1 Teplomilné submediteránne dubové lesy | C20: 1144d | D20: 5.37 | F20: Bez zásahu | G20: zlepšiť, resp. zachovať priaznivý stav biotopu | H20: Druhová skladba, stanovištné podmienky | I20: Iba v prípade realizácie lesohospodárskych zásahov. | J20: Bez zásahu
A21: Nitrianska Streda | B21: Ls3.1 Teplomilné submediteránne dubové lesy | C21: 1132, 1133, 1136, 1146a, 1146b, 1147 1. | D21: 39.76 | F21: manažment v zmysle Manuálu, príloha č. VI. | G21: zlepšiť, resp. zachovať priaznivý stav biotopu | H21: Druhová skladba, stanovištné podmienky | I21: Iba v prípade realizácie lesohospodárskych zásahov. | J21: 1132 00: 2020 VU+50 198,87m3/7,53ha, 1133 00: 2020 VU+50 171,15m3/8,38ha, 1136 00: 2020-2021 OU MP 199,69 m3, 1147 11: 2020-2023 OU MP 452,94m3/0,80ha
A22: Nitrianska Streda | B22: Ls3.1, Ls3.51, Ls3.52 | C22: 1754 | D22: 0.22 | F22: Bez zásahu | G22: zlepšiť, resp. zachovať priaznivý stav biotopu | H22: Druhová skladba, stanovištné podmienky | I22: Iba v prípade realizácie lesohospodárskych zásahov. | J22: Bez zásahu
A23: Nitrianska Streda | B23: Ls3.1, Ls3.51, Ls3.52 | C23: 1752a, 1753 | D23: 15.3 | F23: manažment v zmysle Manuálu, príloha č. VI. | G23: zlepšiť, resp. zachovať priaznivý stav biotopu | H23: Druhová skladba, stanovištné podmienky | I23: Iba v prípade realizácie lesohospodárskych zásahov. | J23: 1753 00: 2020 VU+50 131,53m3/2,54ha
A24: Nitrianska Streda | B24: Ls3.3 Dubové nátržnikové lesy | C24: 1257 | D24: 15.01 | F24: manažment v zmysle Manuálu, príloha č. VI. | G24: zlepšiť, resp. zachovať priaznivý stav biotopu | H24: Druhová skladba, stanovištné podmienky | I24: Iba v prípade realizácie lesohospodárskych zásahov. | J24: Bez zásahu
A25: Nitrianska Streda | B25: Ls3.51 Sucho- a kyslomilné dubové lesy | C25: 1062, 1068, 1105, 1134a, 1142a, 1142b, 1142c, 1151, 1168, 1274, 1280, 1323, 1324, 1335, 1444a, 1444b, 1446, 1527b, 1527c, 1527d, 1527e, 1734, 1807, 1902 | D25: 77.32 | F25: Bez zásahu | G25: zlepšiť, resp. zachovať priaznivý stav biotopu | H25: Druhová skladba, stanovištné podmienky | I25: Iba v prípade realizácie lesohospodárskych zásahov. | J25: Bez zásahu
A26: Nitrianska Streda | B26: Ls3.51 Sucho- a kyslomilné dubové lesy | C26: 1016, 1017, 1045, 1093, 1097, 1099, 1106 1., 1107b, 1124, 1135, 1137, 1138, 1139, 1150, 1166, 1182 1., 1259b, 1260, 1270 2., 1271, 1272 1., 1272 2., 1279a 2., 1279b, 1281a 1., 1281a 2., 1281a 3., 1281b, 1325a, 1325b, 1331, 1332, 1333, 1334, 1336, 1337, 1339b, 1341, 1342, 1355, 1358, 1359, 1380a, 1381b, 1386, 1387a, 1393, 1402, 1442, 1462, 1503, 1504, 1505, 1506, 1507, 1513a, 1514, 1515, 1516, 1517, 1518, 1519, 1523, 1536, 1538a, 1541, 1548, 1550, 1552d, 1553, 1555, 1572, 1573, 1594, 1596b, 1598a, 1598b, 1599a, 1599b, 1601b, 1602, 1761a, 1765b 1., 1765c, 1766b, 1894, 1900, 1903 | D26: 695.47 | F26: manažment v zmysle Manuálu, príloha č. VI. | G26: zlepšiť, resp. zachovať priaznivý stav biotopu | H26: Druhová skladba, stanovištné podmienky | I26: Iba v prípade realizácie lesohospodárskych zásahov. | J26: 1017 00:2023 VU+50 103,55m3/4,50ha, 1093 00: 2022 VU+50 311,01m3/13,65ha, 1097 00: 2022 OU MPP 273,55 m3, 1103 11: 2020 OU VP 405,60 m3, 1138 00: 2020-2021 OU MP 354,62m3, 1150 00: 2022 VU+50 205,39m3/6,62ha, 1166 00: 2022 VU+50 224,08m3/9,00ha, 1182 11: 2022 OU MPP 354,47m3, 1260 00: 2021 OU MP 211,36m3, 1271 00:2020 NTr 50,00m3, 1272 10: 2022 OU MPP 51,20m3, 1332 00: 2021 OU MP 339,62m3, 1333 00: 2020 VU+50 38,89m3/3,71ha, 1334 00: 2020 VU+50 234,99m3/14,15ha, 1336 00:2020 VU+50 127,65m3/6,08ha, 1337 00: 2020 VU+50 431,53/17,30, 1358 00: 2020 VU+50 252,09/9,97ha, 1359 00: 2020 VU+50 358,45/14,49ha, 1380A00:2021 VU+50 336,83/14,00ha, 1381B00: 2020 VU+50 313,81/9,60ha, 1402 00: 2020 VU+50 338,90/13,51ha, 1462 00: 2022 VU+50 105,75/5,44ha, 1503 00:2022 VU+50 558,31/14,94ha, 1504 00: 2020 VU+50 543,55/18,23ha, 1505 00: 2020 Vu+50 502,61/16,02ha, 1506 00: 2020 VU+50 319,48/12,21ha, 1507 00: 2020 VU+50 420,777/10,49ha, 1514 00: 2023 VU+50 291,68/11,99ha, 1515 00: 2023 VU+50 372,72/15,92ha, 1518 00: 2022 VU+50 458,94/16,10ha, 1519 00: 2022 VU+50 330,24/14,50ha, 1536 00: 2022 VU+50 193,78/9,60ha, 1538A00: 2023 VU+50 186,08/9,00ha, 1541 00: 2022 VU+50 376,62/16,26 ha, 1548 00: 2022 VU+50 160,36/6,31ha, 1550 00: 2022 VU+50 180,00/7,74ha, 1553 00: 2022 VU+50 197,09/8,84ha, 1555 00: 2022 VU+50, NTr 232,44/7,11ha, 1572 00:2022 VU+50 345,37/15,56ha, 1573 00: 2021 VU+50 334,54/11,68ha, 1594 00: 2022 VU+50 203,08/7,64ha, 1598A00: 2022 VU+50 306,75/10,38ha, 1765C00: 2020 VU+50 53,02/1,83ha
A27: Nitrianska Streda | B27: Ls3.51 Sucho- a kyslomilné dubové lesy, Ls3.52 Sucho- a kyslomilné dubové lesy | C27: 1148, 1286, 1321 1., 1328, 1453, 1803, 1891, 1898 | D27: 23.55 | F27: Bez zásahu | G27: zlepšiť, resp. zachovať priaznivý stav biotopu | H27: Druhová skladba, stanovištné podmienky | I27: Iba v prípade realizácie lesohospodárskych zásahov. | J27: Bez zásahu
A28: Nitrianska Streda | B28: Ls3.51 Sucho- a kyslomilné dubové lesy, Ls3.52 Sucho- a kyslomilné dubové lesy | C28: 1320, 1321 2., 1322, 1327, 1356, 1451, 1452, 1454, 1539b, 1735, 1744c, 1892, 1897, 1899 | D28: 98.23 | F28: manažment v zmysle Manuálu, príloha č. VI. | G28: zlepšiť, resp. zachovať priaznivý stav biotopu | H28: Druhová skladba, stanovištné podmienky | I28: Iba v prípade realizácie lesohospodárskych zásahov. | J28: 1322 00: 2023 VU+50 245,01/10,00ha, 1327 00: 2023 VU+50 90,45/5,00ha, 1451 00: 2023 OU MPP 291,96m3, 1454 00: VU+50 327,75/10,54ha, 1744C00: VU+50 83,73/1,76ha,
A29: Nitrianska Streda | B29: Ls3.52 Sucho- a kyslomilné dubové lesy | C29: 1176, 1289a, 1289b, 1326a, 1326b, 1330, 1430b, 1549a, 1549b, 1612, 1660a, 1660c | D29: 35.05 | F29: Bez zásahu | G29: zlepšiť, resp. zachovať priaznivý stav biotopu | H29: Druhová skladba, stanovištné podmienky | I29: Iba v prípade realizácie lesohospodárskych zásahov. | J29: 1660C00: 2022 MR vyňatie z LPF 26,32/0,17ha
A30: Nitrianska Streda | B30: Ls3.52 Sucho- a kyslomilné dubové lesy | C30: 1175a, 1193, 1287b, 1287c, 1290a, 1325c, 1329, 1339a, 1603, 1611b, 1645 | D30: 81.16 | F30: manažment v zmysle Manuálu, príloha č. VI. | G30: zlepšiť, resp. zachovať priaznivý stav biotopu | H30: Druhová skladba, stanovištné podmienky | I30: Iba v prípade realizácie lesohospodárskych zásahov. | J30: 1175A00: VU+50 114,35/5,19ha, 1287C00: 2023 OU MPP 145,44m3,
A31: Nitrianska Streda | B31: Ls4 Lipovo-javorovo sutinové lesy | C31: 1012, 1056, 1134b, 1170, 1298b, 1304, 1313, 1420, 1489, 1528, 1529, 1751, 1812 | D31: 57.38 | F31: Bez zásahu | G31: zlepšiť, resp. zachovať priaznivý stav biotopu | H31: Druhová skladba, stanovištné podmienky | I31: Iba v prípade realizácie lesohospodárskych zásahov. | J31: Bez zásahu
A32: Nitrianska Streda | B32: Ls4 Lipovo-javorovo sutinové lesy | C32: 1163, 1169, 1297, 1299, 1301, 1302a, 1302b 1., 1308 2., 1310, 1311, 1412b, 1419 2., 1490a, 1530a, 1530b 2., 1531 2., 1532 2., 1634c, 1739b, 1739c 1., 1739c 2., 1739d | D32: 113.19 | F32: manažment v zmysle Manuálu, príloha č. VI. | G32: zlepšiť, resp. zachovať priaznivý stav biotopu | H32: Druhová skladba, stanovištné podmienky | I32: Iba v prípade realizácie lesohospodárskych zásahov. | J32: 1169 00: 2022 VU+50 148,57/6,40ha, 1297 00:2021 OU MPP 221,30m3, 1302B10: 2021 OU MPP 641,01m3, 1310 00: 2021 NTs 730,33/1,45ha, 1311 00: 2020 VU+50 84,35/10,13ha, 2021 NTs 204,50/0,65ha, 1490A00: 2022 OU MPP 268,82m3, 1530A01: 2022 OU MPP 322,32m3, 1634C00: 2021 NTs 232,84/0,45ha, 1739B00: 2020VU+50 175,89/4,24ha, 1739D00: 2020 VU+50 54,13/3,22, 2023 NTs 72,00/0,10ha
A33: Zobor | B33: Ls3.1 Teplomilné submediteránne dubové lesy | C33: 22b, 312b, 314, 315 | D33: 61.97 | F33: Bez zásahu | G33: zlepšiť, resp. zachovať priaznivý stav biotopu | H33: Druhová skladba, stanovištné podmienky | I33: Iba v prípade realizácie lesohospodárskych zásahov. | J33: 312 01: 2023 VU+50 PBHL 515,11/12,85ha,
A34: Zobor | B34: Ls3.1 Teplomilné submediteránne dubové lesy | C34: 186b, 200a, 21, 23, 238c, 25, 26a, 30 | D34: 69.42 | F34: manažment v zmysle Manuálu, príloha č. VI. | G34: zlepšiť, resp. zachovať priaznivý stav biotopu | H34: Druhová skladba, stanovištné podmienky | I34: Iba v prípade realizácie lesohospodárskych zásahov. | J34: Bez zásahu
A35: Zobor | B35: Ls3.3 Dubové nátržnikové lesy | C35: 48, 125a | D35: 14.77 | F35: manažment v zmysle Manuálu, príloha č. VI. | G35: zlepšiť, resp. zachovať priaznivý stav biotopu | H35: Druhová skladba, stanovištné podmienky | I35: Iba v prípade realizácie lesohospodárskych zásahov. | J35: Bez zásahu
A36: Zobor | B36: Ls3.51 Sucho- a kyslomilné dubové lesy | C36: 22a, 75a, 95, 351b, 368, 373 | D36: 16.5 | F36: Bez zásahu | G36: zlepšiť, resp. zachovať priaznivý stav biotopu | H36: Druhová skladba, stanovištné podmienky | I36: Iba v prípade realizácie lesohospodárskych zásahov. | J36: Bez zásahu
A37: Zobor | B37: Ls3.51 Sucho- a kyslomilné dubové lesy | C37: 133, 134a, 139, 140, 349a, 351a, 354b, 63, 65 | D37: 75.54 | F37: manažment v zmysle Manuálu, príloha č. VI. | G37: zlepšiť, resp. zachovať priaznivý stav biotopu | H37: Druhová skladba, stanovištné podmienky | I37: Iba v prípade realizácie lesohospodárskych zásahov. | J37: Bez zásahu
A38: Zobor | B38: Ls3.51 Sucho- a kyslomilné dubové lesy, Ls3.52 Sucho- a kyslomilné dubové lesy | C38: 284 | D38: 0.84 | F38: Bez zásahu | G38: zlepšiť, resp. zachovať priaznivý stav biotopu | H38: Druhová skladba, stanovištné podmienky | I38: Iba v prípade realizácie lesohospodárskych zásahov. | J38: Bez zásahu
A39: Zobor | B39: Ls3.52 Sucho- a kyslomilné dubové lesy | C39: 116, 122 | D39: 6.68 | F39: Bez zásahu | G39: zlepšiť, resp. zachovať priaznivý stav biotopu | H39: Druhová skladba, stanovištné podmienky | I39: Iba v prípade realizácie lesohospodárskych zásahov. | J39: Bez zásahu
A40: Zobor | B40: Ls3.52 Sucho- a kyslomilné dubové lesy | C40: 71 | D40: 4.87 | F40: manažment v zmysle Manuálu, príloha č. VI. | G40: zlepšiť, resp. zachovať priaznivý stav biotopu | H40: Druhová skladba, stanovištné podmienky | I40: Iba v prípade realizácie lesohospodárskych zásahov. | J40: Bez zásahu
A41: Zobor | B41: Ls3.52 Sucho- a kyslomilné dubové lesy, Ls4 Lipovo-javorovo sutinové lesy | C41: 33a | D41: 12.3 | F41: Bez zásahu | G41: zlepšiť, resp. zachovať priaznivý stav biotopu | H41: Druhová skladba, stanovištné podmienky | I41: Iba v prípade realizácie lesohospodárskych zásahov. | J41: Bez zásahu
...

Sheet 3.2.prírodné lesy prales
A1: 3.2.Pralesy a prírodné lesy s charakterom pralesa
A3: Názov územia | B3: Kategória | C3: LHC | D3: JPRL | E3: Výmera (ha) | F3: manažment | G3: Cieľ LVSV | H3: monitorovací indikátor | I3: monitoring | J3: výsledok monitoringu | K3: Poznámka
A4: Balov grúň | B4: pralesový zvyšok | C4: Lesy Kozelník | D4: 258a, 262a, 270, 272 | E4: 46.9 | F4: Bez zásahu | G4: zachovanie charakteristických vlastností pralesa a jeho integrity | H4: plocha pralesa sa nezmenšuje, typické druhy pralesa sú zachované, množstvo a kvalita mŕtveho dreva, stromy blízko fyzického veku | I4: sledujú sa zásahy do pralesov a vplyv zásahov v okolí pralesov | J4: bez zásahu | K4: bez zásahu
A5: Brdo | B5: pralesový zvyšok | C5: Lesy Kozelník | D5: 206, 208 | E5: 13.1 | F5: Bez zásahu | G5: zachovanie charakteristických vlastností pralesa a jeho integrity | H5: plocha pralesa sa nezmenšuje, typické druhy pralesa sú zachované, množstvo a kvalita mŕtveho dreva, stromy blízko fyzického veku | I5: sledujú sa zásahy do pralesov a vplyv zásahov v okolí pralesov | J5: bez zásahu | K5: bez zásahu
A6: Brveno | B6: pralesový zvyšok | C6: Šášov | D6: 1044a, 1044b | E6: 18.32 | F6: Bez zásahu | G6: zachovanie charakteristických vlastností pralesa a jeho integrity | H6: plocha pralesa sa nezmenšuje, typické druhy pralesa sú zachované, množstvo a kvalita mŕtveho dreva, stromy blízko fyzického veku | I6: sledujú sa zásahy do pralesov a vplyv zásahov v okolí pralesov | J6: bez zásahu | K6: bez zásahu
A7: Demian | B7: pralesový zvyšok | C7: Šášov | D7: 1001a, 1001c, 1002a, 1003a | E7: 34.47 | F7: Bez zásahu | G7: zachovanie charakteristických vlastností pralesa a jeho integrity | H7: plocha pralesa sa nezmenšuje, typické druhy pralesa sú zachované, množstvo a kvalita mŕtveho dreva, stromy blízko fyzického veku | I7: sledujú sa zásahy do pralesov a vplyv zásahov v okolí pralesov | J7: bez zásahu | K7: bez zásahu
A8: Suť | B8: prales | C8: Šášov | D8: 1134, 1136, 1137 1, 1137 3, 1073a | E8: 46.05 | F8: Bez zásahu | G8: zachovanie charakteristických vlastností pralesa a jeho integrity | H8: plocha pralesa sa nezmenšuje, typické druhy pralesa sú zachované, množstvo a kvalita mŕtveho dreva, stromy blízko fyzického veku | I8: sledujú sa zásahy do pralesov a vplyv zásahov v okolí pralesov | J8: bez zásahu | K8: bez zásahu
A9: Drastvica | B9: prales | C9: Žarnovica | D9: 813, 543b, 543a, 521, 520a, 519 1, 1761, 1760, 1759, 1745a, 1744, 1743, 1742b, 1742a, 1741a, 1740, 1739a, 1738a, 1737a | E9: 108.96 | F9: Bez zásahu | G9: zachovanie charakteristických vlastností pralesa a jeho integrity | H9: plocha pralesa sa nezmenšuje, typické druhy pralesa sú zachované, množstvo a kvalita mŕtveho dreva, stromy blízko fyzického veku | I9: sledujú sa zásahy do pralesov a vplyv zásahov v okolí pralesov | J9: Bez zmien | L9: Bez zmien
A10: Vtáčnik | B10: prales | C10: Žiar | D10: 1209 | E10: 23.11 | F10: Bez zásahu | G10: zachovanie charakteristických vlastností pralesa a jeho integrity | H10: plocha pralesa sa nezmenšuje, typické druhy pralesa sú zachované, množstvo a kvalita mŕtveho dreva, stromy blízko fyzického veku | I10: sledujú sa zásahy do pralesov a vplyv zásahov v okolí pralesov | J10: Bez zmien | L10: Bez zmien
A11: Vtáčnik | B11: prales | C11: Brod | D11: 182a, 183a, 193a | E11: 0 | F11: Bez zásahu | G11: zachovanie charakteristických vlastností pralesa a jeho integrity | H11: plocha pralesa sa nezmenšuje, typické druhy pralesa sú zachované, množstvo a kvalita mŕtveho dreva, stromy blízko fyzického veku | I11: sledujú sa zásahy do pralesov a vplyv zásahov v okolí pralesov | J11: bez zásahu | K11: bez zásahu
A12: Dolný chlm | B12: prales | C12: Žiar | D12: 5239, 5241a, 5241b, 5243a, 5244a, 5245, 5251a | E12: 53.21 | F12: Bez zásahu | G12: zachovanie charakteristických vlastností pralesa a jeho integrity | H12: plocha pralesa sa nezmenšuje, typické druhy pralesa sú zachované, množstvo a kvalita mŕtveho dreva, stromy blízko fyzického veku | I12: sledujú sa zásahy do pralesov a vplyv zásahov v okolí pralesov
A13: Klzký vrch | B13: prales | C13: Žiar | D13: 5102, 5104 | E13: 38.48 | F13: Bez zásahu | G13: zachovanie charakteristických vlastností pralesa a jeho integrity | H13: plocha pralesa sa nezmenšuje, typické druhy pralesa sú zachované, množstvo a kvalita mŕtveho dreva, stromy blízko fyzického veku | I13: sledujú sa zásahy do pralesov a vplyv zásahov v okolí pralesov
A14: Sekaniny | B14: prales | C14: Žiar | D14: 5251b, 5252, 5255 | E14: 20.16 | F14: Bez zásahu | G14: zachovanie charakteristických vlastností pralesa a jeho integrity | H14: plocha pralesa sa nezmenšuje, typické druhy pralesa sú zachované, množstvo a kvalita mŕtveho dreva, stromy blízko fyzického veku | I14: sledujú sa zásahy do pralesov a vplyv zásahov v okolí pralesov
A15: Snoža | B15: prales | C15: Žiar | D15: 5059 | E15: 11.34 | F15: Bez zásahu | G15: zachovanie charakteristických vlastností pralesa a jeho integrity | H15: plocha pralesa sa nezmenšuje, typické druhy pralesa sú zachované, množstvo a kvalita mŕtveho dreva, stromy blízko fyzického veku | I15: sledujú sa zásahy do pralesov a vplyv zásahov v okolí pralesov
E16: =SUM(E4:E15) -> 414.1

Sheet 3.3. prirodzený výskyt tisa
A1: 3.3. LESY S VÝZNAMNÝM PRIRODZENÝM VÝSKYTOM TISA OBYČAJNÉHO
A3: Názov územia/lokalita | B3: Kategória CHÚ | C3: LHC | D3: JPRL | E3: Výmera (ha) | F3: manažment | G3: Cieľ LVSV | H3: Monitorovací indikátor | I3: monitoring | J3: výsledok monitoringu | K3: poznámka
A4: Kamenný jarok | B4: PR | C4: Šášov | D4: 236 | E4: 5.12 | F4: Bez zásahu | G4: zachovanie alebo zvýšenie početnosti tisa | H4: stav tisov (zmladenie, miera poškodenia) | I4: pri obnove certifikátu | J4: poznámka: (10.8.2021 vykonaná revízia CHÚ) | K4: poznámka: (10.8.2021 vykonaná revízia CHÚ)
C5: Šášov | D5: 238b, 240, 247 | E5: 24.1 | F5: Manažment v zmysle Manuále pre kategóriu 3.3 | G5: zachovanie alebo zvýšenie početnosti tisa | H5: stav tisov (zmladenie, miera poškodenia) | I5: pri obnove certifikátu | J5: poznámka: (10.8.2021 vykonaná revízia CHÚ) | K5: poznámka: (10.8.2021 vykonaná revízia CHÚ)
C6: Brod | D6: 1009a, 1024a | E6: 24.04 | F6: Manažment v zmysle Manuále pre kategóriu 3.3 | G6: zachovanie alebo zvýšenie početnosti tisa | H6: stav tisov (zmladenie, miera poškodenia) | I6: pri obnove certifikátu
E7: =SUM(E4:E6) -> 53.26

Sheet 4.1pôdoochranná funkcia 
A1: 4.1. LESY S VÝZNAMNOU PODOCHRANNOU FUNKCIOU - ochranné lesy
A4: LHC | B4: lokalita/miestny názov | C4: JPRL/súbor JPRL | D4: Výmera (ha) | E4: k.ú. | F4: manažment | G4: Cieľ LVSV | H4: Monitorovací indikátor | I4: monitoring | J4: výsledok monitoringu | K4: poznámka
A5: Topoľčianky - Žitavany | C5: 59-59, 72A-72A, 75A-75B, 175A-177, 207B-207B, 219-219, 230A-230A, 230C-230C, 234-234, 237-237, 246A-247, 219A-219A, 342A-342C, 1003-1003, 1010-1011, 1064-1064, 1086-1086, 1092-1092, 1123-1123, 1131A-1131B, 1152-1152, 1211-1222, 1229A-1232, 1241A-1241A, 1244A-1244B, 1261-1261, 1263A-1263B, 1283A-1283B, 1285-1287, 1314A-1314B, 1324A-1324B, 1332A-1337C, 1367-1367, 71A-71B, 72B-72B, 183-183, 226A-226B, 230B-230B, 238-238, 319B-319B, 1082-1082, 1144-1144, 1185-1185, 1192A-1192B, 1201-1201, 1241B-1241B, 1252-1252, 1304-1304, 1338-1338, 1368-1368 | D5: 444.01 | F5: Bez zásahu | G5: zachovanie a posilnenie pôdoochrannej funkcie lesa | H5: prejavy erózie, zosuvov a iných geodynamických javov, efektivta a dopad priotieróznych opatrení | I5: ročne
A6: Skýcov | C6: 10B-10B, 14-14, 25-25, 65A-65B, 77A-77B, 85-85, 87-87, 91-91, 96-96 102-102, 110-110, 113B-113B, 153-153, 156-156, 168-168, 174-174, 177-177, 180-180, 182-182, 185-185, 187-188, 193-193, 195A-195B, 200-200, 203-204, 213-213, 217-218, 233-233, 243-243, 253-253, 255-255, 294-294, 305-305, 310-310, 312-312, 329-329, 335A-335B, 369-369, 10A-10A, 69-69, 101-101, 107-107, 113A-113A, 137-138, 147-147, 149-149, 155A-155B, 161-161, 178-178, 183-183, 247-247, 250-250, 315-315 | D6: 359.27 | F6: Bez zásahu | G6: zachovanie a posilnenie pôdoochrannej funkcie lesa | H6: prejavy erózie, zosuvov a iných geodynamických javov, efektivta a dopad priotieróznych opatrení | I6: ročne
A7: Jedľové Kostoľany | C7: 101, 103a, 103b, 104, 114b, 116, 118, 122a, 15, 173 1., 34b, 91a | D7: 50.77 | F7: Bez zásahu | G7: zachovanie a posilnenie pôdoochrannej funkcie lesa | H7: prejavy erózie, zosuvov a iných geodynamických javov, efektivta a dopad priotieróznych opatrení | I7: ročne
A8: Jedľové Kostoľany | C8: 105, 114c, 125a, 125b, 144a, 144b, 148, 152a, 154, 155, 161, 173 20, 200, 23c, 29, 31, 34a, 78, 94a, 94b | D8: 151.54 | F8: Manažment v zmysle Manuálu pre kategóriu 4.1 | G8: zachovanie a posilnenie pôdoochrannej funkcie lesa | H8: prejavy erózie, zosuvov a iných geodynamických javov, efektivta a dopad priotieróznych opatrení | I8: ročne
A9: Hrušov | C9: 11a, 12 10, 12 20, 14, 18, 110a, 110b, 135a, 135b, 15 10, 155, 156, 275, 289, 29, 313, 36, 401, 56a 10, 56a 20, 56b | D9: 148.27 | F9: Bez zásahu | G9: zachovanie a posilnenie pôdoochrannej funkcie lesa | H9: prejavy erózie, zosuvov a iných geodynamických javov, efektivta a dopad priotieróznych opatrení | I9: ročne
A10: Hrušov | C10: 169 | D10: 3.48 | F10: Manažment v zmysle Manuálu, príloha č. II. | G10: zachovanie a posilnenie pôdoochrannej funkcie lesa | H10: prejavy erózie, zosuvov a iných geodynamických javov, efektivta a dopad priotieróznych opatrení | I10: ročne
A11: Hrušov | C11: 297 | D11: 28.73 | F11: Manažment v zmysle Manuálu, príloha č. VI. | G11: zachovanie a posilnenie pôdoochrannej funkcie lesa | H11: prejavy erózie, zosuvov a iných geodynamických javov, efektivta a dopad priotieróznych opatrení | I11: ročne
A12: Topoľčianky a Žitavany | C12: 71b, 72a, 226a, 226b, 238 | D12: 23.96 | F12: Bez zásahu | G12: zachovanie a posilnenie pôdoochrannej funkcie lesa | H12: prejavy erózie, zosuvov a iných geodynamických javov, efektivta a dopad priotieróznych opatrení | I12: ročne
A13: Topoľčianky a Žitavany | C13: 71a, 72b, 75a, 75b | D13: 41.79 | F13: Manažment v zmysle Manuálu pre kategóriu 4.1 | G13: zachovanie a posilnenie pôdoochrannej funkcie lesa | H13: prejavy erózie, zosuvov a iných geodynamických javov, efektivta a dopad priotieróznych opatrení | I13: ročne
A14: Topoľčianky a Žitavany | C14: 319a, 319b | D14: 9.64 | F14: Manažment v zmysle Manuálu, príloha č. VI. | G14: zachovanie a posilnenie pôdoochrannej funkcie lesa | H14: prejavy erózie, zosuvov a iných geodynamických javov, efektivta a dopad priotieróznych opatrení | I14: ročne
A15: Jelenec | C15: 180a, 206a, 206c, 219a, 243, 25, 271, 320, 323, 384, 400, 411, 42, 432a, 432b, 447, 461a, 472, 474, 475, 486, 491, 503a, 51 1., 94 | D15: 125.51 | F15: Bez zásahu | G15: zachovanie a posilnenie pôdoochrannej funkcie lesa | H15: prejavy erózie, zosuvov a iných geodynamických javov, efektivta a dopad priotieróznych opatrení | I15: ročne | J15: Bez zásahu
A16: Jelenec | C16: 13, 14, 144, 195, 206b, 206d, 219b, 321 2., 321 3., 322 2., 322 3., 349, 377b, 377c, 436, 460, 461b, 463, 503b, 51 2., 63, 64, 70, 88, 89, 90, 91, 92, 93 | D16: 90.74 | F16: Manažment v zmysle Manuálu pre kategóriu 4.1 | G16: zachovanie a posilnenie pôdoochrannej funkcie lesa | H16: prejavy erózie, zosuvov a iných geodynamických javov, efektivta a dopad priotieróznych opatrení | I16: ročne | J16: Bez zásahu
A17: Jelenec | C17: 180b, 262, 322 1., 377a | D17: 18.41 | F17: Manažment v zmysle Manuálu, príloha č. II. | G17: zachovanie a posilnenie pôdoochrannej funkcie lesa | H17: prejavy erózie, zosuvov a iných geodynamických javov, efektivta a dopad priotieróznych opatrení | I17: ročne | J17: 180B00: 2023 OU JV 168,08 m3
A18: Jelenec | C18: 321 1. | D18: 4.56 | F18: Manažment v zmysle Manuálu, príloha č. VI. | G18: zachovanie a posilnenie pôdoochrannej funkcie lesa | H18: prejavy erózie, zosuvov a iných geodynamických javov, efektivta a dopad priotieróznych opatrení | I18: ročne | J18: Bez zásahu
A19: Nitrianska Streda | C19: 1012, 1056, 1062, 1068, 1105, 1134a, 1134b, 1142a, 1142b, 1142c, 1144a, 1144c, 1144d, 1144e, 1148, 1151, 1161a, 1168, 1170, 1176, 1273, 1274, 1280, 1286, 1289a, 1289b, 1294, 1298a, 1298b, 1304, 1313, 1321 1., 1323, 1324, 1326a, 1326b, 1328, 1330, 1335, 1369a, 1420, 1430b, 1444a, 1444b, 1445a, 1445b, 1446, 1453, 1488, 1489, 1527b, 1527c, 1527d, 1527e, 1528, 1529, 1549a, 1549b, 1612, 1623, 1660a, 1660c, 1734, 1751, 1754, 1802, 1803, 1804, 1805, 1806a, 1807, 1812, 1815, 1891, 1898, 1902 | D19: 230.47 | F19: Bez zásahu | G19: zachovanie a posilnenie pôdoochrannej funkcie lesa | H19: prejavy erózie, zosuvov a iných geodynamických javov, efektivta a dopad priotieróznych opatrení | I19: ročne | J19: 1660C00: 2022 MR vyňatie 26,32/0,17ha,
A20: Nitrianska Streda | C20: 1006a, 1006b, 1008, 1014, 1023a, 1023b, 1024a, 1024b, 1035, 1037a, 1037b, 1087, 1098a, 1098b, 1144b, 1161b, 1219, 1264, 1268a, 1268b, 1300, 1305, 1307, 1317, 1340, 1346, 1347, 1365, 1369b, 1372, 1392, 1422, 1461, 1465, 1527a, 1580, 1628, 1653, 1654, 1660b, 1661, 1662, 1745, 1801, 1806b, 1813, 1814 | D20: 182.25 | F20: Manažment v zmysle Manuálu pre kategóriu 4.1 | G20: zachovanie a posilnenie pôdoochrannej funkcie lesa | H20: prejavy erózie, zosuvov a iných geodynamických javov, efektivta a dopad priotieróznych opatrení | I20: ročne | J20: 1661 00: MR vyňatie 12,00/0,22ha,
A21: Nitrianska Streda | C21: 1137, 1193, 1321 2. | D21: 25.52 | F21: Manažment v zmysle Manuálu, príloha č. VI. | G21: zachovanie a posilnenie pôdoochrannej funkcie lesa | H21: prejavy erózie, zosuvov a iných geodynamických javov, efektivta a dopad priotieróznych opatrení | I21: ročne | J21: Bez zásahu
A22: Zobor | C22: 101, 116, 122, 138, 200b, 22a, 22b, 256c, 269b, 276b, 284, 332a, 33a, 351b, 368, 373, 376, 377, 382, 75a, 78, 95 | D22: 115.31 | F22: Bez zásahu | G22: zachovanie a posilnenie pôdoochrannej funkcie lesa | H22: prejavy erózie, zosuvov a iných geodynamických javov, efektivta a dopad priotieróznych opatrení | I22: ročne | J22: Bez zásahu | K22: 312b, 314, 315 odovzdané Urbár Drážovce
A23: Zobor | C23: 7, 187, 189, 190, 191, 192, 193, 194, 195, 196, 197, 201, 222, 233a, 233b, 242, 244, 251, 254, 256b, 267, 269a, 26b, 273a, 273b, 274, 276a, 279, 31a, 31b, 33b, 350b, 360, 365, 383, 384, 385a, 385b, 385c, 386a, 386b, 75b, 802b | D23: 287.94 | F23: Manažment v zmysle Manuálu pre kategóriu 4.1 | G23: zachovanie a posilnenie pôdoochrannej funkcie lesa | H23: prejavy erózie, zosuvov a iných geodynamických javov, efektivta a dopad priotieróznych opatrení | I23: ročne | J23: Bez zásahu | K23: 305, 308, 309, 310, 311, 312a, 312c, 313a, 313b, 316, 806 odvzdane Urbár Drážovce
A24: Zobor | C24: 28, 256a, 269c | D24: 40.41 | F24: Manažment v zmysle Manuálu, príloha č. II. | G24: zachovanie a posilnenie pôdoochrannej funkcie lesa | H24: prejavy erózie, zosuvov a iných geodynamických javov, efektivta a dopad priotieróznych opatrení | I24: ročne | J24: Bez zásahu
A25: Zobor | C25: 26a, 71, 139, 200a, 351a | D25: 50.87 | F25: Manažment v zmysle Manuálu, príloha č. VI. | G25: zachovanie a posilnenie pôdoochrannej funkcie lesa | H25: prejavy erózie, zosuvov a iných geodynamických javov, efektivta a dopad priotieróznych opatrení | I25: ročne | J25: Bez zásahu
A26: Banská Štiavnica II. | C26: 1992a, 1999 | F26: Bez zásahu | G26: zachovanie a posilnenie pôdoochrannej funkcie lesa | H26: prejavy erózie, zosuvov a iných geodynamických javov, efektivta a dopad priotieróznych opatrení | I26: ročne | J26: prejavy erózie, zosuvov neboli zaznamenané | K26: prejavy erózie, zosuvov neboli zaznamenané
A27: Banská Štiavnica II. | C27: 1990, 1992b, 1992c, 1993a, 1993b, 1994a, 1995 | D27: 4.09 | F27: Manažment v zmysle Manuálu pre kategóriu 4.1 | G27: zachovanie a posilnenie pôdoochrannej funkcie lesa | H27: prejavy erózie, zosuvov a iných geodynamických javov, efektivta a dopad priotieróznych opatrení | I27: ročne | J27: prejavy erózie, zosuvov neboli zaznamenané | K27: prejavy erózie, zosuvov neboli zaznamenané
A28: Lesy Kozelník | C28: 139a, 153, 154a, 205a, 206, 207, 208, 251, 253a, 254, 255, 258a, 258b, 260, 262a, 263a, 263b1, 263b2, 269, 270, 272, 306, 312a, 312b, 320a, 320b, 326, 356, 366, 368, 377a, 402, 404a, 412a, 546a | D28: 157.68 | F28: Bez zásahu | G28: zachovanie a posilnenie pôdoochrannej funkcie lesa | H28: prejavy erózie, zosuvov a iných geodynamických javov, efektivta a dopad priotieróznych opatrení | I28: ročne | J28: prejavy erózie, zosuvov neboli zaznamenané | K28: prejavy erózie, zosuvov neboli zaznamenané
A29: Lesy Kozelník | C29: 117, 133a, 133b, 139b, 143a, 143b, 145, 154b, 160, 163a, 163b, 187, 190a, 190b, 193a, 193b, 194, 198a, 198b, 198c, 198d, 198e, 205b, 205c, 209, 253b, 262b, 300, 305a, 305b, 315, 323, 324, 328, 330a, 330b, 332, 338, 340, 367, 377b, 390, 393, 404b, 412b, 412c, 412d, 412e, 435a, 435b, 454a, 454b, 456, 457, 463, 527, 528, 530, 532, 543a, 543b, 544, 545a, 545b, 546b, 546c, 564 | D29: 163.83 | F29: Manažment v zmysle Manuálu pre kategóriu 4.1 | G29: zachovanie a posilnenie pôdoochrannej funkcie lesa | H29: prejavy erózie, zosuvov a iných geodynamických javov, efektivta a dopad priotieróznych opatrení | I29: ročne | J29: prejavy erózie, zosuvov neboli zaznamenané | K29: prejavy erózie, zosuvov neboli zaznamenané
A30: Obecné lesy Banská Belá | C30: 422, 563 | D30: 1.51 | F30: Bez zásahu | G30: zachovanie a posilnenie pôdoochrannej funkcie lesa | H30: prejavy erózie, zosuvov a iných geodynamických javov, efektivta a dopad priotieróznych opatrení | I30: ročne | J30: prejavy erózie, zosuvov neboli zaznamenané | K30: prejavy erózie, zosuvov neboli zaznamenané
A31: Obecné lesy Banská Belá | C31: 62 | D31: 1.33 | F31: Manažment v zmysle Manuálu pre kategóriu 4.1 | G31: zachovanie a posilnenie pôdoochrannej funkcie lesa | H31: prejavy erózie, zosuvov a iných geodynamických javov, efektivta a dopad priotieróznych opatrení | I31: ročne | J31: prejavy erózie, zosuvov neboli zaznamenané | K31: prejavy erózie, zosuvov neboli zaznamenané
A32: Šášov | C32: 66, 89a, 89b, 90a, 186, 195, 196, 199, 200, 201, 234, 235, 236, 241, 273a, 273b, 273c, 277a, 277b, 305 1, 305 2, 306, 308, 337, 338a, 346, 350, 663, 665, 668a, 668b, 672, 673a, 673b, 675, 677a, 678, 679, 680a, 680b, 682a, 682b, 683, 1001a, 1001b, 1001c, 1002a, 1002b, 1003a, 1003b, 1004, 1007a, 1018a, 1018b, 1018c, 1029a, 1031a, 1032a, 1034, 1044a, 1044b, 1045, 1050a, 1058, 1059, 1069a, 1069c, 1070a, 1073a, 1073c, 1079a, 1079d, 1104, 1112a, 1112b, 1114, 1134, 1136, 1140, 1145a, 1149, 1159, 1173a, 1214, 1320a, 1321a, 1330, 1343, 1344 | D32: 399.23 | F32: Bez zásahu | G32: zachovanie a posilnenie pôdoochrannej funkcie lesa | H32: prejavy erózie, zosuvov a iných geodynamických javov, efektivta a dopad priotieróznych opatrení | I32: ročne | J32: prejavy erózie, zosuvov neboli zaznamenané | K32: prejavy erózie, zosuvov neboli zaznamenané
A33: Šášov | C33: 17, 80 1, 80 2, 90b, 99, 156a, 156b, 169, 170, 180, 193a, 193b, 233, 246, 248, 338b, 339a, 339b, 348, 349, 351, 352a, 352b, 352c, 355a, 355b, 355c, 356, 412a, 414a, 566, 671, 676, 677b, 681, 685, 686 1, 686 2, 688a, 688b, 690a, 690b, 691a, 691b, 692, 694a, 694b, 698, 1007b, 1007c, 1018d, 1029b, 1031b, 1031c, 1032b, 1035a, 1035b, 1036, 1043a, 1043b, 1043c, 1050b, 1053b, 1069b, 1070b, 1070c, 1073b, 1073d, 1076, 1077, 1079b, 1079c, 1094, 1145b, 1173b, 1173c, 1173d, 1210, 1320b, 1321b, 1322a, 1322b, 1323a, 1323b, 1324, 1326, 1331, 1342, 1358, 1359, 1382, 1385 | D33: 310.26 | F33: Manažment v zmysle Manuálu pre kategóriu 4.1 | G33: zachovanie a posilnenie pôdoochrannej funkcie lesa | H33: prejavy erózie, zosuvov a iných geodynamických javov, efektivta a dopad priotieróznych opatrení | I33: ročne | J33: prejavy erózie, zosuvov neboli zaznamenané | K33: prejavy erózie, zosuvov neboli zaznamenané
A34: Horná Ves | C34: 3014b, 3015b 1., 3024, 3087a, 3087b, 3098, 3107 1., 3108, 3117a, 3121,3130c, 3131a, 3161, 3172b, 3175, 3180c, 3184a, 3185, 3186, 3194a, 3195, 3209a,3251,3374, 3425b | D34: 133.85 | F34: Bez zásahu | G34: zachovanie a posilnenie pôdoochrannej funkcie lesa | H34: prejavy erózie, zosuvov a iných geodynamických javov, efektivta a dopad priotieróznych opatrení | I34: ročne
A35: Horná Ves | C35: 3015b 2.,3085 1., 3085 2.,3099, 3107 2., 3117b, 3128, 3131b, 3131c, 3163a, 3163b, 3172a, 3174 1., 3174 2., 3176, 3178c, 3179b, 3184b, 3187, 3188, 3194b, 3209b, 3209c, 3252, 3308, 3329b, 3329c, 3329d, | D35: 135.19 | F35: Manažment v zmysle Manuálu pre kategóriu 4.1 | G35: zachovanie a posilnenie pôdoochrannej funkcie lesa | H35: prejavy erózie, zosuvov a iných geodynamických javov, efektivta a dopad priotieróznych opatrení | I35: ročne
A36: Horná Ves | C36: 3213b, 3320b, 3329a | D36: 21.56 | F36: Manažment v zmysle Manuálu, príloha č. II. | G36: zachovanie a posilnenie pôdoochrannej funkcie lesa | H36: prejavy erózie, zosuvov a iných geodynamických javov, efektivta a dopad priotieróznych opatrení | I36: ročne
A37: Horná Ves | C37: 3180b | D37: 3.7 | F37: Manažment v zmysle Manuálu, príloha č. VI. | G37: zachovanie a posilnenie pôdoochrannej funkcie lesa | H37: prejavy erózie, zosuvov a iných geodynamických javov, efektivta a dopad priotieróznych opatrení | I37: ročne
A38: Kamenec pod Vtáčnikom | C38: 4099a, 4099b, 4099c, 4099d, 4109,4122, 4124a, 4124b, 4127, 4133, 4164, 4187, 4231,4234, 4300a, 4300b, 4322, 4403 | D38: 141.64 | F38: Bez zásahu | G38: zachovanie a posilnenie pôdoochrannej funkcie lesa | H38: prejavy erózie, zosuvov a iných geodynamických javov, efektivta a dopad priotieróznych opatrení | I38: ročne
A39: Kamenec pod Vtáčnikom | C39: 4163, 4167, 4169, 4175, 4181, 4182, 4183, 4186, 4221b, 4227b, 4227c, 4255, 4260, 4269, 4270, 4274, 4277, 4280a, 4280b, 4280c 1., 4280c 2., 4280c 3., 4298b, 4317, 4318, 4319, 4331b, 4377b, 4377c, 4380, 4398,4405, 4406, 4514b, 4566, 4567 | D39: 282.26 | F39: Manažment v zmysle Manuálu pre kategóriu 4.1 | G39: zachovanie a posilnenie pôdoochrannej funkcie lesa | H39: prejavy erózie, zosuvov a iných geodynamických javov, efektivta a dopad priotieróznych opatrení | I39: ročne
